From mboxrd@z Thu Jan 1 00:00:00 1970 Return-Path: Received: from mails.dpdk.org (mails.dpdk.org [217.70.189.124]) by inbox.dpdk.org (Postfix) with ESMTP id C4036488DA for ; Wed, 8 Oct 2025 02:46:27 +0200 (CEST) Received: from mails.dpdk.org (localhost [127.0.0.1]) by mails.dpdk.org (Postfix) with ESMTP id BEB4840268; Wed, 8 Oct 2025 02:46:27 +0200 (CEST) Received: from mail-ua1-f98.google.com (mail-ua1-f98.google.com [209.85.222.98]) by mails.dpdk.org (Postfix) with ESMTP id 12E5F40268 for ; Wed, 8 Oct 2025 02:46:26 +0200 (CEST) Received: by mail-ua1-f98.google.com with SMTP id a1e0cc1a2514c-8e936be1359so4191367241.0 for ; Tue, 07 Oct 2025 17:46:26 -0700 (PDT) DKIM-Signature: v=1; a=rsa-sha256; c=relaxed/relaxed; d=iol.unh.edu; s=unh-iol; t=1759884385; x=1760489185; darn=dpdk.org; h=references:in-reply-to:cc:to:from:subject:message-id:date:from:to :cc:subject:date:message-id:reply-to; bh=yBY0lwH1SEHWKqwhtUpA1vqFKfsEtt7Ugk5whibWxbk=; b=PH6zjchbdtlnIWct+wRpJ4wb5EUXC6qDS6nD6p2twWKVvT4DbwPo/Pca1lScOzXHeY QYu3CJ7kg+00Wk3wE1az7OQugrUoswVixDk8Gp+Gjbkj1vaQj2MZKsykXJXBA4RITahF b2Cwg1EIuHgv3ZU027aWHn7RxqC4+cfuI9nOI= X-Google-DKIM-Signature: v=1; a=rsa-sha256; c=relaxed/relaxed; d=1e100.net; s=20230601; t=1759884385; x=1760489185; h=references:in-reply-to:cc:to:from:subject:message-id:date :x-gm-message-state:from:to:cc:subject:date:message-id:reply-to; bh=yBY0lwH1SEHWKqwhtUpA1vqFKfsEtt7Ugk5whibWxbk=; b=PiOf5hHRifukAN1LiBabE8DJB7mxjyVC6AnLkurvvm1j00YqBhXSq7vX9yHXzxNpAg A/TPQZ8rOvnX4BSAFeekzAuQ9lF0iPVq02oHelGxuhzJRNic26lYr/A5sKcKhnH8uxpf MCGwt/vnupQ/efAa+C4KnKmPJ+suX4VvDlnL8vv4ZWQpW91nMU8dbp73eMHGgY5C60mZ YUMv9s4zsNldphivWQcgb9TwAVMRAqwAvV9ANa3GP8T6JLKJU+TGPYhTBN8+rgfdYlGT xO+W2mq6kwEuFKdlJEGVm7dVY9ySeCTsWvjbQGKMHTqKKTFV0kaZ265YL4LUyE2aJUX2 nbKg== X-Gm-Message-State: AOJu0Yzz4+o4GrEci5jNmYElY+iHduCfEaSNF1N1AE8dX1qlGiA2mgd7 8ZJYfMPvSjUdpgwynrsBW+tWsHrwiWxpqOo41HjHLWVQs44ce2UTrXUZTMbeXT5Pb3zIviulzSG Ll2ecuyomEetYXuB9T3deOtDAYdmNQq1YUr7xtXmqckeh X-Gm-Gg: ASbGncsFw8xlxxjZadLE3+OVezbToZCZ46Pjp/y8gEx3oPtKmkGGWUBLXJ7dU+yQmYy ubORnuDlzwRNuPRqoGMH3jxhkraPt11L/e6jrLFXd3zr46JOwvCBvHY2uaAbmbyMLi3EtaqKUFX 3PGm5rSR3cOB8aTJKladugn8u41Irrz9i2p3DPBEqKLVGkoJCKeXGCxtuziWa0wyHtw/y61WsOm qMML8R8WSxqLHaiWSwLv74y+BtMIVBJJAgnKaUGqNpaGbM8Z54lqtiIkhjMMd9jbJZH63iJuU8P oxEHuLNwUNiXwkhj1e0DV67jIESWsAxBT4zghyIvepIoWkmAY+AnaZx7H6k/myHx0BfZZ9JQBSQ NFw== X-Google-Smtp-Source: AGHT+IELetVEe0AWLs2CIipdvU5HO1s7+wvXQm9oUvuhSB/u5hYaQFOVJEHplMQNNizhH99I2NsoehwszYnl X-Received: by 2002:a05:6122:a07:b0:54c:da0:f70a with SMTP id 71dfb90a1353d-554b8aa8500mr755892e0c.6.1759884385435; Tue, 07 Oct 2025 17:46:25 -0700 (PDT) Received: from postal.iol.unh.edu (postal.iol.unh.edu. [132.177.123.84]) by smtp-relay.gmail.com with ESMTPS id 71dfb90a1353d-5523d065578sm1748978e0c.7.2025.10.07.17.46.25 (version=TLS1_2 cipher=ECDHE-ECDSA-AES128-GCM-SHA256 bits=128/128); Tue, 07 Oct 2025 17:46:25 -0700 (PDT) X-Relaying-Domain: iol.unh.edu Date: Tue, 07 Oct 2025 17:46:25 -0700 (PDT) Message-ID: <68e5b461.050a0220.2da4dc.edc8SMTPIN_ADDED_MISSING@mx.google.com> Received: from [172.21.0.4] (unknown [172.18.0.240]) by postal.iol.unh.edu (Postfix) with ESMTP id DB9276051830; Tue, 7 Oct 2025 20:46:24 -0400 (EDT) Subject: |SUCCESS| pw157295 [PATCH] [v5] net/intel: add IDPF PCI class ID sup From: dpdklab@iol.unh.edu To: Test Report Cc: dpdk-test-reports@iol.unh.edu, Bruce Richardson In-Reply-To: <20251001153035.2613183-1-venkatesh.vemula@intel.com> References: <20251001153035.2613183-1-venkatesh.vemula@intel.com> Content-Type: text/plain X-BeenThere: test-report@dpdk.org X-Mailman-Version: 2.1.29 Precedence: list List-Id: automatic DPDK test reports List-Unsubscribe: , List-Archive: List-Post: List-Help: List-Subscribe: , Errors-To: test-report-bounces@dpdk.org Test-Label: iol-compile-amd64-testing Test-Status: SUCCESS http://dpdk.org/patch/157295 _Testing PASS_ Submitter: Vemula Venkatesh Date: Wednesday, October 01 2025 15:30:35 DPDK git baseline: Repo:dpdk-next-net-intel Branch: master CommitID:e7d8cc7ef4df3552575525697079d3c957cfcdaf 157295 --> testing pass Upstream job id: Generic-DPDK-Compile-Meson#431914 Test environment and result as below: +-------------------------------+-------------------------+-------------------+--------------------+----------------------+-------------------+------------------+ | Environment | dpdk_llvm_clang_compile | dpdk_msvc_compile | dpdk_meson_compile | dpdk_mingw64_compile | dpdk_compile_spdk | dpdk_compile_ovs | +===============================+=========================+===================+====================+======================+===================+==================+ | Windows Server 2022 | PASS | PASS | SKIPPED | PASS | SKIPPED | SKIPPED | +-------------------------------+-------------------------+-------------------+--------------------+----------------------+-------------------+------------------+ | FreeBSD 14.2 | SKIPPED | SKIPPED | PASS | SKIPPED | SKIPPED | SKIPPED | +-------------------------------+-------------------------+-------------------+--------------------+----------------------+-------------------+------------------+ | Ubuntu 20.04 | SKIPPED | SKIPPED | PASS | SKIPPED | SKIPPED | SKIPPED | +-------------------------------+-------------------------+-------------------+--------------------+----------------------+-------------------+------------------+ | CentOS Stream 9 | SKIPPED | SKIPPED | PASS | SKIPPED | PASS | SKIPPED | +-------------------------------+-------------------------+-------------------+--------------------+----------------------+-------------------+------------------+ | CentOS Stream 10 | SKIPPED | SKIPPED | PASS | SKIPPED | SKIPPED | SKIPPED | +-------------------------------+-------------------------+-------------------+--------------------+----------------------+-------------------+------------------+ | Debian GNU/Linux 12 | SKIPPED | SKIPPED | PASS | SKIPPED | PASS | SKIPPED | +-------------------------------+-------------------------+-------------------+--------------------+----------------------+-------------------+------------------+ | Fedora Linux 42 | SKIPPED | SKIPPED | PASS | SKIPPED | PASS | PASS | +-------------------------------+-------------------------+-------------------+--------------------+----------------------+-------------------+------------------+ | openSUSE Leap 15.6 | SKIPPED | SKIPPED | PASS | SKIPPED | SKIPPED | SKIPPED | +-------------------------------+-------------------------+-------------------+--------------------+----------------------+-------------------+------------------+ | Red Hat Enterprise Linux 8.10 | SKIPPED | SKIPPED | PASS | SKIPPED | SKIPPED | SKIPPED | +-------------------------------+-------------------------+-------------------+--------------------+----------------------+-------------------+------------------+ | Red Hat Enterprise Linux 9.5 | SKIPPED | SKIPPED | PASS | SKIPPED | SKIPPED | SKIPPED | +-------------------------------+-------------------------+-------------------+--------------------+----------------------+-------------------+------------------+ | Ubuntu 22.04 | SKIPPED | SKIPPED | PASS | SKIPPED | PASS | SKIPPED | +-------------------------------+-------------------------+-------------------+--------------------+----------------------+-------------------+------------------+ | Ubuntu 24.04 | SKIPPED | SKIPPED | PASS | SKIPPED | PASS | PASS | +-------------------------------+-------------------------+-------------------+--------------------+----------------------+-------------------+------------------+ | Alpine Linux 3.22.0 | SKIPPED | SKIPPED | PASS | SKIPPED | SKIPPED | SKIPPED | +-------------------------------+-------------------------+-------------------+--------------------+----------------------+-------------------+------------------+ Windows Server 2022 Kernel: 10.0.20348.2031 Compiler: clang 15.0.7, gcc 14.1.0 (MinGW), and MSVC VS 19.39.33521 FreeBSD 14.2 Kernel: 14.2-RELEASE Compiler: clang 18.1.6 Ubuntu 20.04 Kernel: 4.19 Compiler: gcc gcc (Ubuntu 9.4.0-1ubuntu1~20.04.2) 9.4.0 CentOS Stream 9 Kernel: 5.15 Compiler: gcc gcc (GCC) 11.5.0 20240719 (Red Hat 11.5.0-11) CentOS Stream 10 Kernel: 5.15 Compiler: gcc gcc (GCC) 14.2.1 20250110 (Red Hat 14.2.1-8) Debian GNU/Linux 12 Kernel: 5.15 Compiler: gcc gcc (Debian 12.2.0-14+deb12u1) 12.2.0 Fedora Linux 42 Kernel: 5.15 Compiler: clang gcc (GCC) 15.2.1 20250808 (Red Hat 15.2.1-1) openSUSE Leap 15.6 Kernel: 5.15 Compiler: gcc gcc (SUSE Linux) 7.5.0 Red Hat Enterprise Linux 8.10 Kernel: 5.15 Compiler: gcc gcc (GCC) 8.5.0 20210514 (Red Hat 8.5.0-22) Red Hat Enterprise Linux 9.5 Kernel: 5.15 Compiler: gcc gcc (GCC) 11.5.0 20240719 (Red Hat 11.5.0-2) Ubuntu 22.04 Kernel: 5.15 Compiler: gcc gcc (Ubuntu 11.4.0-1ubuntu1~22.04) 11.4.0 Ubuntu 24.04 Kernel: 5.15 Compiler: gcc gcc (Ubuntu 13.3.0-6ubuntu2~24.04) 13.3.0 Alpine Linux 3.22.0 Kernel: 5.15 Compiler: gcc gcc (Alpine 14.2.0) 14.2.0 To view detailed results, visit: https://lab.dpdk.org/results/dashboard/patchsets/34220/ UNH-IOL DPDK Community Lab To manage your email subscriptions, visit: https://lab.dpdk.org/results/dashboard/preferences/subscriptions/