From mboxrd@z Thu Jan 1 00:00:00 1970 Return-Path: Received: from mails.dpdk.org (mails.dpdk.org [217.70.189.124]) by inbox.dpdk.org (Postfix) with ESMTP id 1A34A488DA for ; Wed, 8 Oct 2025 02:48:30 +0200 (CEST) Received: from mails.dpdk.org (localhost [127.0.0.1]) by mails.dpdk.org (Postfix) with ESMTP id 124A740268; Wed, 8 Oct 2025 02:48:30 +0200 (CEST) Received: from mail-ot1-f97.google.com (mail-ot1-f97.google.com [209.85.210.97]) by mails.dpdk.org (Postfix) with ESMTP id F035D40268 for ; Wed, 8 Oct 2025 02:48:28 +0200 (CEST) Received: by mail-ot1-f97.google.com with SMTP id 46e09a7af769-74526ca7a46so2341375a34.2 for ; Tue, 07 Oct 2025 17:48:28 -0700 (PDT) DKIM-Signature: v=1; a=rsa-sha256; c=relaxed/relaxed; d=iol.unh.edu; s=unh-iol; t=1759884508; x=1760489308; darn=dpdk.org; h=cc:to:from:subject:message-id:date:from:to:cc:subject:date :message-id:reply-to; bh=FBUIMpeyF+UUgH6S5ZFflv89b8XlktZg0Aqsb8urIFQ=; b=FwfsiBdrg4sCCQVl0Dr5Oazwucxtoe46duBu9GPG4tr0FVVV5Zn/ZiSuxBnoX4M1Um lcl11XMq7ST4Liy06d3MQ6Sqk2JrUezk+Y9z6lq5eW8pwfA9S/jKpTY5sl5F8sBkEPVP 9gW/l1l5TBloGYLjMk389v2mOLxkJETGfmSPU= X-Google-DKIM-Signature: v=1; a=rsa-sha256; c=relaxed/relaxed; d=1e100.net; s=20230601; t=1759884508; x=1760489308; h=cc:to:from:subject:message-id:date:x-gm-message-state:from:to:cc :subject:date:message-id:reply-to; bh=FBUIMpeyF+UUgH6S5ZFflv89b8XlktZg0Aqsb8urIFQ=; b=REgxpgZ9w+BDfQ+xuBN835H9mq6JFSd5LhKCwVUgvfVLyHqezyUYtENU208Wt7FiWX 2Hmt8eispe4vdRrsaZMTEy4KOyKj0uZjEka8xU1GgPRBkOxOK8Rk7WG/xR0y3YuR1fjI rL5EXlBofREtC4yi9T8frXtF+74yD0khj8bltwYGH+OmCk07tsOvUE7nJTOmKhztDYMe snqJvLw95V9sKGXAbZmTLavw6Jvt3sTlSwRr6Y1MFOlTtqOBKv5kpQGbhD4EYU7gbS2a fzDSXufx/98E3rVpBWF8SvG66f+AvBGAqvF9gcp8qCDW83hniwaPV1ibdzOPe4NQKvf4 bZFA== X-Gm-Message-State: AOJu0YyPGzLFEW4GRv7gCOfbXWxDtfczEH2tXUKKjMAtXKGrKD06AVBY ghhbj8Y3QObfjyoyteTzcG/cPuebK8lLjoPdPeactJkEplOrQWEAtCdaBpXcwcdl0QRySqSMZuD e9MCdcaBt3OpKrDlXHRm3hDIANjY0H1eAkjPK X-Gm-Gg: ASbGncu7G54recDMPf0ePZUq73ZHyNoU7Y1BB6bAvpIBNYkpOLgtfVIcSjZmuHM4SR2 6x8dbCVsL0ltHFyL7U7cQpz+UbHcRlWA2N2A0eK6nKQ5MEGR2lsSehEGcrgiI26f2GlnqkzaBxH jkPn8sAE7Gka6l9OWZvniZog4IZH3montu6yd9MI0inhGp5SR11SN3v0Xh1/GRrK7+BXy58ddbR +z62UO/0iQn8TuP4HVYVnX/3eQ53OOU7KxYaxhKZ4+calHqORbJWw1KCu5I+aF7ZdoVswqOyPNo ryXB2lbq0kF5ULSKCpgnKtTUcUGa8qUFGknb/qyP/17nYY3CZVpahKIZaEUYHW1MWSvm5SyyG5W d6A== X-Google-Smtp-Source: AGHT+IHHD0inpppMHNExNG+ClrXfPaX5LvK1ZcFp2/XtmKbNGDHp9wZE8h1Q0Th9rGeVV3FSpak3vczl58TX X-Received: by 2002:a05:6830:4910:b0:747:23cb:5c48 with SMTP id 46e09a7af769-7c0df7133f3mr1336304a34.12.1759884508193; Tue, 07 Oct 2025 17:48:28 -0700 (PDT) Received: from postal.iol.unh.edu (postal.iol.unh.edu. [132.177.123.84]) by smtp-relay.gmail.com with ESMTPS id 46e09a7af769-7bf4161518dsm1071591a34.4.2025.10.07.17.48.28 (version=TLS1_2 cipher=ECDHE-ECDSA-AES128-GCM-SHA256 bits=128/128); Tue, 07 Oct 2025 17:48:28 -0700 (PDT) X-Relaying-Domain: iol.unh.edu Date: Tue, 07 Oct 2025 17:48:28 -0700 (PDT) Message-ID: <68e5b4dc.050a0220.1a6c7d.af8dSMTPIN_ADDED_MISSING@mx.google.com> Received: from [172.21.0.5] (unknown [172.18.0.240]) by postal.iol.unh.edu (Postfix) with ESMTP id 6807E6051830; Tue, 7 Oct 2025 20:48:27 -0400 (EDT) Subject: |SUCCESS| [GIT MASTER] b287e404643aeab5bb5db084c142789df187844e From: dpdklab@iol.unh.edu To: Test Report Cc: dpdk-test-reports@iol.unh.edu, Xueming Li , Christian Ehrhardt , Kevin Traynor , Luca Boccassi Content-Type: text/plain X-BeenThere: test-report@dpdk.org X-Mailman-Version: 2.1.29 Precedence: list List-Id: automatic DPDK test reports List-Unsubscribe: , List-Archive: List-Post: List-Help: List-Subscribe: , Errors-To: test-report-bounces@dpdk.org _Testing PASS_ Branch: tags/v24.11 b287e404643aeab5bb5db084c142789df187844e --> testing pass Upstream job id: Generic-DPDK-Compile-Meson#431809 Test environment and result as below: +------------------------------+--------------------+ | Environment | dpdk_meson_compile | +==============================+====================+ | Red Hat Enterprise Linux 9.5 | PASS | +------------------------------+--------------------+ | Ubuntu 20.04 | PASS | +------------------------------+--------------------+ | Debian GNU/Linux 12 | PASS | +------------------------------+--------------------+ | Fedora Linux 42 | PASS | +------------------------------+--------------------+ | Ubuntu 22.04 | PASS | +------------------------------+--------------------+ | Ubuntu 24.04 | PASS | +------------------------------+--------------------+ | CentOS Stream 9 | PASS | +------------------------------+--------------------+ | CentOS Stream 10 | PASS | +------------------------------+--------------------+ Red Hat Enterprise Linux 9.5 Kernel: 5.4 Compiler: gcc gcc (GCC) 11.5.0 20240719 (Red Hat 11.5.0-2) Ubuntu 20.04 Kernel: 5.15 Compiler: aarch64-linux-gnu-gcc gcc (Ubuntu 9.4.0-1ubuntu1~20.04.2) 9.4.0 Debian GNU/Linux 12 Kernel: 5.4 Compiler: gcc gcc (Debian 12.2.0-14+deb12u1) 12.2.0 Fedora Linux 42 Kernel: 5.4 Compiler: gcc gcc (GCC) 15.2.1 20250808 (Red Hat 15.2.1-1) Ubuntu 22.04 Kernel: 5.4 Compiler: gcc gcc (Ubuntu 11.4.0-1ubuntu1~22.04) 11.4.0 Ubuntu 24.04 Kernel: 5.4 Compiler: gcc gcc (Ubuntu 13.3.0-6ubuntu2~24.04) 13.3.0 CentOS Stream 9 Kernel: 5.4 Compiler: gcc gcc (GCC) 11.5.0 20240719 (Red Hat 11.5.0-11) CentOS Stream 10 Kernel: 5.4 Compiler: gcc gcc (GCC) 14.2.1 20250110 (Red Hat 14.2.1-8) To view detailed results, visit: https://lab.dpdk.org/results/dashboard/tarballs/35115/ UNH-IOL DPDK Community Lab To manage your email subscriptions, visit: https://lab.dpdk.org/results/dashboard/preferences/subscriptions/