From mboxrd@z Thu Jan 1 00:00:00 1970 Return-Path: Received: from mails.dpdk.org (mails.dpdk.org [217.70.189.124]) by inbox.dpdk.org (Postfix) with ESMTP id 33734488D0 for ; Wed, 8 Oct 2025 02:57:59 +0200 (CEST) Received: from mails.dpdk.org (localhost [127.0.0.1]) by mails.dpdk.org (Postfix) with ESMTP id 13F3340268; Wed, 8 Oct 2025 02:57:59 +0200 (CEST) Received: from mail-pl1-f227.google.com (mail-pl1-f227.google.com [209.85.214.227]) by mails.dpdk.org (Postfix) with ESMTP id 5C3DE40268 for ; Wed, 8 Oct 2025 02:57:57 +0200 (CEST) Received: by mail-pl1-f227.google.com with SMTP id d9443c01a7336-28a5b8b12a1so68860235ad.0 for ; Tue, 07 Oct 2025 17:57:57 -0700 (PDT) DKIM-Signature: v=1; a=rsa-sha256; c=relaxed/relaxed; d=iol.unh.edu; s=unh-iol; t=1759885076; x=1760489876; darn=dpdk.org; h=cc:to:from:subject:message-id:date:from:to:cc:subject:date :message-id:reply-to; bh=56q4lUrykfawvQ/c30Cr9E83HX9UUCcJkpOG3ejkQYU=; b=hvKu6HWVOuZTRq1qZkuDI+q2wBPIpA+2Y3x8rUl4nnPyCPF4CG2HsWMplnWZtNFCX4 g7HnMZ6vUK8XVn20ezwoW8fB42Jytf/CrO7jsBpGX/uSXJxxRT1CXAEko/hFfQKAGyYA QbXh+wd+gGB4/kHnAvBK4/mQVbRn7/bKPl2Fg= X-Google-DKIM-Signature: v=1; a=rsa-sha256; c=relaxed/relaxed; d=1e100.net; s=20230601; t=1759885076; x=1760489876; h=cc:to:from:subject:message-id:date:x-gm-message-state:from:to:cc :subject:date:message-id:reply-to; bh=56q4lUrykfawvQ/c30Cr9E83HX9UUCcJkpOG3ejkQYU=; b=xK/Q/8mpa22nPqyW/GzzZ0BuhSXOMU6noAQMlcuVRQi/7unt73xij8ruWcNpMWcD8w wJbbbuIgkuK4ImMXWc41pEUo12aR6hM2tMdgV1KHJcwR+LQ6N6L7NlSloGRsZd5dveeQ fACKtisOWoGkWSkndBtHMS+MW+NcEXTz59I+gdLWOCmcswKMWAugu1NMMywsVqP1SDsq iYh1Rr2zHMP/Xbry5CWecEBDuvff0LPV19NPhun9nfzoq4oM5VEzicRF1mXUO2poB83P XE/YcB+wK1IwYVV9G6BSv1rpE53+l7u0RWZ1H3/bAawctRqU5kmanxqEZFPJWFLO1Hcj FOxA== X-Gm-Message-State: AOJu0Yz5pve1YWB1t+a5NE++MW8caY2nhP7F6O/mmuaMzdgy2RuF8wEV 9AKFYidwTroJIqenG+QPoR6s9PIKDFJkSXlN2uKkWE2Hs0K4xjbSg+3f6Qk1zi5tnq1rpbxwQYF dAVXKtHyRNBlVECbrV/0Ieo8Zb2P7ut8xMtFFE7ABPW8/Kb9w+Oxlp4RCjn1I X-Gm-Gg: ASbGncsV3AUVxzuG2iqAbBQ9Gn8FyyBwJkGb+SaycanRNHXMLT7rOJ9zgl1EDZO5cM0 H62p+VKY8TGF/ATRh3lCwgv/y1wifb8EaYT0Ix+6xPocvALQSRFi2qo0nDgUIxGBbJrEPjBnt6Z 8nilRTi9MJhycvo+tea4iotD1GxXqJj5AUc1WDFKL1GYDhM2O5q18ELMmdrXplOhJg0NiHsjNUX ql+rTVsUIjVHdA84kcivxOPRqF1bsF1/gB0eQdrr+cfd6aP0hFvdbGnZIRy1Vz4kdkBIyznfkaU cyF3dXgKbRX81CTBufTxjDe99esCbX3lEGVKkNjr8v43eqBreTFtzA0= X-Google-Smtp-Source: AGHT+IExRwAAbHAagsTA9++CuoWXUawBj00sdvVkEkkr7WMT9aTAjirmIYm0BPh7Kl/7BxNANG8AMfiIUmc5 X-Received: by 2002:a17:903:2381:b0:275:c1e7:c7e with SMTP id d9443c01a7336-29027356a08mr16619635ad.4.1759885076504; Tue, 07 Oct 2025 17:57:56 -0700 (PDT) Received: from postal.iol.unh.edu (postal.iol.unh.edu. [2606:4100:3880:1234::84]) by smtp-relay.gmail.com with ESMTPS id d9443c01a7336-28e8d119a51sm12762595ad.23.2025.10.07.17.57.56 (version=TLS1_2 cipher=ECDHE-ECDSA-AES128-GCM-SHA256 bits=128/128); Tue, 07 Oct 2025 17:57:56 -0700 (PDT) X-Relaying-Domain: iol.unh.edu Date: Tue, 07 Oct 2025 17:57:56 -0700 (PDT) Message-ID: <68e5b714.170a0220.342911.a6a6SMTPIN_ADDED_MISSING@mx.google.com> Received: from [172.21.0.2] (unknown [172.18.0.240]) by postal.iol.unh.edu (Postfix) with ESMTP id AA8816051830; Tue, 7 Oct 2025 20:57:55 -0400 (EDT) Subject: |SUCCESS| [GIT MASTER] 2b403dd8fb37d0ba13723e44ffc7ee2c2795f838 From: dpdklab@iol.unh.edu To: Test Report Cc: dpdk-test-reports@iol.unh.edu Content-Type: text/plain X-BeenThere: test-report@dpdk.org X-Mailman-Version: 2.1.29 Precedence: list List-Id: automatic DPDK test reports List-Unsubscribe: , List-Archive: List-Post: List-Help: List-Subscribe: , Errors-To: test-report-bounces@dpdk.org _Testing PASS_ Branch: dpdk 2b403dd8fb37d0ba13723e44ffc7ee2c2795f838 --> testing pass Upstream job id: Generic-VM-Unit-Test-DPDK#31646 Test environment and result as below: +-------------------------------+----------------+ | Environment | dpdk_unit_test | +===============================+================+ | Debian GNU/Linux 12 | PASS | +-------------------------------+----------------+ | CentOS Stream 9 | PASS | +-------------------------------+----------------+ | CentOS Stream 10 | PASS | +-------------------------------+----------------+ | Fedora Linux 40 | PASS | +-------------------------------+----------------+ | Arch Linux 20250613.0.365270 | PASS | +-------------------------------+----------------+ | Fedora Linux 42 | PASS | +-------------------------------+----------------+ | Red Hat Enterprise Linux 9.5 | PASS | +-------------------------------+----------------+ | Fedora Linux 41 | PASS | +-------------------------------+----------------+ | Ubuntu 20.04 | PASS | +-------------------------------+----------------+ | Red Hat Enterprise Linux 8.10 | PASS | +-------------------------------+----------------+ | Ubuntu 22.04 | PASS | +-------------------------------+----------------+ | Ubuntu 24.04 | PASS | +-------------------------------+----------------+ | Windows Server 2022 | PASS | +-------------------------------+----------------+ Debian GNU/Linux 12 Kernel: 5.15 Compiler: gcc gcc (Debian 12.2.0-14+deb12u1) 12.2.0 CentOS Stream 9 Kernel: 5.15 Compiler: gcc gcc (GCC) 11.5.0 20240719 (Red Hat 11.5.0-11) CentOS Stream 10 Kernel: 5.15 Compiler: gcc gcc (GCC) 14.2.1 20250110 (Red Hat 14.2.1-8) Fedora Linux 40 Kernel: 5.15 Compiler: gcc gcc (GCC) 14.2.1 20240912 (Red Hat 14.2.1-3) Arch Linux 20250613.0.365270 Kernel: 5.15 Compiler: gcc gcc (GCC) 15.1.1 20250425 Fedora Linux 42 Kernel: 5.15 Compiler: gcc gcc (GCC) 15.2.1 20250808 (Red Hat 15.2.1-1) Red Hat Enterprise Linux 9.5 Kernel: 5.15 Compiler: gcc gcc (GCC) 11.5.0 20240719 (Red Hat 11.5.0-2) Fedora Linux 41 Kernel: 5.15 Compiler: gcc gcc (GCC) 14.3.1 20250523 (Red Hat 14.3.1-1) Ubuntu 20.04 Kernel: 5.15 Compiler: gcc gcc (Ubuntu 9.4.0-1ubuntu1~20.04.2) 9.4.0 Red Hat Enterprise Linux 8.10 Kernel: 5.15 Compiler: gcc gcc (GCC) 8.5.0 20210514 (Red Hat 8.5.0-22) Ubuntu 22.04 Kernel: 5.15 Compiler: gcc gcc (Ubuntu 11.4.0-1ubuntu1~22.04) 11.4.0 Ubuntu 24.04 Kernel: 5.15 Compiler: gcc gcc (Ubuntu 13.3.0-6ubuntu2~24.04) 13.3.0 Windows Server 2022 Kernel: 10.0.20348.2031 Compiler: clang 15.0.7, gcc 14.1.0 (MinGW), and MSVC VS 19.39.33521 To view detailed results, visit: https://lab.dpdk.org/results/dashboard/tarballs/35136/ UNH-IOL DPDK Community Lab To manage your email subscriptions, visit: https://lab.dpdk.org/results/dashboard/preferences/subscriptions/