From mboxrd@z Thu Jan 1 00:00:00 1970 Return-Path: Received: from mails.dpdk.org (mails.dpdk.org [217.70.189.124]) by inbox.dpdk.org (Postfix) with ESMTP id 33E44488D0 for ; Wed, 8 Oct 2025 02:58:41 +0200 (CEST) Received: from mails.dpdk.org (localhost [127.0.0.1]) by mails.dpdk.org (Postfix) with ESMTP id 2DB7C40268; Wed, 8 Oct 2025 02:58:41 +0200 (CEST) Received: from mail-pl1-f225.google.com (mail-pl1-f225.google.com [209.85.214.225]) by mails.dpdk.org (Postfix) with ESMTP id 9E5C440268 for ; Wed, 8 Oct 2025 02:58:40 +0200 (CEST) Received: by mail-pl1-f225.google.com with SMTP id d9443c01a7336-27ee41e0798so103915535ad.1 for ; Tue, 07 Oct 2025 17:58:40 -0700 (PDT) DKIM-Signature: v=1; a=rsa-sha256; c=relaxed/relaxed; d=iol.unh.edu; s=unh-iol; t=1759885120; x=1760489920; darn=dpdk.org; h=cc:to:from:subject:message-id:date:from:to:cc:subject:date :message-id:reply-to; bh=GfOv19q3e0m89wBsXoEY+BEazNFG+uDrQy/y5OiLdSs=; b=Rpt7Oel/WxA2y+lUTc5ar+n7g2qP1aHC4k82VZ7A5Kv2FzMebPTqfUd1lHNp09yHxK LzFnapsGDoOwJ5bRw3uYq15kohqjcNVOjgziV8DpPve7NrBq6eS/uw63DVlTafco76nW +ozbAWjySXNqJ4QmD6He9i6G4GqxlrYN8U4DU= X-Google-DKIM-Signature: v=1; a=rsa-sha256; c=relaxed/relaxed; d=1e100.net; s=20230601; t=1759885120; x=1760489920; h=cc:to:from:subject:message-id:date:x-gm-message-state:from:to:cc :subject:date:message-id:reply-to; bh=GfOv19q3e0m89wBsXoEY+BEazNFG+uDrQy/y5OiLdSs=; b=gyMKiIAYyY2RbdbLkrSbl8EDpesD6aF/fst8FHTU8MiHLY35XfWfimQ6EyiMRdib0X 8VuOWd05ooSXPgKnmKXP3b+VDeb1Q4Y4RxVZxN7lG4uvA0CaQomCY9eaRFuzyQFZDW7B LTb9eh7E0b3tPNnqldcZ1AzUnHewHy+N/Tk/PBndIrPxHnrrs/E7GVL4o/ER5R360NN5 WAUU/Hp3TMLNBzcTUMo8fxLas4AOHkvQ6Jdnq5ulQ78oT+uc7S/ldAzY2T/dQb4xZHnm oedbsLAxhTRdiPBwCUymwSLsFvtbixxHnG1dWLinF5tGFzHZpgxvPFSqbHqFssIwVW76 D4jA== X-Gm-Message-State: AOJu0YwdXuY7JpuhVfYtlFVkt6TQ9QviyT7/XmTCt+alc3GXw2LrfonR tcN6EoXtgSF2lkqry9cp8o4AutJy3CtJVRWXgcR5hsgFxhnh5l5ltW1M8Y0rhO26vhyy0fBS2Sn qadcsoz7hAnB1lJnowYu708GcKjLDere3rbOpbJVWYBs3rYKCFdK1AM1tudY/ X-Gm-Gg: ASbGncuddEQNSs1Y4PLEA3qFWIvnisxXhp468ah/vcuiAbSCt3NzgTNDjH1iWmkSny+ 0O5wfKN2L8bwr7YXwHX9rkVgLDhysAeo+6GCe9XjwwHrNFEFjrQI1YYxZChW8/2cXpsmuWUlSMx 9mQ29Hs8ql6LGcxYQkgZnwSNRG1I8Z91ul49+dkhnKom5fXfZ4SAJ2eAe+O7TkXNzHD7JtjLtmH SkmdDV9jFtjW7SHvw54E5w07mIh7VFlT2VJ1ZQTp66qqgmfDe1aEj+z12Mi+gMKZcMXSBgVaDS7 jROsDvP628kwQcmKazRKdJPzCDp20Ht4bg/IyA72Sub7eTcL74CgjDM= X-Google-Smtp-Source: AGHT+IEXaLk0ULIkXq5y7Zccwj1fBCPb0KqTL13QenFDYDORAVZ6Nj339V3l25XXXXClLZlqhZpLBLlNUS80 X-Received: by 2002:a17:903:fa6:b0:28e:cb51:1232 with SMTP id d9443c01a7336-2902735656dmr20748165ad.3.1759885119877; Tue, 07 Oct 2025 17:58:39 -0700 (PDT) Received: from postal.iol.unh.edu (postal.iol.unh.edu. [2606:4100:3880:1234::84]) by smtp-relay.gmail.com with ESMTPS id d9443c01a7336-28e8d181439sm13313015ad.46.2025.10.07.17.58.39 (version=TLS1_2 cipher=ECDHE-ECDSA-AES128-GCM-SHA256 bits=128/128); Tue, 07 Oct 2025 17:58:39 -0700 (PDT) X-Relaying-Domain: iol.unh.edu Date: Tue, 07 Oct 2025 17:58:39 -0700 (PDT) Message-ID: <68e5b73f.170a0220.3c7cf.a0b4SMTPIN_ADDED_MISSING@mx.google.com> Received: from [172.21.0.2] (unknown [172.18.0.240]) by postal.iol.unh.edu (Postfix) with ESMTP id 24F9E6051830; Tue, 7 Oct 2025 20:58:39 -0400 (EDT) Subject: |SUCCESS| [GIT MASTER] 2b403dd8fb37d0ba13723e44ffc7ee2c2795f838 From: dpdklab@iol.unh.edu To: Test Report Cc: dpdk-test-reports@iol.unh.edu Content-Type: text/plain X-BeenThere: test-report@dpdk.org X-Mailman-Version: 2.1.29 Precedence: list List-Id: automatic DPDK test reports List-Unsubscribe: , List-Archive: List-Post: List-Help: List-Subscribe: , Errors-To: test-report-bounces@dpdk.org _Testing PASS_ Branch: dpdk 2b403dd8fb37d0ba13723e44ffc7ee2c2795f838 --> testing pass Upstream job id: Windows-Compile-DPDK-Native#31478 Test environment and result as below: +---------------------+--------------------+-------------------------+-------------------+----------------------+ | Environment | dpdk_meson_compile | dpdk_llvm_clang_compile | dpdk_msvc_compile | dpdk_mingw64_compile | +=====================+====================+=========================+===================+======================+ | Ubuntu 20.04 | PASS | SKIPPED | SKIPPED | SKIPPED | +---------------------+--------------------+-------------------------+-------------------+----------------------+ | FreeBSD 14.2 | PASS | SKIPPED | SKIPPED | SKIPPED | +---------------------+--------------------+-------------------------+-------------------+----------------------+ | Windows Server 2022 | SKIPPED | PASS | PASS | PASS | +---------------------+--------------------+-------------------------+-------------------+----------------------+ Ubuntu 20.04 Kernel: 4.19 Compiler: gcc gcc (Ubuntu 9.4.0-1ubuntu1~20.04.2) 9.4.0 FreeBSD 14.2 Kernel: 14.2-RELEASE Compiler: clang 18.1.6 Windows Server 2022 Kernel: 10.0.20348.2031 Compiler: clang 15.0.7, gcc 14.1.0 (MinGW), and MSVC VS 19.39.33521 To view detailed results, visit: https://lab.dpdk.org/results/dashboard/tarballs/35136/ UNH-IOL DPDK Community Lab To manage your email subscriptions, visit: https://lab.dpdk.org/results/dashboard/preferences/subscriptions/