From mboxrd@z Thu Jan 1 00:00:00 1970 Return-Path: Received: from mails.dpdk.org (mails.dpdk.org [217.70.189.124]) by inbox.dpdk.org (Postfix) with ESMTP id 868DD488DA for ; Wed, 8 Oct 2025 03:00:45 +0200 (CEST) Received: from mails.dpdk.org (localhost [127.0.0.1]) by mails.dpdk.org (Postfix) with ESMTP id 65C8740268; Wed, 8 Oct 2025 03:00:45 +0200 (CEST) Received: from mail-vk1-f228.google.com (mail-vk1-f228.google.com [209.85.221.228]) by mails.dpdk.org (Postfix) with ESMTP id 0FAC540268 for ; Wed, 8 Oct 2025 03:00:44 +0200 (CEST) Received: by mail-vk1-f228.google.com with SMTP id 71dfb90a1353d-54bbf3329c1so365432e0c.1 for ; Tue, 07 Oct 2025 18:00:43 -0700 (PDT) DKIM-Signature: v=1; a=rsa-sha256; c=relaxed/relaxed; d=iol.unh.edu; s=unh-iol; t=1759885243; x=1760490043; darn=dpdk.org; h=references:in-reply-to:cc:to:from:subject:message-id:date:from:to :cc:subject:date:message-id:reply-to; bh=ULDBAp9lHHwUf+kvl7tqgQpnODkrJ9Z3Cl/0u5Xb22w=; b=bZzcDLyyibyxMLsaDE0mVahn43Tb6Pdoa0KOoJ3+YS+Gf7fodrggsg5HFjLXNKfamD m/b7e3zqFZUS6ahL/zdt4xBM5RWk4oK/YIK0NgGR+EAB/EuRnUBXLDrcnMKwqkSumAWg I1WXRNKXCEjxFKRSKnVoH4OgJVdRm0xULOfug= X-Google-DKIM-Signature: v=1; a=rsa-sha256; c=relaxed/relaxed; d=1e100.net; s=20230601; t=1759885243; x=1760490043; h=references:in-reply-to:cc:to:from:subject:message-id:date :x-gm-message-state:from:to:cc:subject:date:message-id:reply-to; bh=ULDBAp9lHHwUf+kvl7tqgQpnODkrJ9Z3Cl/0u5Xb22w=; b=Z5lOwwIPN9U50uu7IY+VS4wcfErw0vIlr74uTbR4O7hNPvfh0Kd++IORXiWaESk+HO itIBRVMB+E/mMFtvWg6r6VrrhkQ8goEbg8cA8J8aiNeD9C8jiN1WcwN94QISG7XRr6aH 9q3PBUWXqoPKGZSZ+lDJNLXb6rdQ+zLR1/mzxvXMsHh/Trv8gtxTY8OCy94QFkYnzuLJ t8GQAWS9Oad5BXqCiJvsep1QQ7fqqK15Je5U4birgtyM98JGarmzphy7NGW2MV7Iq1OZ aKgs5oJ+ALahGumACdDkSYMrYD9egDqVv60sbpK8bMWayq/tfWvbDTh3fZv88s/BT39x 6Bmg== X-Gm-Message-State: AOJu0YyTrzmndTeiQIwfgtx1H+OS6ioINOaRLGo9ZMXer7yJVpIq7O8o 7wKe02oCGjGpQ8e4YErmv/IpISmPCwSf+JJwxDbi1KAJg8B6we8lssJ2N2rpARupK6JIUUBcWDi brwVAZo4sKZuyoVMPAzUrGVwg7K8BIdHc+4FQhR53fwGO X-Gm-Gg: ASbGnctAyUBjiqXT6f3Bugy0LkqqJQNg4Hsa3oNrjx8iNMD4QEb9IvKdPZ+GSxt/35q MPqhSBVxpLEoa+yBpw088jb8GnpiZZES2mz/ax0d1zWsse0UadgaWE7XGELGnxGeHBfz9Mv1TBU iPjqjGyCwzoV47feTzT1V+gje46BDEIkm5O/PM9UQHClzhE305qj02wiN7AEJaYWqWjIgsu7Rbg rChFlPYFB2nKUriQhA0vHbwcExVi/DzQjxJVMwJ/HhzvQmzgnuyCfypVeQqD2j5AsKqt+LcD3/A zrkBWf6+a0JIa/xGh3L4bHMSVZUOHzsTcxx0f9EKZvpn4G/FUgMpjEwS1xH//9NOxQyxJHKitEh /SQ== X-Google-Smtp-Source: AGHT+IFU0Y2XohR/0QdbzKof2Q0JN/NPoQ4GRux1P2hlLP0mbBps/eHWF9VLUz8kUpEfbPSSj+XL7FOEYbcT X-Received: by 2002:a05:6122:469a:b0:552:32de:bb90 with SMTP id 71dfb90a1353d-554b94835d1mr692268e0c.8.1759885243340; Tue, 07 Oct 2025 18:00:43 -0700 (PDT) Received: from postal.iol.unh.edu (postal.iol.unh.edu. [132.177.123.84]) by smtp-relay.gmail.com with ESMTPS id 71dfb90a1353d-5523d06a33fsm1786163e0c.8.2025.10.07.18.00.43 (version=TLS1_2 cipher=ECDHE-ECDSA-AES128-GCM-SHA256 bits=128/128); Tue, 07 Oct 2025 18:00:43 -0700 (PDT) X-Relaying-Domain: iol.unh.edu Date: Tue, 07 Oct 2025 18:00:43 -0700 (PDT) Message-ID: <68e5b7bb.050a0220.74195.1e5cSMTPIN_ADDED_MISSING@mx.google.com> Received: from [172.21.0.3] (unknown [172.18.0.240]) by postal.iol.unh.edu (Postfix) with ESMTP id 003A96051830; Tue, 7 Oct 2025 21:00:42 -0400 (EDT) Subject: |SUCCESS| pw157296 [PATCH] examples/l3fwd-power: fix telemetry comma From: dpdklab@iol.unh.edu To: Test Report Cc: dpdk-test-reports@iol.unh.edu In-Reply-To: <20251006101058.191495-1-sivaprasad.tummala@amd.com> References: <20251006101058.191495-1-sivaprasad.tummala@amd.com> Content-Type: text/plain X-BeenThere: test-report@dpdk.org X-Mailman-Version: 2.1.29 Precedence: list List-Id: automatic DPDK test reports List-Unsubscribe: , List-Archive: List-Post: List-Help: List-Subscribe: , Errors-To: test-report-bounces@dpdk.org Test-Label: iol-compile-amd64-testing Test-Status: SUCCESS http://dpdk.org/patch/157296 _Testing PASS_ Submitter: Sivaprasad Tummala Date: Monday, October 06 2025 10:10:58 DPDK git baseline: Repo:dpdk Branch: master CommitID:2b403dd8fb37d0ba13723e44ffc7ee2c2795f838 157296 --> testing pass Upstream job id: Generic-DPDK-Compile-Meson#431940 Test environment and result as below: +-------------------------------+--------------------+-------------------+-------------------------+----------------------+-------------------+------------------+ | Environment | dpdk_meson_compile | dpdk_msvc_compile | dpdk_llvm_clang_compile | dpdk_mingw64_compile | dpdk_compile_spdk | dpdk_compile_ovs | +===============================+====================+===================+=========================+======================+===================+==================+ | FreeBSD 14.2 | PASS | SKIPPED | SKIPPED | SKIPPED | SKIPPED | SKIPPED | +-------------------------------+--------------------+-------------------+-------------------------+----------------------+-------------------+------------------+ | Ubuntu 20.04 | PASS | SKIPPED | SKIPPED | SKIPPED | SKIPPED | SKIPPED | +-------------------------------+--------------------+-------------------+-------------------------+----------------------+-------------------+------------------+ | CentOS Stream 9 | PASS | SKIPPED | SKIPPED | SKIPPED | PASS | SKIPPED | +-------------------------------+--------------------+-------------------+-------------------------+----------------------+-------------------+------------------+ | CentOS Stream 10 | PASS | SKIPPED | SKIPPED | SKIPPED | SKIPPED | SKIPPED | +-------------------------------+--------------------+-------------------+-------------------------+----------------------+-------------------+------------------+ | Debian GNU/Linux 12 | PASS | SKIPPED | SKIPPED | SKIPPED | PASS | SKIPPED | +-------------------------------+--------------------+-------------------+-------------------------+----------------------+-------------------+------------------+ | Fedora Linux 42 | PASS | SKIPPED | SKIPPED | SKIPPED | PASS | PASS | +-------------------------------+--------------------+-------------------+-------------------------+----------------------+-------------------+------------------+ | openSUSE Leap 15.6 | PASS | SKIPPED | SKIPPED | SKIPPED | SKIPPED | SKIPPED | +-------------------------------+--------------------+-------------------+-------------------------+----------------------+-------------------+------------------+ | Red Hat Enterprise Linux 8.10 | PASS | SKIPPED | SKIPPED | SKIPPED | SKIPPED | SKIPPED | +-------------------------------+--------------------+-------------------+-------------------------+----------------------+-------------------+------------------+ | Red Hat Enterprise Linux 9.5 | PASS | SKIPPED | SKIPPED | SKIPPED | SKIPPED | SKIPPED | +-------------------------------+--------------------+-------------------+-------------------------+----------------------+-------------------+------------------+ | Ubuntu 22.04 | PASS | SKIPPED | SKIPPED | SKIPPED | PASS | SKIPPED | +-------------------------------+--------------------+-------------------+-------------------------+----------------------+-------------------+------------------+ | Ubuntu 24.04 | PASS | SKIPPED | SKIPPED | SKIPPED | PASS | PASS | +-------------------------------+--------------------+-------------------+-------------------------+----------------------+-------------------+------------------+ | Alpine Linux 3.22.0 | PASS | SKIPPED | SKIPPED | SKIPPED | SKIPPED | SKIPPED | +-------------------------------+--------------------+-------------------+-------------------------+----------------------+-------------------+------------------+ | Windows Server 2022 | SKIPPED | PASS | PASS | PASS | SKIPPED | SKIPPED | +-------------------------------+--------------------+-------------------+-------------------------+----------------------+-------------------+------------------+ FreeBSD 14.2 Kernel: 14.2-RELEASE Compiler: clang 18.1.6 Ubuntu 20.04 Kernel: 4.19 Compiler: gcc gcc (Ubuntu 9.4.0-1ubuntu1~20.04.2) 9.4.0 CentOS Stream 9 Kernel: 5.15 Compiler: gcc gcc (GCC) 11.5.0 20240719 (Red Hat 11.5.0-11) CentOS Stream 10 Kernel: 5.15 Compiler: gcc gcc (GCC) 14.2.1 20250110 (Red Hat 14.2.1-8) Debian GNU/Linux 12 Kernel: 5.15 Compiler: gcc gcc (Debian 12.2.0-14+deb12u1) 12.2.0 Fedora Linux 42 Kernel: 5.15 Compiler: clang gcc (GCC) 15.2.1 20250808 (Red Hat 15.2.1-1) openSUSE Leap 15.6 Kernel: 5.15 Compiler: gcc gcc (SUSE Linux) 7.5.0 Red Hat Enterprise Linux 8.10 Kernel: 5.15 Compiler: gcc gcc (GCC) 8.5.0 20210514 (Red Hat 8.5.0-22) Red Hat Enterprise Linux 9.5 Kernel: 5.15 Compiler: gcc gcc (GCC) 11.5.0 20240719 (Red Hat 11.5.0-2) Ubuntu 22.04 Kernel: 5.15 Compiler: gcc gcc (Ubuntu 11.4.0-1ubuntu1~22.04) 11.4.0 Ubuntu 24.04 Kernel: 5.15 Compiler: gcc gcc (Ubuntu 13.3.0-6ubuntu2~24.04) 13.3.0 Alpine Linux 3.22.0 Kernel: 5.15 Compiler: gcc gcc (Alpine 14.2.0) 14.2.0 Windows Server 2022 Kernel: 10.0.20348.2031 Compiler: clang 15.0.7, gcc 14.1.0 (MinGW), and MSVC VS 19.39.33521 To view detailed results, visit: https://lab.dpdk.org/results/dashboard/patchsets/34221/ UNH-IOL DPDK Community Lab To manage your email subscriptions, visit: https://lab.dpdk.org/results/dashboard/preferences/subscriptions/