From mboxrd@z Thu Jan 1 00:00:00 1970 Return-Path: Received: from mails.dpdk.org (mails.dpdk.org [217.70.189.124]) by inbox.dpdk.org (Postfix) with ESMTP id 2783E488DA for ; Wed, 8 Oct 2025 03:07:41 +0200 (CEST) Received: from mails.dpdk.org (localhost [127.0.0.1]) by mails.dpdk.org (Postfix) with ESMTP id 20DDE40268; Wed, 8 Oct 2025 03:07:41 +0200 (CEST) Received: from mail-vs1-f100.google.com (mail-vs1-f100.google.com [209.85.217.100]) by mails.dpdk.org (Postfix) with ESMTP id C0F1240268 for ; Wed, 8 Oct 2025 03:07:39 +0200 (CEST) Received: by mail-vs1-f100.google.com with SMTP id ada2fe7eead31-5d42137abc2so4435714137.2 for ; Tue, 07 Oct 2025 18:07:39 -0700 (PDT) DKIM-Signature: v=1; a=rsa-sha256; c=relaxed/relaxed; d=iol.unh.edu; s=unh-iol; t=1759885659; x=1760490459; darn=dpdk.org; h=cc:to:from:subject:message-id:date:from:to:cc:subject:date :message-id:reply-to; bh=DelWxE6DTlplwBPvrWeVqdqcFNb0TiQtQNxUUJxs41Y=; b=YlcquOjUMfNc1p71xhQqrKhRnjNQI6rc84eiJOETsUdjrcIj7DeuD8zhRf5xQFVD2y gMr8cSMgAWg6GcA+ll2UHZCdfhuQwKMEruXAzDSHAiW1sxrszIXIo/+AGjtVFkE0lML5 FXsw/88D4RB+hRWm+s98nYBL7Luxnw4uKn/sk= X-Google-DKIM-Signature: v=1; a=rsa-sha256; c=relaxed/relaxed; d=1e100.net; s=20230601; t=1759885659; x=1760490459; h=cc:to:from:subject:message-id:date:x-gm-message-state:from:to:cc :subject:date:message-id:reply-to; bh=DelWxE6DTlplwBPvrWeVqdqcFNb0TiQtQNxUUJxs41Y=; b=iw8uzVyakYxVn3QdKOvvcfzt1Po/O5leEXDvvTkDPvDc/uJ584dsCMriKcIM3a0e05 R4rngjKvALc2EXJulWEd1AWP2qsRCZM6OicEvyVPpkwhDePQyy/u9E9rZshjrEs5PmVp yju2v+QqjSMFwfQdVUbxRlZTl8Gc0J50wF2ewCQXHjvOgTKQe+K2rbJ2Mn22BPINe/hg B9OxEHKuOJ5dZS+yUuJNDxTX1NcG8HXVOySytq9V8ten5eQnpNx7jXqKGsELDILhqSt3 GHD6pjLKy7ANNBcXdexeXzYKrbCblTI7G+bIh60G5IG/bjKcINzG8ijqvHcae6KsagYx Iq6w== X-Gm-Message-State: AOJu0YxZvfO9oByUf2jJS8mpmcnzXK8QM/Y05ESW1T4VrnTxOcps6GLA EiiRXRlYE7Pi0YyUzS9NFv6cQuC0iqlZ0dCR/sWoYEcyu1CtIitEowaXAOWGZ4afFx3PNtaoXAa pyfobo6jgMQzTUuOZXe12RBtmdaSLO7KpFJ+rZEkaTa2OM49GT8DtMTSK4SZ7 X-Gm-Gg: ASbGncvbQUlYrkcyoCwkFh/niALxdtKFCkhSlvoXtryrjPb1Bexx8c6YXWERhRbe+Gp tNaXuwVRn6hRUpvubKbXEj7T7crgkPF1a3HEE96b6qRAQxNPBvnd4BWnHQzMIs+nHaKbHeqnQ2d Li/1BWfDNhfX+aGC0q/c4OWQzEj6jhCyRTRP49N3poZAppsCCOVqnDM4AV/LyyhSUn34ssrkrZH 2amH5mrEqvgwQr0p/uXjWPm6ctI3FPNpw2H+d5D3OZ2U8oAJBcfyGRSHrEeERvmPhiUKtg8M3IB fWKo2TRBK6Q1TplKdFG8L3nT3NAOuDHS3e2xctQx2VwTeGFT/JMRQJQ= X-Google-Smtp-Source: AGHT+IFVDQ8JusvDgj+l/xaZ3FuPmalBsxDGsBg6fnncymvjNnwUNSk4IwxOuJ/+qne9YGFOvLLJa+PiJ1Lb X-Received: by 2002:a67:e7c3:0:b0:5d3:fecf:d587 with SMTP id ada2fe7eead31-5d5e224f40fmr819143137.8.1759885659047; Tue, 07 Oct 2025 18:07:39 -0700 (PDT) Received: from postal.iol.unh.edu (postal.iol.unh.edu. [2606:4100:3880:1234::84]) by smtp-relay.gmail.com with ESMTPS id a1e0cc1a2514c-92eb4d81a27sm184953241.2.2025.10.07.18.07.38 (version=TLS1_2 cipher=ECDHE-ECDSA-AES128-GCM-SHA256 bits=128/128); Tue, 07 Oct 2025 18:07:39 -0700 (PDT) X-Relaying-Domain: iol.unh.edu Date: Tue, 07 Oct 2025 18:07:39 -0700 (PDT) Message-ID: <68e5b95b.050a0220.2eafc2.435aSMTPIN_ADDED_MISSING@mx.google.com> Received: from [172.21.0.2] (unknown [172.18.0.240]) by postal.iol.unh.edu (Postfix) with ESMTP id 6AADE6051830; Tue, 7 Oct 2025 21:07:38 -0400 (EDT) Subject: |SUCCESS| [GIT MASTER] 2b403dd8fb37d0ba13723e44ffc7ee2c2795f838 From: dpdklab@iol.unh.edu To: Test Report Cc: dpdk-test-reports@iol.unh.edu Content-Type: text/plain X-BeenThere: test-report@dpdk.org X-Mailman-Version: 2.1.29 Precedence: list List-Id: automatic DPDK test reports List-Unsubscribe: , List-Archive: List-Post: List-Help: List-Subscribe: , Errors-To: test-report-bounces@dpdk.org _Testing PASS_ Branch: dpdk 2b403dd8fb37d0ba13723e44ffc7ee2c2795f838 --> testing pass Upstream job id: Generic-VM-Unit-Test-DPDK#31647 Test environment and result as below: +-------------------------------+----------------+ | Environment | dpdk_unit_test | +===============================+================+ | Debian GNU/Linux 12 | PASS | +-------------------------------+----------------+ | CentOS Stream 9 | PASS | +-------------------------------+----------------+ | CentOS Stream 10 | PASS | +-------------------------------+----------------+ | Fedora Linux 40 | PASS | +-------------------------------+----------------+ | Arch Linux 20250613.0.365270 | PASS | +-------------------------------+----------------+ | Fedora Linux 42 | PASS | +-------------------------------+----------------+ | Red Hat Enterprise Linux 9.5 | PASS | +-------------------------------+----------------+ | Fedora Linux 41 | PASS | +-------------------------------+----------------+ | Ubuntu 20.04 | PASS | +-------------------------------+----------------+ | Red Hat Enterprise Linux 8.10 | PASS | +-------------------------------+----------------+ | Ubuntu 22.04 | PASS | +-------------------------------+----------------+ | Ubuntu 24.04 | PASS | +-------------------------------+----------------+ | Windows Server 2022 | PASS | +-------------------------------+----------------+ Debian GNU/Linux 12 Kernel: 5.15 Compiler: gcc gcc (Debian 12.2.0-14+deb12u1) 12.2.0 CentOS Stream 9 Kernel: 5.15 Compiler: gcc gcc (GCC) 11.5.0 20240719 (Red Hat 11.5.0-11) CentOS Stream 10 Kernel: 5.15 Compiler: gcc gcc (GCC) 14.2.1 20250110 (Red Hat 14.2.1-8) Fedora Linux 40 Kernel: 5.15 Compiler: gcc gcc (GCC) 14.2.1 20240912 (Red Hat 14.2.1-3) Arch Linux 20250613.0.365270 Kernel: 5.15 Compiler: gcc gcc (GCC) 15.1.1 20250425 Fedora Linux 42 Kernel: 5.15 Compiler: gcc gcc (GCC) 15.2.1 20250808 (Red Hat 15.2.1-1) Red Hat Enterprise Linux 9.5 Kernel: 5.15 Compiler: gcc gcc (GCC) 11.5.0 20240719 (Red Hat 11.5.0-2) Fedora Linux 41 Kernel: 5.15 Compiler: gcc gcc (GCC) 14.3.1 20250523 (Red Hat 14.3.1-1) Ubuntu 20.04 Kernel: 5.15 Compiler: gcc gcc (Ubuntu 9.4.0-1ubuntu1~20.04.2) 9.4.0 Red Hat Enterprise Linux 8.10 Kernel: 5.15 Compiler: gcc gcc (GCC) 8.5.0 20210514 (Red Hat 8.5.0-22) Ubuntu 22.04 Kernel: 5.15 Compiler: gcc gcc (Ubuntu 11.4.0-1ubuntu1~22.04) 11.4.0 Ubuntu 24.04 Kernel: 5.15 Compiler: gcc gcc (Ubuntu 13.3.0-6ubuntu2~24.04) 13.3.0 Windows Server 2022 Kernel: 10.0.20348.2031 Compiler: clang 15.0.7, gcc 14.1.0 (MinGW), and MSVC VS 19.39.33521 To view detailed results, visit: https://lab.dpdk.org/results/dashboard/tarballs/35136/ UNH-IOL DPDK Community Lab To manage your email subscriptions, visit: https://lab.dpdk.org/results/dashboard/preferences/subscriptions/