From mboxrd@z Thu Jan 1 00:00:00 1970 Return-Path: Received: from mails.dpdk.org (mails.dpdk.org [217.70.189.124]) by inbox.dpdk.org (Postfix) with ESMTP id 515A1488DA for ; Wed, 8 Oct 2025 03:08:31 +0200 (CEST) Received: from mails.dpdk.org (localhost [127.0.0.1]) by mails.dpdk.org (Postfix) with ESMTP id 3E17340268; Wed, 8 Oct 2025 03:08:31 +0200 (CEST) Received: from mail-pf1-f225.google.com (mail-pf1-f225.google.com [209.85.210.225]) by mails.dpdk.org (Postfix) with ESMTP id 5CC2C40268 for ; Wed, 8 Oct 2025 03:08:30 +0200 (CEST) Received: by mail-pf1-f225.google.com with SMTP id d2e1a72fcca58-7810289cd4bso6504358b3a.2 for ; Tue, 07 Oct 2025 18:08:30 -0700 (PDT) DKIM-Signature: v=1; a=rsa-sha256; c=relaxed/relaxed; d=iol.unh.edu; s=unh-iol; t=1759885709; x=1760490509; darn=dpdk.org; h=references:in-reply-to:cc:to:from:subject:message-id:date:from:to :cc:subject:date:message-id:reply-to; bh=FSnfzv/SS3KxXHzwR4+J4kfhDK5iyRY4ieMLfCIOFR8=; b=KkFncgRqnBvr5/rVmZN7AByY4FOo8qMwGtEZTdW53GZCHaeXf6rmvzfkDRnmkhYBzZ Z8/agzuPSw0Z/9ZtMSCTtxXuavWcbb1WBPaDp5udB2KifWBUm/CfMYgoWLNql1LyK8+B h2aBEmoLqUbEQo1NZzGnNcAO/k3mXJgXkO4LY= X-Google-DKIM-Signature: v=1; a=rsa-sha256; c=relaxed/relaxed; d=1e100.net; s=20230601; t=1759885709; x=1760490509; h=references:in-reply-to:cc:to:from:subject:message-id:date :x-gm-message-state:from:to:cc:subject:date:message-id:reply-to; bh=FSnfzv/SS3KxXHzwR4+J4kfhDK5iyRY4ieMLfCIOFR8=; b=hXwZwfXTNZmmev/NJFFx4c9hdc03B08cFkVlxiQ5GmTtBhommm7wD10OfLU1xBsrfU irZF3hZBGf+6IdXItkGWc4CCG0Eq9E/poAe2Z84+xFHmNIiWMnRZkmsqH3PocYjybM2Y XgkqiSgZgRdZo06SWTXNlAc8O/c8WucB9E8TK9bfMoMtqHINjEJdcdh4E/TOEx8hm6Fj 5kA3Wejb7Nl7Z84EnVGlYqI+SK3+/6LG0MOgENVj01FtsZMWv9z5eDrigtDBi+IXJtfM GrlKmD/wHkABi6w8fGnbODLmniEe92r0nBR8z8PDPGSk3Q7Rdo8E5B3WayZG/XNzqNsu KFng== X-Gm-Message-State: AOJu0Yz/BLNPL6DogmkfIRmwXI3a4T6XegnB10lPSbnf9Fj7Cb/IF1Fs cM1IOrhvaeNoDCAiiMGfavFN0tz1sqTeFsPWSIfSDljlXZK+5a7hqlKXA83s6llXmwXCeu5VrpW wgA7SFPVVdxQMUthB7tbfwLU3vGlM2nSBVSZYYaNjGJWGPdqo+vf/FQ8Uxiam X-Gm-Gg: ASbGnct4ERj52HXCs2fvYOVEeJzSW0CPGM9/K32f4H65xwZelWItmlPVLM50pLrBZMJ 77eS+F5mRMx/+nPrY9antAEbVHCMxQ9oHdM4WUopje6pt7RPvTZv/UQK9MHmoaZneY4KMaEYvfn WOc7bzvIWOASr20RnEInNNUq485R3qDksREb77qn8eg6Qqsh002rBKZu4fE+tC9uIwdXSDQ7i1N iLUWzffb3QzebBTjbppMSEtsmYtgiO41bP8XzM2SdB45MR0tw4gYq4/mNCQEYexWNZbWo6fqEVh Vf86pedr9crKhjNd/1jRGcbEhLH9k4TWvDiucKVPMy443LNYMiuQutE= X-Google-Smtp-Source: AGHT+IEgb4yII28P8y98XIkxyeUJSAYMqkA57xyAv22YEi3DNUNx7uHToY/Jkl/FnZRwBFZBXqFjXhnPbilp X-Received: by 2002:a05:6a21:798f:b0:32b:83af:9b5 with SMTP id adf61e73a8af0-32da83de324mr1640957637.33.1759885709513; Tue, 07 Oct 2025 18:08:29 -0700 (PDT) Received: from postal.iol.unh.edu (postal.iol.unh.edu. [2606:4100:3880:1234::84]) by smtp-relay.gmail.com with ESMTPS id 41be03b00d2f7-b62da7602c0sm877144a12.12.2025.10.07.18.08.29 (version=TLS1_2 cipher=ECDHE-ECDSA-AES128-GCM-SHA256 bits=128/128); Tue, 07 Oct 2025 18:08:29 -0700 (PDT) X-Relaying-Domain: iol.unh.edu Date: Tue, 07 Oct 2025 18:08:29 -0700 (PDT) Message-ID: <68e5b98d.050a0220.164aae.f0a0SMTPIN_ADDED_MISSING@mx.google.com> Received: from [172.21.0.2] (unknown [172.18.0.240]) by postal.iol.unh.edu (Postfix) with ESMTP id 8F17A6051830; Tue, 7 Oct 2025 21:08:28 -0400 (EDT) Subject: |SUCCESS| pw157312 [PATCH] [v2] net/virtio-user: fix used ring addre From: dpdklab@iol.unh.edu To: Test Report Cc: dpdk-test-reports@iol.unh.edu, Chenbo Xia , Maxime Coquelin In-Reply-To: <20251007144754.1690606-1-maxime.coquelin@redhat.com> References: <20251007144754.1690606-1-maxime.coquelin@redhat.com> Content-Type: text/plain X-BeenThere: test-report@dpdk.org X-Mailman-Version: 2.1.29 Precedence: list List-Id: automatic DPDK test reports List-Unsubscribe: , List-Archive: List-Post: List-Help: List-Subscribe: , Errors-To: test-report-bounces@dpdk.org Test-Label: iol-unit-arm64-testing Test-Status: SUCCESS http://dpdk.org/patch/157312 _Testing PASS_ Submitter: Maxime Coquelin Date: Tuesday, October 07 2025 14:47:54 DPDK git baseline: Repo:dpdk-next-virtio Branch: master CommitID:4159ea62922ce41566c7bab44655ad78bee85458 157312 --> testing pass Upstream job id: Generic-Unit-Test-DPDK#379203 Test environment and result as below: +------------------------------+---------------------------+--------------+------------------------------+----------------+ | Environment | cryptodev_sw_zuc_autotest | lpm_autotest | cryptodev_sw_snow3g_autotest | dpdk_unit_test | +==============================+===========================+==============+==============================+================+ | Debian 12 (arm) | PASS | SKIPPED | PASS | SKIPPED | +------------------------------+---------------------------+--------------+------------------------------+----------------+ | Ubuntu 20.04 | SKIPPED | PASS | SKIPPED | PASS | +------------------------------+---------------------------+--------------+------------------------------+----------------+ | Debian GNU/Linux 12 | SKIPPED | SKIPPED | SKIPPED | PASS | +------------------------------+---------------------------+--------------+------------------------------+----------------+ | CentOS Stream 9 | SKIPPED | SKIPPED | SKIPPED | PASS | +------------------------------+---------------------------+--------------+------------------------------+----------------+ | Fedora Linux 42 | SKIPPED | SKIPPED | SKIPPED | PASS | +------------------------------+---------------------------+--------------+------------------------------+----------------+ | Fedora Linux 40 | SKIPPED | SKIPPED | SKIPPED | PASS | +------------------------------+---------------------------+--------------+------------------------------+----------------+ | Fedora Linux 41 | SKIPPED | SKIPPED | SKIPPED | PASS | +------------------------------+---------------------------+--------------+------------------------------+----------------+ | CentOS Stream 10 | SKIPPED | SKIPPED | SKIPPED | PASS | +------------------------------+---------------------------+--------------+------------------------------+----------------+ | Ubuntu 22.04 | SKIPPED | SKIPPED | SKIPPED | PASS | +------------------------------+---------------------------+--------------+------------------------------+----------------+ | Red Hat Enterprise Linux 9.5 | SKIPPED | SKIPPED | SKIPPED | PASS | +------------------------------+---------------------------+--------------+------------------------------+----------------+ | Ubuntu 24.04 | SKIPPED | SKIPPED | SKIPPED | PASS | +------------------------------+---------------------------+--------------+------------------------------+----------------+ Debian 12 (arm) Kernel: Depends on container host Compiler: gcc (Debian 12.2.0-14) 12.2.0 Ubuntu 20.04 Kernel: 5.4 Compiler: gcc gcc (Ubuntu 9.4.0-1ubuntu1~20.04.2) 9.4.0 Debian GNU/Linux 12 Kernel: 5.4 Compiler: gcc gcc (Debian 12.2.0-14+deb12u1) 12.2.0 CentOS Stream 9 Kernel: 5.4 Compiler: gcc gcc (GCC) 11.5.0 20240719 (Red Hat 11.5.0-11) Fedora Linux 42 Kernel: 5.4 Compiler: gcc gcc (GCC) 15.2.1 20250808 (Red Hat 15.2.1-1) Fedora Linux 40 Kernel: 5.4 Compiler: clang gcc (GCC) 14.2.1 20240912 (Red Hat 14.2.1-3) Fedora Linux 41 Kernel: 5.4 Compiler: clang gcc (GCC) 14.3.1 20250523 (Red Hat 14.3.1-1) CentOS Stream 10 Kernel: 5.4 Compiler: gcc gcc (GCC) 14.2.1 20250110 (Red Hat 14.2.1-8) Ubuntu 22.04 Kernel: 5.15 Compiler: gcc gcc (Ubuntu 11.4.0-1ubuntu1~22.04.2) 11.4.0 Red Hat Enterprise Linux 9.5 Kernel: 5.4 Compiler: gcc gcc (GCC) 11.5.0 20240719 (Red Hat 11.5.0-2) Ubuntu 24.04 Kernel: 5.4 Compiler: gcc gcc (Ubuntu 13.3.0-6ubuntu2~24.04) 13.3.0 To view detailed results, visit: https://lab.dpdk.org/results/dashboard/patchsets/34229/ UNH-IOL DPDK Community Lab To manage your email subscriptions, visit: https://lab.dpdk.org/results/dashboard/preferences/subscriptions/