From mboxrd@z Thu Jan 1 00:00:00 1970 Return-Path: Received: from mails.dpdk.org (mails.dpdk.org [217.70.189.124]) by inbox.dpdk.org (Postfix) with ESMTP id 55595488DA for ; Wed, 8 Oct 2025 03:17:51 +0200 (CEST) Received: from mails.dpdk.org (localhost [127.0.0.1]) by mails.dpdk.org (Postfix) with ESMTP id 29D4940268; Wed, 8 Oct 2025 03:17:51 +0200 (CEST) Received: from mail-il1-f225.google.com (mail-il1-f225.google.com [209.85.166.225]) by mails.dpdk.org (Postfix) with ESMTP id 342ED40268 for ; Wed, 8 Oct 2025 03:17:50 +0200 (CEST) Received: by mail-il1-f225.google.com with SMTP id e9e14a558f8ab-42f62c671a3so23237145ab.1 for ; Tue, 07 Oct 2025 18:17:50 -0700 (PDT) DKIM-Signature: v=1; a=rsa-sha256; c=relaxed/relaxed; d=iol.unh.edu; s=unh-iol; t=1759886269; x=1760491069; darn=dpdk.org; h=references:in-reply-to:cc:to:from:subject:message-id:date:from:to :cc:subject:date:message-id:reply-to; bh=W4NT/XwZBHEVUB1D25ECpDrtjn0TlH2a7dccnoJZM88=; b=NyeQHxWiZfGQHmO2DhMCQJxqSKyyUnfpvP7ADORCgPgmcPKL9tjkgJNOxLBE4YG/oE 1HZe1Gi+TcwmVUw5L6hqqJ0VmyJBHc4g1AphXEVYdEr5Q9UUEN5neDXzXFucOVxSiN+C 7sLIuQYkBbipbMslRCohJZT8TPIjBWyzpCK+Q= X-Google-DKIM-Signature: v=1; a=rsa-sha256; c=relaxed/relaxed; d=1e100.net; s=20230601; t=1759886269; x=1760491069; h=references:in-reply-to:cc:to:from:subject:message-id:date :x-gm-message-state:from:to:cc:subject:date:message-id:reply-to; bh=W4NT/XwZBHEVUB1D25ECpDrtjn0TlH2a7dccnoJZM88=; b=KJy4tJy6E+5Ee9mQGAQ3dFHVBoRe8dCqOd/tVIIjqnT1dI2L/OLApyEQJBuu8i4giD T21T+ih7Q7BLHGmojIpdvSevoJ4V1RzyCEohx8Q8SqqahUK04j6drFsx1ZSmeS0Pm44z 6INwZI/OMC5ZdFAWCNq2vKntxInXKO/hzFGCvxojvA/R37FVY/TNsuwctEwWBxm7VUIp ngUrYarcoyBs7dxGm3kM4VwoEjf0ZUBsUnHpXT7Hz2xYfPIEILueDfoX0XB1rQY7RdXI T7xX6bx+n596/6sDNqZ8csgpXSkZ7SHGJFoqn8x5UKJ1FRc9Tw6oyin7RrUyCzlHJTGn fmmw== X-Gm-Message-State: AOJu0YwXtnfFi9FmuONqfINzBUvs9bFlkBTR3o+i63vw2Zn2yuTc6mfN 9fK54KGGIBNLw5z8lbAJPHBDMid+MnQsgUvPtcGKalyFabhMdlhhLa661FhHQZTO18Mf2Uuv5Sc 6398+OwA43NweOwnfLQMbD+aZzwHwFNWtDxFDic4cvSNl X-Gm-Gg: ASbGnctisfA3upbAoWSF9TM3wGsuh9CxH+ODPR+taXeo6FKNenIloQkCK4+MbElR04G oVQw7szRL75prJyZDW+8CXpJjq/f0mFHryhfmgcR95LMAyzhB+GmkLN355qr5Gan4lKjjHZISZU 9nTiJe0AnyhM5rRe2yIeZRhcM9pWMeewxQ+bCLd9emQZ1H9BuBph5UBbg5GtELuK4a18Fmv+hxq zRAdRjc/BR8TnoKduyk+01Z5gLktuQqriphl1gY1xdBr4FV3K3/jlrDnhRwDuZ9wk3pJjbl4dHp 58yRqlZeZS2qHuaeZYF2Ud6fkVBlczm26ADlSAYGoyymNwMmQJkxfa70FmDVIzjgrgQpQHQK0q3 KiA== X-Google-Smtp-Source: AGHT+IEpLmWVubl7RObRk1Gvzk2II6CHS30JFvtzz7Uz3qD5bjM/N4NvypKjkvwV4AxwqLPrbJP1QNHz3zNB X-Received: by 2002:a05:6e02:144d:b0:42e:73ae:55ab with SMTP id e9e14a558f8ab-42f874040cbmr13596815ab.20.1759886269385; Tue, 07 Oct 2025 18:17:49 -0700 (PDT) Received: from postal.iol.unh.edu (postal.iol.unh.edu. [132.177.123.84]) by smtp-relay.gmail.com with ESMTPS id 8926c6da1cb9f-57b5ed6b6f1sm1396435173.42.2025.10.07.18.17.49 (version=TLS1_2 cipher=ECDHE-ECDSA-AES128-GCM-SHA256 bits=128/128); Tue, 07 Oct 2025 18:17:49 -0700 (PDT) X-Relaying-Domain: iol.unh.edu Date: Tue, 07 Oct 2025 18:17:49 -0700 (PDT) Message-ID: <68e5bbbd.050a0220.39ec3f.cf98SMTPIN_ADDED_MISSING@mx.google.com> Received: from [172.21.0.2] (unknown [172.18.0.240]) by postal.iol.unh.edu (Postfix) with ESMTP id AEBF56051830; Tue, 7 Oct 2025 21:17:48 -0400 (EDT) Subject: |SUCCESS| pw157297 [PATCH] net/intel/e1000: reduce the optimization From: dpdklab@iol.unh.edu To: Test Report Cc: dpdk-test-reports@iol.unh.edu, Bruce Richardson In-Reply-To: <20251006124506.388456-1-thierry.herbelot@6wind.com> References: <20251006124506.388456-1-thierry.herbelot@6wind.com> Content-Type: text/plain X-BeenThere: test-report@dpdk.org X-Mailman-Version: 2.1.29 Precedence: list List-Id: automatic DPDK test reports List-Unsubscribe: , List-Archive: List-Post: List-Help: List-Subscribe: , Errors-To: test-report-bounces@dpdk.org Test-Label: iol-compile-amd64-testing Test-Status: SUCCESS http://dpdk.org/patch/157297 _Testing PASS_ Submitter: Thierry Herbelot Date: Monday, October 06 2025 12:45:06 DPDK git baseline: Repo:dpdk-next-net-intel Branch: master CommitID:e7d8cc7ef4df3552575525697079d3c957cfcdaf 157297 --> testing pass Upstream job id: Generic-DPDK-Compile-Meson#431946 Test environment and result as below: +-------------------------------+--------------------+-------------------------+-------------------+----------------------+-------------------+------------------+ | Environment | dpdk_meson_compile | dpdk_llvm_clang_compile | dpdk_msvc_compile | dpdk_mingw64_compile | dpdk_compile_spdk | dpdk_compile_ovs | +===============================+====================+=========================+===================+======================+===================+==================+ | Ubuntu 20.04 | PASS | SKIPPED | SKIPPED | SKIPPED | SKIPPED | SKIPPED | +-------------------------------+--------------------+-------------------------+-------------------+----------------------+-------------------+------------------+ | FreeBSD 14.2 | PASS | SKIPPED | SKIPPED | SKIPPED | SKIPPED | SKIPPED | +-------------------------------+--------------------+-------------------------+-------------------+----------------------+-------------------+------------------+ | CentOS Stream 9 | PASS | SKIPPED | SKIPPED | SKIPPED | PASS | SKIPPED | +-------------------------------+--------------------+-------------------------+-------------------+----------------------+-------------------+------------------+ | CentOS Stream 10 | PASS | SKIPPED | SKIPPED | SKIPPED | SKIPPED | SKIPPED | +-------------------------------+--------------------+-------------------------+-------------------+----------------------+-------------------+------------------+ | Debian GNU/Linux 12 | PASS | SKIPPED | SKIPPED | SKIPPED | PASS | SKIPPED | +-------------------------------+--------------------+-------------------------+-------------------+----------------------+-------------------+------------------+ | Fedora Linux 42 | PASS | SKIPPED | SKIPPED | SKIPPED | PASS | PASS | +-------------------------------+--------------------+-------------------------+-------------------+----------------------+-------------------+------------------+ | openSUSE Leap 15.6 | PASS | SKIPPED | SKIPPED | SKIPPED | SKIPPED | SKIPPED | +-------------------------------+--------------------+-------------------------+-------------------+----------------------+-------------------+------------------+ | Red Hat Enterprise Linux 8.10 | PASS | SKIPPED | SKIPPED | SKIPPED | SKIPPED | SKIPPED | +-------------------------------+--------------------+-------------------------+-------------------+----------------------+-------------------+------------------+ | Red Hat Enterprise Linux 9.5 | PASS | SKIPPED | SKIPPED | SKIPPED | SKIPPED | SKIPPED | +-------------------------------+--------------------+-------------------------+-------------------+----------------------+-------------------+------------------+ | Ubuntu 22.04 | PASS | SKIPPED | SKIPPED | SKIPPED | PASS | SKIPPED | +-------------------------------+--------------------+-------------------------+-------------------+----------------------+-------------------+------------------+ | Ubuntu 24.04 | PASS | SKIPPED | SKIPPED | SKIPPED | PASS | PASS | +-------------------------------+--------------------+-------------------------+-------------------+----------------------+-------------------+------------------+ | Alpine Linux 3.22.0 | PASS | SKIPPED | SKIPPED | SKIPPED | SKIPPED | SKIPPED | +-------------------------------+--------------------+-------------------------+-------------------+----------------------+-------------------+------------------+ | Windows Server 2022 | SKIPPED | PASS | PASS | PASS | SKIPPED | SKIPPED | +-------------------------------+--------------------+-------------------------+-------------------+----------------------+-------------------+------------------+ Ubuntu 20.04 Kernel: 4.19 Compiler: gcc gcc (Ubuntu 9.4.0-1ubuntu1~20.04.2) 9.4.0 FreeBSD 14.2 Kernel: 14.2-RELEASE Compiler: clang 18.1.6 CentOS Stream 9 Kernel: 5.15 Compiler: gcc gcc (GCC) 11.5.0 20240719 (Red Hat 11.5.0-11) CentOS Stream 10 Kernel: 5.15 Compiler: gcc gcc (GCC) 14.2.1 20250110 (Red Hat 14.2.1-8) Debian GNU/Linux 12 Kernel: 5.15 Compiler: gcc gcc (Debian 12.2.0-14+deb12u1) 12.2.0 Fedora Linux 42 Kernel: 5.15 Compiler: clang gcc (GCC) 15.2.1 20250808 (Red Hat 15.2.1-1) openSUSE Leap 15.6 Kernel: 5.15 Compiler: gcc gcc (SUSE Linux) 7.5.0 Red Hat Enterprise Linux 8.10 Kernel: 5.15 Compiler: gcc gcc (GCC) 8.5.0 20210514 (Red Hat 8.5.0-22) Red Hat Enterprise Linux 9.5 Kernel: 5.15 Compiler: gcc gcc (GCC) 11.5.0 20240719 (Red Hat 11.5.0-2) Ubuntu 22.04 Kernel: 5.15 Compiler: gcc gcc (Ubuntu 11.4.0-1ubuntu1~22.04) 11.4.0 Ubuntu 24.04 Kernel: 5.15 Compiler: gcc gcc (Ubuntu 13.3.0-6ubuntu2~24.04) 13.3.0 Alpine Linux 3.22.0 Kernel: 5.15 Compiler: gcc gcc (Alpine 14.2.0) 14.2.0 Windows Server 2022 Kernel: 10.0.20348.2031 Compiler: clang 15.0.7, gcc 14.1.0 (MinGW), and MSVC VS 19.39.33521 To view detailed results, visit: https://lab.dpdk.org/results/dashboard/patchsets/34222/ UNH-IOL DPDK Community Lab To manage your email subscriptions, visit: https://lab.dpdk.org/results/dashboard/preferences/subscriptions/