From mboxrd@z Thu Jan 1 00:00:00 1970 Return-Path: Received: from mails.dpdk.org (mails.dpdk.org [217.70.189.124]) by inbox.dpdk.org (Postfix) with ESMTP id 77B7F488DA for ; Wed, 8 Oct 2025 03:43:38 +0200 (CEST) Received: from mails.dpdk.org (localhost [127.0.0.1]) by mails.dpdk.org (Postfix) with ESMTP id 52FED40268; Wed, 8 Oct 2025 03:43:38 +0200 (CEST) Received: from mail-pl1-f226.google.com (mail-pl1-f226.google.com [209.85.214.226]) by mails.dpdk.org (Postfix) with ESMTP id 9D56B40268 for ; Wed, 8 Oct 2025 03:43:36 +0200 (CEST) Received: by mail-pl1-f226.google.com with SMTP id d9443c01a7336-273a0aeed57so5467735ad.1 for ; Tue, 07 Oct 2025 18:43:36 -0700 (PDT) DKIM-Signature: v=1; a=rsa-sha256; c=relaxed/relaxed; d=iol.unh.edu; s=unh-iol; t=1759887816; x=1760492616; darn=dpdk.org; h=references:in-reply-to:cc:to:from:subject:message-id:date:from:to :cc:subject:date:message-id:reply-to; bh=SckOY7OoQGOlkAVjlqfe7k9JRvH5XSdOg94nShXJKFw=; b=UpnnUhK+X8M+nOBiFFkAr+/S7wBidIKN2cpqB+yarDVjwbuBXptw/jbhg/2BmZcVMf kMlI0m4vMJ7DzPu+9oabu0W8y/ahTlAFZhQthLV0M6LW4seRXGqQl/H9hKGMwXbts7sF H/kz5+8sMll+ybWxmhalmzVLfqI/kjQnsqyrs= X-Google-DKIM-Signature: v=1; a=rsa-sha256; c=relaxed/relaxed; d=1e100.net; s=20230601; t=1759887816; x=1760492616; h=references:in-reply-to:cc:to:from:subject:message-id:date :x-gm-message-state:from:to:cc:subject:date:message-id:reply-to; bh=SckOY7OoQGOlkAVjlqfe7k9JRvH5XSdOg94nShXJKFw=; b=tS22Q5l4mRKai5Gkry4iA1beE+/bV0u5qSdau5acEmgN+BsuBgXoyI7eajbXokPlh0 IN7tb2TaXJoCG4uPMaPpVtMy0JMoCw55470j0EY4WdAqITxo1LBUNt4GdoVuT9kdMLsU 12XbxJZRV906O0y/Zh3i5IEoxrWFSX/Vj2H8gQbQlGr82kAUYUg7E9KZd/O7jC6Sk3sJ +90Dgk14biGtBMtnIuWeX9rsUaNef3uYEaIRZpET7FQQ/Q0gnmdUd5qfQ1+elWv6vqty b38dZLWOpXacKSrY2YkNW48C28ZryGDdkATxcTfGUlSsSa/FC5Q/5ak0acQmvZLBYVnm F/eg== X-Gm-Message-State: AOJu0YxQJpU7XEwVT48u8zMD5PI8e+PlP6OAcy2r3zQD3xAB4lENyoK8 juuqtBu8GX8Dn6/j6ef5m1I3nVOhrf/EhCjBcl6lK0GwaUPEIDVDf6HAo1tvM7RNzWYUbVfH6z9 DejDGJpgI1xZcejTB8b71xOZYK63oEQHDUzd4pd8Fydwm X-Gm-Gg: ASbGnct1uDBo4k1Dyt3gV/ig8Oee3uzDpR4XJcgBlWIV2B8rhpcpt+4G4kuWsEJZhiP kW1jFxALCj8uMoKZqOX/yM4v5zwcvdJmPkgIo1xEjMtjyfIcpGERPQTCFId1Szwd/2RpNiErl3T ZmtYVJjuQG8eIPih5GYAbtpf7s/FHowZtM4k1usJRxG7PFHPPgDG+BQCtwEddhlVtuMLjhqfxA4 NBWUMShORz5FlkX/6DapGvYqj/1YvBS/Z7MxMLCSlndDNzxEi6rvf2Gk+13HtItqkorFNlayb6q hKa2KUgVV/dR0os/ZMe306mzNuJzyG7xPy+s/R68WTEgq1WXQd4zm8hiUGp+k8G3+Mp+ftREL4o Vxg== X-Google-Smtp-Source: AGHT+IGCpGoh/jEHOeTNm0eQnQFkSh5RXjshSsN6Q9AMuhid8ZSpqduLNqjd8o2Mjn8KKyy4e0wYFml12roA X-Received: by 2002:a17:902:e892:b0:28d:195a:7d92 with SMTP id d9443c01a7336-29027f36f6emr15009575ad.25.1759887815759; Tue, 07 Oct 2025 18:43:35 -0700 (PDT) Received: from postal.iol.unh.edu (postal.iol.unh.edu. [132.177.123.84]) by smtp-relay.gmail.com with ESMTPS id d9443c01a7336-28e8d19bba0sm13369505ad.61.2025.10.07.18.43.35 (version=TLS1_2 cipher=ECDHE-ECDSA-AES128-GCM-SHA256 bits=128/128); Tue, 07 Oct 2025 18:43:35 -0700 (PDT) X-Relaying-Domain: iol.unh.edu Date: Tue, 07 Oct 2025 18:43:35 -0700 (PDT) Message-ID: <68e5c1c7.170a0220.3a44b9.8c10SMTPIN_ADDED_MISSING@mx.google.com> Received: from [172.21.0.3] (unknown [172.18.0.240]) by postal.iol.unh.edu (Postfix) with ESMTP id EFBE66051830; Tue, 7 Oct 2025 21:43:34 -0400 (EDT) Subject: |SUCCESS| pw157298 [PATCH] [V2] net/intel/e1000: reduce the optimiza From: dpdklab@iol.unh.edu To: Test Report Cc: dpdk-test-reports@iol.unh.edu, Bruce Richardson In-Reply-To: <20251006130257.391200-1-thierry.herbelot@6wind.com> References: <20251006130257.391200-1-thierry.herbelot@6wind.com> Content-Type: text/plain X-BeenThere: test-report@dpdk.org X-Mailman-Version: 2.1.29 Precedence: list List-Id: automatic DPDK test reports List-Unsubscribe: , List-Archive: List-Post: List-Help: List-Subscribe: , Errors-To: test-report-bounces@dpdk.org Test-Label: iol-compile-amd64-testing Test-Status: SUCCESS http://dpdk.org/patch/157298 _Testing PASS_ Submitter: Thierry Herbelot Date: Monday, October 06 2025 13:02:57 DPDK git baseline: Repo:dpdk-next-net-intel Branch: master CommitID:e7d8cc7ef4df3552575525697079d3c957cfcdaf 157298 --> testing pass Upstream job id: Generic-DPDK-Compile-Meson#431973 Test environment and result as below: +-------------------------------+--------------------+-------------------+-------------------------+----------------------+-------------------+------------------+ | Environment | dpdk_meson_compile | dpdk_msvc_compile | dpdk_llvm_clang_compile | dpdk_mingw64_compile | dpdk_compile_spdk | dpdk_compile_ovs | +===============================+====================+===================+=========================+======================+===================+==================+ | Ubuntu 20.04 | PASS | SKIPPED | SKIPPED | SKIPPED | SKIPPED | SKIPPED | +-------------------------------+--------------------+-------------------+-------------------------+----------------------+-------------------+------------------+ | FreeBSD 14.2 | PASS | SKIPPED | SKIPPED | SKIPPED | SKIPPED | SKIPPED | +-------------------------------+--------------------+-------------------+-------------------------+----------------------+-------------------+------------------+ | CentOS Stream 9 | PASS | SKIPPED | SKIPPED | SKIPPED | PASS | SKIPPED | +-------------------------------+--------------------+-------------------+-------------------------+----------------------+-------------------+------------------+ | CentOS Stream 10 | PASS | SKIPPED | SKIPPED | SKIPPED | SKIPPED | SKIPPED | +-------------------------------+--------------------+-------------------+-------------------------+----------------------+-------------------+------------------+ | Debian GNU/Linux 12 | PASS | SKIPPED | SKIPPED | SKIPPED | PASS | SKIPPED | +-------------------------------+--------------------+-------------------+-------------------------+----------------------+-------------------+------------------+ | Fedora Linux 42 | PASS | SKIPPED | SKIPPED | SKIPPED | PASS | PASS | +-------------------------------+--------------------+-------------------+-------------------------+----------------------+-------------------+------------------+ | openSUSE Leap 15.6 | PASS | SKIPPED | SKIPPED | SKIPPED | SKIPPED | SKIPPED | +-------------------------------+--------------------+-------------------+-------------------------+----------------------+-------------------+------------------+ | Red Hat Enterprise Linux 8.10 | PASS | SKIPPED | SKIPPED | SKIPPED | SKIPPED | SKIPPED | +-------------------------------+--------------------+-------------------+-------------------------+----------------------+-------------------+------------------+ | Windows Server 2022 | SKIPPED | PASS | PASS | PASS | SKIPPED | SKIPPED | +-------------------------------+--------------------+-------------------+-------------------------+----------------------+-------------------+------------------+ Ubuntu 20.04 Kernel: 4.19 Compiler: gcc gcc (Ubuntu 9.4.0-1ubuntu1~20.04.2) 9.4.0 FreeBSD 14.2 Kernel: 14.2-RELEASE Compiler: clang 18.1.6 CentOS Stream 9 Kernel: 5.15 Compiler: gcc gcc (GCC) 11.5.0 20240719 (Red Hat 11.5.0-11) CentOS Stream 10 Kernel: 5.15 Compiler: gcc gcc (GCC) 14.2.1 20250110 (Red Hat 14.2.1-8) Debian GNU/Linux 12 Kernel: 5.15 Compiler: gcc gcc (Debian 12.2.0-14+deb12u1) 12.2.0 Fedora Linux 42 Kernel: 5.15 Compiler: clang gcc (GCC) 15.2.1 20250808 (Red Hat 15.2.1-1) openSUSE Leap 15.6 Kernel: 5.15 Compiler: gcc gcc (SUSE Linux) 7.5.0 Red Hat Enterprise Linux 8.10 Kernel: 5.15 Compiler: gcc gcc (GCC) 8.5.0 20210514 (Red Hat 8.5.0-22) Windows Server 2022 Kernel: 10.0.20348.2031 Compiler: clang 15.0.7, gcc 14.1.0 (MinGW), and MSVC VS 19.39.33521 To view detailed results, visit: https://lab.dpdk.org/results/dashboard/patchsets/34223/ UNH-IOL DPDK Community Lab To manage your email subscriptions, visit: https://lab.dpdk.org/results/dashboard/preferences/subscriptions/