From mboxrd@z Thu Jan 1 00:00:00 1970 Return-Path: Received: from mails.dpdk.org (mails.dpdk.org [217.70.189.124]) by inbox.dpdk.org (Postfix) with ESMTP id ABFAD488DA for ; Wed, 8 Oct 2025 03:46:34 +0200 (CEST) Received: from mails.dpdk.org (localhost [127.0.0.1]) by mails.dpdk.org (Postfix) with ESMTP id 92A7940268; Wed, 8 Oct 2025 03:46:34 +0200 (CEST) Received: from mail-pl1-f228.google.com (mail-pl1-f228.google.com [209.85.214.228]) by mails.dpdk.org (Postfix) with ESMTP id 61A3140268 for ; Wed, 8 Oct 2025 03:46:33 +0200 (CEST) Received: by mail-pl1-f228.google.com with SMTP id d9443c01a7336-28e7cd6dbc0so78639415ad.0 for ; Tue, 07 Oct 2025 18:46:33 -0700 (PDT) DKIM-Signature: v=1; a=rsa-sha256; c=relaxed/relaxed; d=iol.unh.edu; s=unh-iol; t=1759887992; x=1760492792; darn=dpdk.org; h=references:in-reply-to:cc:to:from:subject:message-id:date:from:to :cc:subject:date:message-id:reply-to; bh=XU26lDiBR2GXdy8JlXAKyMVcuBUIyZcE/Gvl6AlmHjk=; b=B0Ziw8RkO6zkCIH9rydEP2TBe+sZd55J1Hj4mkAmNUdhrYFjNO7BGxEagL9hxBSVOk qV9NPZ57bATFnxrtERfhlxknmuW8GwEDpIBn3LCOlMg4+V9sVBnieEY7ICA8mfnXO9Qh u9sqdErDm1AnqO//c/ZMbZj9FOcqJ/r9QvQIQ= X-Google-DKIM-Signature: v=1; a=rsa-sha256; c=relaxed/relaxed; d=1e100.net; s=20230601; t=1759887992; x=1760492792; h=references:in-reply-to:cc:to:from:subject:message-id:date :x-gm-message-state:from:to:cc:subject:date:message-id:reply-to; bh=XU26lDiBR2GXdy8JlXAKyMVcuBUIyZcE/Gvl6AlmHjk=; b=s66FdfLgBUucXjGB/4+MW1Fw1/bTRxJmO1aSJlUvjOG4qgf/aJfeUms8RHJQUWx/9y lZdMy85c+DoahFoht4FO5jLOnrg2zyX3yom5tfwDOSFHDhWVCSXN0oqPRr45Hv95cVDE nT9EyTvgES61b3+IGezdITYjrDP38VAx19yUsffZIXdFHHSGVyNZXhAdSUmY6O7FNSbo ib+DV1yD6UDNkEq2H8jTS+RvhjNjLMCRoPW3i2OkHHvBI2SpTuB0fnm2FitrBYUD8sdN 0DcNmZ9esmrF6Uk36LmsR2TgtmspDYs00wzOEdgGQ51rNsSaiLOk4XVYJjn1r4WVb2p0 CQnA== X-Gm-Message-State: AOJu0YxnrxlLuc1DfVUk/A+qyGzOTf1AO3NiehAQlvn0LM085AV3uwbI UFn3q23YsOcJlSqPCKqcTQ78E6sUKfwSnqnOItvUjx9rRHw0Qjo0qKKfBUgnwFHgZDxr3xC+W6h tVYHjrA7hC6D+Yqq8plmHOfDY/POsQpyDkx8sDbHJH//3 X-Gm-Gg: ASbGnctGB3bvzhRnIAAhxicIh10lTVz+AmgFRHxPDBvxrHzUL4ylvAluZ8G00D9xEo9 PXTx5iBnppnn021bDs/BKkHDjCL+LEErxt941k9fy9ntHyEVtEC/bqYVjnBsDkJw8Cd0KLiBMDI UTXx59Y5+ZM6Z9kNNK0ffMAZxuIiGXiBfk5VrWkBAdTtSHUUnqmCtsKnhlRTUKQnRX4p59cHS4U Hd6ZFY2n45FlDSatQJcEatzu6N78pgNqxFwX3jdUpEWHyCmhLuZbAnGNtT1bONyza/VTP6Q0FJ5 7uVtPEgndl55D4AOf3x1tXh5AzdyjUG6TpB0fEXoT0qRW59+6vqt2nAcDpJrPDqJnfxA63Nb9ka pHA== X-Google-Smtp-Source: AGHT+IHGxSv65NwvliW1wRoS/NKvCUtAsCyRDYs+reqVu+PAFARLHa3GgIzZTG6McsBZTxfcEr1frLx2jcr8 X-Received: by 2002:a17:903:3c6e:b0:26b:3aab:f6b8 with SMTP id d9443c01a7336-2902741ce06mr21034525ad.58.1759887992475; Tue, 07 Oct 2025 18:46:32 -0700 (PDT) Received: from postal.iol.unh.edu (postal.iol.unh.edu. [132.177.123.84]) by smtp-relay.gmail.com with ESMTPS id d9443c01a7336-28e8d19c50asm13446385ad.53.2025.10.07.18.46.32 (version=TLS1_2 cipher=ECDHE-ECDSA-AES128-GCM-SHA256 bits=128/128); Tue, 07 Oct 2025 18:46:32 -0700 (PDT) X-Relaying-Domain: iol.unh.edu Date: Tue, 07 Oct 2025 18:46:32 -0700 (PDT) Message-ID: <68e5c278.170a0220.1bf0cf.9394SMTPIN_ADDED_MISSING@mx.google.com> Received: from [172.21.0.2] (unknown [172.18.0.240]) by postal.iol.unh.edu (Postfix) with ESMTP id 6B4246051830; Tue, 7 Oct 2025 21:46:31 -0400 (EDT) Subject: |SUCCESS| pw157298 [PATCH] [V2] net/intel/e1000: reduce the optimiza From: dpdklab@iol.unh.edu To: Test Report Cc: dpdk-test-reports@iol.unh.edu, Bruce Richardson In-Reply-To: <20251006130257.391200-1-thierry.herbelot@6wind.com> References: <20251006130257.391200-1-thierry.herbelot@6wind.com> Content-Type: text/plain X-BeenThere: test-report@dpdk.org X-Mailman-Version: 2.1.29 Precedence: list List-Id: automatic DPDK test reports List-Unsubscribe: , List-Archive: List-Post: List-Help: List-Subscribe: , Errors-To: test-report-bounces@dpdk.org Test-Label: iol-compile-amd64-testing Test-Status: SUCCESS http://dpdk.org/patch/157298 _Testing PASS_ Submitter: Thierry Herbelot Date: Monday, October 06 2025 13:02:57 DPDK git baseline: Repo:dpdk-next-net-intel Branch: master CommitID:e7d8cc7ef4df3552575525697079d3c957cfcdaf 157298 --> testing pass Upstream job id: Generic-DPDK-Compile-Meson#431980 Test environment and result as below: +-------------------------------+--------------------+-------------------+-------------------------+----------------------+-------------------+------------------+ | Environment | dpdk_meson_compile | dpdk_msvc_compile | dpdk_llvm_clang_compile | dpdk_mingw64_compile | dpdk_compile_spdk | dpdk_compile_ovs | +===============================+====================+===================+=========================+======================+===================+==================+ | Ubuntu 20.04 | PASS | SKIPPED | SKIPPED | SKIPPED | SKIPPED | SKIPPED | +-------------------------------+--------------------+-------------------+-------------------------+----------------------+-------------------+------------------+ | FreeBSD 14.2 | PASS | SKIPPED | SKIPPED | SKIPPED | SKIPPED | SKIPPED | +-------------------------------+--------------------+-------------------+-------------------------+----------------------+-------------------+------------------+ | CentOS Stream 9 | PASS | SKIPPED | SKIPPED | SKIPPED | PASS | SKIPPED | +-------------------------------+--------------------+-------------------+-------------------------+----------------------+-------------------+------------------+ | CentOS Stream 10 | PASS | SKIPPED | SKIPPED | SKIPPED | SKIPPED | SKIPPED | +-------------------------------+--------------------+-------------------+-------------------------+----------------------+-------------------+------------------+ | Debian GNU/Linux 12 | PASS | SKIPPED | SKIPPED | SKIPPED | PASS | SKIPPED | +-------------------------------+--------------------+-------------------+-------------------------+----------------------+-------------------+------------------+ | Fedora Linux 42 | PASS | SKIPPED | SKIPPED | SKIPPED | PASS | PASS | +-------------------------------+--------------------+-------------------+-------------------------+----------------------+-------------------+------------------+ | openSUSE Leap 15.6 | PASS | SKIPPED | SKIPPED | SKIPPED | SKIPPED | SKIPPED | +-------------------------------+--------------------+-------------------+-------------------------+----------------------+-------------------+------------------+ | Red Hat Enterprise Linux 8.10 | PASS | SKIPPED | SKIPPED | SKIPPED | SKIPPED | SKIPPED | +-------------------------------+--------------------+-------------------+-------------------------+----------------------+-------------------+------------------+ | Red Hat Enterprise Linux 9.5 | PASS | SKIPPED | SKIPPED | SKIPPED | SKIPPED | SKIPPED | +-------------------------------+--------------------+-------------------+-------------------------+----------------------+-------------------+------------------+ | Windows Server 2022 | SKIPPED | PASS | PASS | PASS | SKIPPED | SKIPPED | +-------------------------------+--------------------+-------------------+-------------------------+----------------------+-------------------+------------------+ Ubuntu 20.04 Kernel: 4.19 Compiler: gcc gcc (Ubuntu 9.4.0-1ubuntu1~20.04.2) 9.4.0 FreeBSD 14.2 Kernel: 14.2-RELEASE Compiler: clang 18.1.6 CentOS Stream 9 Kernel: 5.15 Compiler: gcc gcc (GCC) 11.5.0 20240719 (Red Hat 11.5.0-11) CentOS Stream 10 Kernel: 5.15 Compiler: gcc gcc (GCC) 14.2.1 20250110 (Red Hat 14.2.1-8) Debian GNU/Linux 12 Kernel: 5.15 Compiler: gcc gcc (Debian 12.2.0-14+deb12u1) 12.2.0 Fedora Linux 42 Kernel: 5.15 Compiler: clang gcc (GCC) 15.2.1 20250808 (Red Hat 15.2.1-1) openSUSE Leap 15.6 Kernel: 5.15 Compiler: gcc gcc (SUSE Linux) 7.5.0 Red Hat Enterprise Linux 8.10 Kernel: 5.15 Compiler: gcc gcc (GCC) 8.5.0 20210514 (Red Hat 8.5.0-22) Red Hat Enterprise Linux 9.5 Kernel: 5.15 Compiler: gcc gcc (GCC) 11.5.0 20240719 (Red Hat 11.5.0-2) Windows Server 2022 Kernel: 10.0.20348.2031 Compiler: clang 15.0.7, gcc 14.1.0 (MinGW), and MSVC VS 19.39.33521 To view detailed results, visit: https://lab.dpdk.org/results/dashboard/patchsets/34223/ UNH-IOL DPDK Community Lab To manage your email subscriptions, visit: https://lab.dpdk.org/results/dashboard/preferences/subscriptions/