From mboxrd@z Thu Jan 1 00:00:00 1970 Return-Path: Received: from mails.dpdk.org (mails.dpdk.org [217.70.189.124]) by inbox.dpdk.org (Postfix) with ESMTP id 10285488DB for ; Wed, 8 Oct 2025 04:36:22 +0200 (CEST) Received: from mails.dpdk.org (localhost [127.0.0.1]) by mails.dpdk.org (Postfix) with ESMTP id E802440268; Wed, 8 Oct 2025 04:36:21 +0200 (CEST) Received: from mail-qv1-f98.google.com (mail-qv1-f98.google.com [209.85.219.98]) by mails.dpdk.org (Postfix) with ESMTP id 06CBC40268 for ; Wed, 8 Oct 2025 04:36:20 +0200 (CEST) Received: by mail-qv1-f98.google.com with SMTP id 6a1803df08f44-7f7835f4478so48474166d6.1 for ; Tue, 07 Oct 2025 19:36:19 -0700 (PDT) DKIM-Signature: v=1; a=rsa-sha256; c=relaxed/relaxed; d=iol.unh.edu; s=unh-iol; t=1759890979; x=1760495779; darn=dpdk.org; h=references:in-reply-to:cc:to:from:subject:message-id:date:from:to :cc:subject:date:message-id:reply-to; bh=zAQm7Tc5FZWe5Tp5CZWmDfWo6UFa/9wVy5OAlyJxVcc=; b=Fl1B4qBksvUuHqshvugUCzBHotR43N4r+SuBFfjXXpwti78TGDuoM7vb5QlRuOevxH TFwslv1TI2ot4oiyF+EliuM/XnRpuxpHJMW1JQLcyk1qPRy000hqK2sZig5LPlsOZsPi jNpzritB0lCmaC9ZFZkQU++nSrEbVf5ph1p1o= X-Google-DKIM-Signature: v=1; a=rsa-sha256; c=relaxed/relaxed; d=1e100.net; s=20230601; t=1759890979; x=1760495779; h=references:in-reply-to:cc:to:from:subject:message-id:date :x-gm-message-state:from:to:cc:subject:date:message-id:reply-to; bh=zAQm7Tc5FZWe5Tp5CZWmDfWo6UFa/9wVy5OAlyJxVcc=; b=TYvBoQrcli0fq9VmrO3TZ/tLEIxeKjsEIfsY/jn8O46UZxkgINHMqRP+DfDICMX/NH 7w0NwfhsUZRN0mzFv/dTPBob6JRetjMrNsyoks6TAZb8Q3ZRFpBgc5R4ur/W2UI80icX D1OjInDJR0IzKhrk6j/lWWcQEOfgLPkjEB2/FmvTohuz2ebuwMAVnScoRJb5qyBPDFvN wLA14C1V9w1H7XAWlQ+Bl0LgzjxsWGunHbR+HfYq+McUy+EyCZI3gNcj+gjCAQ/ymTue 9BRVH4IIKrxq6P6UobjoHQPUJVHvUX4EPjMFJVseJuWLk17F+wJ42B9fz8cBQDDBSrJM btvA== X-Gm-Message-State: AOJu0Yyi5Ed+VBC8qNn//ySPKE9gFDGp1MaldnAfbe/uCinjtenspVVh qLYHuvqteVnFb+vS+L+ah7MwdUAJNuPV3gfFBcZca///lIah1RzWPkO/iPRkM5Jzp3w35F8J/xE duyPMGsKAAhei4fW8h99mNhO0fFCGaAAGCf5zOBUKPWektXI4+ylKZRQruLl8 X-Gm-Gg: ASbGncvzazFdQAOXa12VFssRoijnLioVC7MXMxcdecagL76YPgSeUuIrsHDnGcwTBiK VX+PZ+NKdx4v4N0AN/5P0glOmx9cFxDCmYNhwE65Vy4PKcxH5hDGNQGqP3Crv0c1S/RRK7ecxl1 bR6jLWdOk2lT+9TR3O9Ev+hk8oHm2oVmkw+FpjtdGhawcmi22gSlPyLRjIdKDbrdUYXE96FseAg L2ojOrdrtFlIdAZTPzJUHhPP8A0OkI4BZYX9sA2AQfiGNF3zQWIs31Vo/2ffQZbUfLZrgPMEMso IIzr2DZC3YvFDd8xLgnYR0yOWA74Oq8/AhrguW8jWAP+4CvZmkzRM9M= X-Google-Smtp-Source: AGHT+IHjgZrVti2I/cLXlPClVvFG7LJlXvJyF3Fkc8SKUSktxLbpVk30xtX2IRlAC5qQBljktKjqAxNUFRsV X-Received: by 2002:ad4:4ee3:0:b0:780:4845:f347 with SMTP id 6a1803df08f44-87b2ef0d0ccmr20328466d6.44.1759890979258; Tue, 07 Oct 2025 19:36:19 -0700 (PDT) Received: from postal.iol.unh.edu (postal.iol.unh.edu. [2606:4100:3880:1234::84]) by smtp-relay.gmail.com with ESMTPS id 6a1803df08f44-878be71d05esm14336026d6.37.2025.10.07.19.36.12 (version=TLS1_2 cipher=ECDHE-ECDSA-AES128-GCM-SHA256 bits=128/128); Tue, 07 Oct 2025 19:36:19 -0700 (PDT) X-Relaying-Domain: iol.unh.edu Date: Tue, 07 Oct 2025 19:36:19 -0700 (PDT) Message-ID: <68e5ce23.050a0220.1a1ecd.db41SMTPIN_ADDED_MISSING@mx.google.com> Received: from [172.21.0.2] (unknown [172.18.0.240]) by postal.iol.unh.edu (Postfix) with ESMTP id E2A966051830; Tue, 7 Oct 2025 22:36:11 -0400 (EDT) Subject: |SUCCESS| pw157298 [PATCH] [V2] net/intel/e1000: reduce the optimiza From: dpdklab@iol.unh.edu To: Test Report Cc: dpdk-test-reports@iol.unh.edu, Bruce Richardson In-Reply-To: <20251006130257.391200-1-thierry.herbelot@6wind.com> References: <20251006130257.391200-1-thierry.herbelot@6wind.com> Content-Type: text/plain X-BeenThere: test-report@dpdk.org X-Mailman-Version: 2.1.29 Precedence: list List-Id: automatic DPDK test reports List-Unsubscribe: , List-Archive: List-Post: List-Help: List-Subscribe: , Errors-To: test-report-bounces@dpdk.org Test-Label: iol-compile-amd64-testing Test-Status: SUCCESS http://dpdk.org/patch/157298 _Testing PASS_ Submitter: Thierry Herbelot Date: Monday, October 06 2025 13:02:57 DPDK git baseline: Repo:dpdk-next-net-intel Branch: master CommitID:e7d8cc7ef4df3552575525697079d3c957cfcdaf 157298 --> testing pass Upstream job id: Generic-DPDK-Compile-Meson#431995 Test environment and result as below: +-------------------------------+--------------------+-------------------+-------------------------+----------------------+-------------------+------------------+ | Environment | dpdk_meson_compile | dpdk_msvc_compile | dpdk_llvm_clang_compile | dpdk_mingw64_compile | dpdk_compile_spdk | dpdk_compile_ovs | +===============================+====================+===================+=========================+======================+===================+==================+ | Ubuntu 20.04 | PASS | SKIPPED | SKIPPED | SKIPPED | SKIPPED | SKIPPED | +-------------------------------+--------------------+-------------------+-------------------------+----------------------+-------------------+------------------+ | FreeBSD 14.2 | PASS | SKIPPED | SKIPPED | SKIPPED | SKIPPED | SKIPPED | +-------------------------------+--------------------+-------------------+-------------------------+----------------------+-------------------+------------------+ | CentOS Stream 9 | PASS | SKIPPED | SKIPPED | SKIPPED | PASS | SKIPPED | +-------------------------------+--------------------+-------------------+-------------------------+----------------------+-------------------+------------------+ | CentOS Stream 10 | PASS | SKIPPED | SKIPPED | SKIPPED | SKIPPED | SKIPPED | +-------------------------------+--------------------+-------------------+-------------------------+----------------------+-------------------+------------------+ | Debian GNU/Linux 12 | PASS | SKIPPED | SKIPPED | SKIPPED | PASS | SKIPPED | +-------------------------------+--------------------+-------------------+-------------------------+----------------------+-------------------+------------------+ | Fedora Linux 42 | PASS | SKIPPED | SKIPPED | SKIPPED | PASS | PASS | +-------------------------------+--------------------+-------------------+-------------------------+----------------------+-------------------+------------------+ | openSUSE Leap 15.6 | PASS | SKIPPED | SKIPPED | SKIPPED | SKIPPED | SKIPPED | +-------------------------------+--------------------+-------------------+-------------------------+----------------------+-------------------+------------------+ | Red Hat Enterprise Linux 8.10 | PASS | SKIPPED | SKIPPED | SKIPPED | SKIPPED | SKIPPED | +-------------------------------+--------------------+-------------------+-------------------------+----------------------+-------------------+------------------+ | Red Hat Enterprise Linux 9.5 | PASS | SKIPPED | SKIPPED | SKIPPED | SKIPPED | SKIPPED | +-------------------------------+--------------------+-------------------+-------------------------+----------------------+-------------------+------------------+ | Ubuntu 22.04 | PASS | SKIPPED | SKIPPED | SKIPPED | PASS | SKIPPED | +-------------------------------+--------------------+-------------------+-------------------------+----------------------+-------------------+------------------+ | Ubuntu 24.04 | PASS | SKIPPED | SKIPPED | SKIPPED | PASS | PASS | +-------------------------------+--------------------+-------------------+-------------------------+----------------------+-------------------+------------------+ | Alpine Linux 3.22.0 | PASS | SKIPPED | SKIPPED | SKIPPED | SKIPPED | SKIPPED | +-------------------------------+--------------------+-------------------+-------------------------+----------------------+-------------------+------------------+ | Windows Server 2022 | SKIPPED | PASS | PASS | PASS | SKIPPED | SKIPPED | +-------------------------------+--------------------+-------------------+-------------------------+----------------------+-------------------+------------------+ Ubuntu 20.04 Kernel: 4.19 Compiler: gcc gcc (Ubuntu 9.4.0-1ubuntu1~20.04.2) 9.4.0 FreeBSD 14.2 Kernel: 14.2-RELEASE Compiler: clang 18.1.6 CentOS Stream 9 Kernel: 5.15 Compiler: gcc gcc (GCC) 11.5.0 20240719 (Red Hat 11.5.0-11) CentOS Stream 10 Kernel: 5.15 Compiler: gcc gcc (GCC) 14.2.1 20250110 (Red Hat 14.2.1-8) Debian GNU/Linux 12 Kernel: 5.15 Compiler: gcc gcc (Debian 12.2.0-14+deb12u1) 12.2.0 Fedora Linux 42 Kernel: 5.15 Compiler: clang gcc (GCC) 15.2.1 20250808 (Red Hat 15.2.1-1) openSUSE Leap 15.6 Kernel: 5.15 Compiler: gcc gcc (SUSE Linux) 7.5.0 Red Hat Enterprise Linux 8.10 Kernel: 5.15 Compiler: gcc gcc (GCC) 8.5.0 20210514 (Red Hat 8.5.0-22) Red Hat Enterprise Linux 9.5 Kernel: 5.15 Compiler: gcc gcc (GCC) 11.5.0 20240719 (Red Hat 11.5.0-2) Ubuntu 22.04 Kernel: 5.15 Compiler: gcc gcc (Ubuntu 11.4.0-1ubuntu1~22.04) 11.4.0 Ubuntu 24.04 Kernel: 5.15 Compiler: gcc gcc (Ubuntu 13.3.0-6ubuntu2~24.04) 13.3.0 Alpine Linux 3.22.0 Kernel: 5.15 Compiler: gcc gcc (Alpine 14.2.0) 14.2.0 Windows Server 2022 Kernel: 10.0.20348.2031 Compiler: clang 15.0.7, gcc 14.1.0 (MinGW), and MSVC VS 19.39.33521 To view detailed results, visit: https://lab.dpdk.org/results/dashboard/patchsets/34223/ UNH-IOL DPDK Community Lab To manage your email subscriptions, visit: https://lab.dpdk.org/results/dashboard/preferences/subscriptions/