From mboxrd@z Thu Jan 1 00:00:00 1970 Return-Path: Received: from mails.dpdk.org (mails.dpdk.org [217.70.189.124]) by inbox.dpdk.org (Postfix) with ESMTP id 988CE488DB for ; Wed, 8 Oct 2025 05:18:58 +0200 (CEST) Received: from mails.dpdk.org (localhost [127.0.0.1]) by mails.dpdk.org (Postfix) with ESMTP id 7091D40268; Wed, 8 Oct 2025 05:18:58 +0200 (CEST) Received: from mail-oo1-f99.google.com (mail-oo1-f99.google.com [209.85.161.99]) by mails.dpdk.org (Postfix) with ESMTP id A1A8540268 for ; Wed, 8 Oct 2025 05:18:56 +0200 (CEST) Received: by mail-oo1-f99.google.com with SMTP id 006d021491bc7-64e5f669511so3101610eaf.2 for ; Tue, 07 Oct 2025 20:18:56 -0700 (PDT) DKIM-Signature: v=1; a=rsa-sha256; c=relaxed/relaxed; d=iol.unh.edu; s=unh-iol; t=1759893536; x=1760498336; darn=dpdk.org; h=cc:to:from:subject:message-id:date:from:to:cc:subject:date :message-id:reply-to; bh=iCHIpg6pZFqDdZc+4vNfC/+GjiWUw0ZfLvu/wxM1kbg=; b=Ld/4mI38mmI7b3IaloO7VOAYoeWRTxXkocIkPhetbAH7VAb/MmRmOlDXXTD0jsfctz siRoVyjAaU+cqGpVipWQQYelUPfOqmIiUdkCBkMQcvpFYsTvOWa7kzuKw/yrmXGtBzyz L/iJakT1f3km+KdqkxjyFfo46ATAsCc1dGu/8= X-Google-DKIM-Signature: v=1; a=rsa-sha256; c=relaxed/relaxed; d=1e100.net; s=20230601; t=1759893536; x=1760498336; h=cc:to:from:subject:message-id:date:x-gm-message-state:from:to:cc :subject:date:message-id:reply-to; bh=iCHIpg6pZFqDdZc+4vNfC/+GjiWUw0ZfLvu/wxM1kbg=; b=s+jBP0zgibCbpBRKd+IkCSi+STabuISi+4S5lU8VQfaSDJyMxBv3DXDpLmknVsGH5x 3UbPgDP0g63Aiv1wxpwxO5iP2oHfYEFgZ2b2kUys96V/TlRrjUKOly74OEf3Z+5+EzU8 WeSEUF6ddCVKRKK1wt321sTT5KiduUgoLGrBjb/j7Gkm1bJYyNsIVMOsdd36Kn+sUpkf kItVBOBuWvrwWLvW1HWOfYKawXs8GfRKlGKlf4Po2/d5pnfEav8BA5aoWqu7BJz9CfB1 4dGipMNg7GxQAZ3eAjgAyqzRY0yZPQQ1LBaFaq/voWIn6ChfNplC+cfpQRw/+KeNEJ77 04wg== X-Gm-Message-State: AOJu0YxWp39Te3eil/XVC04jKrFeXdB8ojyYUNBA8Ltu5H3gbhMQILTm hEPZPh5tQcY6nGbbthyo0MU9Pn/jNFlA8k7B+Bv9JobwHEiPd8klYi0l7GFIC+yEYYY4fUABq3q i3Si7AJZJ8ixB4744tAMZzt8sZ5xfjbheXMwILh3RQU9D X-Gm-Gg: ASbGnctcwgcJ7JcwdxdD8O31XjoKIy4YKR83GmbljY1Z1omDBdgdX25141yCdE7tdxi 7SfQCrl1ezDw47tAQ1W22DonU4ol3fq3eWxbnijGmzlPDJwqtN/KQbUaHQgBT7Jui4qSQbbvLAE k9WTIwPU7eGswImJFgOwmTts3O+8oGdFGoNqFp43LVNjkkoBT0Mw8kn/nbHOqxripIv9tYMLNlO CkEth46xg8lXgVYa7hizjNo5ZjsJcvm22rtLelpzqeYowZwj+EBGDkHQeHP8prWDRcOadwMlrgt 3+iyp7ex6uCvws08Yo5wsrOfrQtQzKVL79PeT+2kZLe6bu4Q44lY+cGIWoRsRRl8TcVyWc34iUz p2g== X-Google-Smtp-Source: AGHT+IGnzC13siMU0/qmuWEnr9i8jkDIuAAWthZ8FGO762vCHVgU1Xam+ksFlQnNMBoe+b9vy/L1tnaO07HK X-Received: by 2002:a05:6870:1689:b0:367:a0f2:f816 with SMTP id 586e51a60fabf-3c0f5f0c46bmr975341fac.9.1759893535729; Tue, 07 Oct 2025 20:18:55 -0700 (PDT) Received: from postal.iol.unh.edu (postal.iol.unh.edu. [132.177.123.84]) by smtp-relay.gmail.com with ESMTPS id 586e51a60fabf-3ab94d9871csm1342453fac.17.2025.10.07.20.18.55 (version=TLS1_2 cipher=ECDHE-ECDSA-AES128-GCM-SHA256 bits=128/128); Tue, 07 Oct 2025 20:18:55 -0700 (PDT) X-Relaying-Domain: iol.unh.edu Date: Tue, 07 Oct 2025 20:18:55 -0700 (PDT) Message-ID: <68e5d81f.050a0220.2c3fc8.a015SMTPIN_ADDED_MISSING@mx.google.com> Received: from [172.21.0.2] (unknown [172.18.0.240]) by postal.iol.unh.edu (Postfix) with ESMTP id 1D7256051830; Tue, 7 Oct 2025 23:18:55 -0400 (EDT) Subject: |SUCCESS| [GIT MASTER] 2b403dd8fb37d0ba13723e44ffc7ee2c2795f838 From: dpdklab@iol.unh.edu To: Test Report Cc: dpdk-test-reports@iol.unh.edu, Jerin Jacob Content-Type: text/plain X-BeenThere: test-report@dpdk.org X-Mailman-Version: 2.1.29 Precedence: list List-Id: automatic DPDK test reports List-Unsubscribe: , List-Archive: List-Post: List-Help: List-Subscribe: , Errors-To: test-report-bounces@dpdk.org _Testing PASS_ Branch: dpdk-next-eventdev 2b403dd8fb37d0ba13723e44ffc7ee2c2795f838 --> testing pass Upstream job id: Generic-DPDK-Compile-Meson#432023 Test environment and result as below: +-------------------------------+--------------------+-------------------------+-------------------+----------------------+-------------------+------------------+ | Environment | dpdk_meson_compile | dpdk_llvm_clang_compile | dpdk_msvc_compile | dpdk_mingw64_compile | dpdk_compile_spdk | dpdk_compile_ovs | +===============================+====================+=========================+===================+======================+===================+==================+ | Ubuntu 20.04 | PASS | SKIPPED | SKIPPED | SKIPPED | SKIPPED | SKIPPED | +-------------------------------+--------------------+-------------------------+-------------------+----------------------+-------------------+------------------+ | FreeBSD 14.2 | PASS | SKIPPED | SKIPPED | SKIPPED | SKIPPED | SKIPPED | +-------------------------------+--------------------+-------------------------+-------------------+----------------------+-------------------+------------------+ | CentOS Stream 9 | PASS | SKIPPED | SKIPPED | SKIPPED | PASS | SKIPPED | +-------------------------------+--------------------+-------------------------+-------------------+----------------------+-------------------+------------------+ | CentOS Stream 10 | PASS | SKIPPED | SKIPPED | SKIPPED | SKIPPED | SKIPPED | +-------------------------------+--------------------+-------------------------+-------------------+----------------------+-------------------+------------------+ | Debian GNU/Linux 12 | PASS | SKIPPED | SKIPPED | SKIPPED | PASS | SKIPPED | +-------------------------------+--------------------+-------------------------+-------------------+----------------------+-------------------+------------------+ | Fedora Linux 42 | PASS | SKIPPED | SKIPPED | SKIPPED | PASS | PASS | +-------------------------------+--------------------+-------------------------+-------------------+----------------------+-------------------+------------------+ | openSUSE Leap 15.6 | PASS | SKIPPED | SKIPPED | SKIPPED | SKIPPED | SKIPPED | +-------------------------------+--------------------+-------------------------+-------------------+----------------------+-------------------+------------------+ | Red Hat Enterprise Linux 8.10 | PASS | SKIPPED | SKIPPED | SKIPPED | SKIPPED | SKIPPED | +-------------------------------+--------------------+-------------------------+-------------------+----------------------+-------------------+------------------+ | Red Hat Enterprise Linux 9.5 | PASS | SKIPPED | SKIPPED | SKIPPED | SKIPPED | SKIPPED | +-------------------------------+--------------------+-------------------------+-------------------+----------------------+-------------------+------------------+ | Ubuntu 22.04 | PASS | SKIPPED | SKIPPED | SKIPPED | PASS | SKIPPED | +-------------------------------+--------------------+-------------------------+-------------------+----------------------+-------------------+------------------+ | Ubuntu 24.04 | PASS | SKIPPED | SKIPPED | SKIPPED | PASS | PASS | +-------------------------------+--------------------+-------------------------+-------------------+----------------------+-------------------+------------------+ | Alpine Linux 3.22.0 | PASS | SKIPPED | SKIPPED | SKIPPED | SKIPPED | SKIPPED | +-------------------------------+--------------------+-------------------------+-------------------+----------------------+-------------------+------------------+ | Windows Server 2022 | SKIPPED | PASS | PASS | PASS | SKIPPED | SKIPPED | +-------------------------------+--------------------+-------------------------+-------------------+----------------------+-------------------+------------------+ Ubuntu 20.04 Kernel: 4.19 Compiler: gcc gcc (Ubuntu 9.4.0-1ubuntu1~20.04.2) 9.4.0 FreeBSD 14.2 Kernel: 14.2-RELEASE Compiler: clang 18.1.6 CentOS Stream 9 Kernel: 5.15 Compiler: gcc gcc (GCC) 11.5.0 20240719 (Red Hat 11.5.0-11) CentOS Stream 10 Kernel: 5.15 Compiler: gcc gcc (GCC) 14.2.1 20250110 (Red Hat 14.2.1-8) Debian GNU/Linux 12 Kernel: 5.15 Compiler: gcc gcc (Debian 12.2.0-14+deb12u1) 12.2.0 Fedora Linux 42 Kernel: 5.15 Compiler: clang gcc (GCC) 15.2.1 20250808 (Red Hat 15.2.1-1) openSUSE Leap 15.6 Kernel: 5.15 Compiler: gcc gcc (SUSE Linux) 7.5.0 Red Hat Enterprise Linux 8.10 Kernel: 5.15 Compiler: gcc gcc (GCC) 8.5.0 20210514 (Red Hat 8.5.0-22) Red Hat Enterprise Linux 9.5 Kernel: 5.15 Compiler: gcc gcc (GCC) 11.5.0 20240719 (Red Hat 11.5.0-2) Ubuntu 22.04 Kernel: 5.15 Compiler: gcc gcc (Ubuntu 11.4.0-1ubuntu1~22.04) 11.4.0 Ubuntu 24.04 Kernel: 5.15 Compiler: gcc gcc (Ubuntu 13.3.0-6ubuntu2~24.04) 13.3.0 Alpine Linux 3.22.0 Kernel: 5.15 Compiler: gcc gcc (Alpine 14.2.0) 14.2.0 Windows Server 2022 Kernel: 10.0.20348.2031 Compiler: clang 15.0.7, gcc 14.1.0 (MinGW), and MSVC VS 19.39.33521 To view detailed results, visit: https://lab.dpdk.org/results/dashboard/tarballs/35122/ UNH-IOL DPDK Community Lab To manage your email subscriptions, visit: https://lab.dpdk.org/results/dashboard/preferences/subscriptions/