From mboxrd@z Thu Jan 1 00:00:00 1970 Return-Path: Received: from mails.dpdk.org (mails.dpdk.org [217.70.189.124]) by inbox.dpdk.org (Postfix) with ESMTP id 89474488DB for ; Wed, 8 Oct 2025 05:30:42 +0200 (CEST) Received: from mails.dpdk.org (localhost [127.0.0.1]) by mails.dpdk.org (Postfix) with ESMTP id 687FF40268; Wed, 8 Oct 2025 05:30:42 +0200 (CEST) Received: from mail-yw1-f227.google.com (mail-yw1-f227.google.com [209.85.128.227]) by mails.dpdk.org (Postfix) with ESMTP id 2C9D740268 for ; Wed, 8 Oct 2025 05:30:40 +0200 (CEST) Received: by mail-yw1-f227.google.com with SMTP id 00721157ae682-71d6051aeafso74586517b3.2 for ; Tue, 07 Oct 2025 20:30:40 -0700 (PDT) DKIM-Signature: v=1; a=rsa-sha256; c=relaxed/relaxed; d=iol.unh.edu; s=unh-iol; t=1759894239; x=1760499039; darn=dpdk.org; h=references:in-reply-to:cc:to:from:subject:message-id:date:from:to :cc:subject:date:message-id:reply-to; bh=0uAcfi/RQyMqkk2BofTA+iiGFbyahqea6nPls/E6cO0=; b=DqxY/U5nXVHDeBQBrEjWo6kOma1wRVv+H2ZM4M565Xccrq6AX6iDVrJO6VrTqoSV5h +YSYdjohRmK8rOw32bGIIDYpi4/FPPgMJqu6Kbx0jUsvCld+6jlVLW/COItD3Hz8L7AM Lwld4TJsXqcykNUcmfvspDLnG4M7NbrVtoZjg= X-Google-DKIM-Signature: v=1; a=rsa-sha256; c=relaxed/relaxed; d=1e100.net; s=20230601; t=1759894239; x=1760499039; h=references:in-reply-to:cc:to:from:subject:message-id:date :x-gm-message-state:from:to:cc:subject:date:message-id:reply-to; bh=0uAcfi/RQyMqkk2BofTA+iiGFbyahqea6nPls/E6cO0=; b=xPQrXFqAspxc3NQzn2F2yg1p9DKD7VcJwprq5SnwLk3KX0lxbOmOmozV4kWQu56epx JH0FQuvsiNUV9Nt3/1bfdQ8InjFTzN/Bj1cHdBzbOE4NUVwq+393GRO2X0ovUQWqB3AV ThGV/027y3buseSOpZN2+ek/s5Z/8qr2Jv0L0E0rhPHH+zUvih75qrH1qBspJRA3q8Sp CshjZ/qOWpjfzvwrF8w5EcwtGASR3GrCk6l+RpnebiGYhap0HFcbTNtbj4oK2kgvU7kF 98kGRIsez47i8zWcNK7ZqkgaY19p8gKoJxTaon1M0gBbjKWEyrZ0tnmrLQZar6Oqvfa4 P7Rg== X-Gm-Message-State: AOJu0YxZval4Pow9+YTXC9T0K7FbC1JU2DKLod/bGya3H3VFEbxTCNDA WcVhB/kgKmF3jsdpCbJpU2BWjHQ+h6jXTRc4VeMtyRWa1mDOT2DLEMtteQtRW/Q6w3Zxfo4sB0U 77fPVlQSFNYCjFM3SNdbOHszrROSpku9pbsA0gP+khZF5 X-Gm-Gg: ASbGncvWlo/pOD7zhYMDJuhsBR3BU2Sd6SqMynOb3eyE6ul1cMCe2UnBcAlJfM1tnR0 VoA5j79sTe4LbKb7sgKEUj5oDehR74rtK1gMOt4wAVS5sEHdaWHyUP6g9FkwB4OP0ryHBa9SW+G q6cA5Z6tGW+iQgrBosajmVGI1P0T7fhKUB6tQdT/fD3KBDDqXEFgm+nQh2CrzlhwW5DPCqGITmD Ttt3PDu+tryP4UtyVCfbVHCgWBF3e340agwyDzn/fTuppc6FrnT5G4NlHzKPKMulqjqQ0ewMpFh Aay/CbK3bSclYHyvfPyAEgS+6xC+kZzYvdQCTAHtma8CACqztXmtzjAhTYPTxHUhOwc78F2aCo+ 1bw== X-Google-Smtp-Source: AGHT+IGz72mBRX5Iq5KnTcNPybN7IXkhaoVW7QuLNp/t1dmFcGx6N8jOcQ+kpHwodkh3ap38WTwC+xjgZMuL X-Received: by 2002:a05:690c:4a08:b0:77f:a7e3:1c8a with SMTP id 00721157ae682-780e1535aa5mr26268917b3.32.1759894239499; Tue, 07 Oct 2025 20:30:39 -0700 (PDT) Received: from postal.iol.unh.edu (postal.iol.unh.edu. [132.177.123.84]) by smtp-relay.gmail.com with ESMTPS id 00721157ae682-77f9893b89dsm7963177b3.12.2025.10.07.20.30.39 (version=TLS1_2 cipher=ECDHE-ECDSA-AES128-GCM-SHA256 bits=128/128); Tue, 07 Oct 2025 20:30:39 -0700 (PDT) X-Relaying-Domain: iol.unh.edu Date: Tue, 07 Oct 2025 20:30:39 -0700 (PDT) Message-ID: <68e5dadf.050a0220.3589b2.9daeSMTPIN_ADDED_MISSING@mx.google.com> Received: from [172.21.0.3] (unknown [172.18.0.240]) by postal.iol.unh.edu (Postfix) with ESMTP id 1BF5C6051830; Tue, 7 Oct 2025 23:30:39 -0400 (EDT) Subject: |SUCCESS| pw157278-157282 [PATCH] [5/5] net/cnxk: enable CPT CQ for From: dpdklab@iol.unh.edu To: Test Report Cc: dpdk-test-reports@iol.unh.edu In-Reply-To: <20251006051402.1387576-5-rkudurumalla@marvell.com> References: <20251006051402.1387576-5-rkudurumalla@marvell.com> Content-Type: text/plain X-BeenThere: test-report@dpdk.org X-Mailman-Version: 2.1.29 Precedence: list List-Id: automatic DPDK test reports List-Unsubscribe: , List-Archive: List-Post: List-Help: List-Subscribe: , Errors-To: test-report-bounces@dpdk.org Test-Label: iol-compile-arm64-testing Test-Status: SUCCESS http://dpdk.org/patch/157282 _Testing PASS_ Submitter: Rakesh Kudurumalla Date: Monday, October 06 2025 05:14:02 DPDK git baseline: Repo:dpdk-next-net-mrvl Branch: master CommitID:f3878b615e69a12087a6c5d212723478cfc79c31 157278-157282 --> testing pass Upstream job id: Generic-DPDK-Compile-Meson#431845 Test environment and result as below: +------------------------------+--------------------+ | Environment | dpdk_meson_compile | +==============================+====================+ | Red Hat Enterprise Linux 9.5 | PASS | +------------------------------+--------------------+ | Ubuntu 20.04 | PASS | +------------------------------+--------------------+ | Debian GNU/Linux 12 | PASS | +------------------------------+--------------------+ | Fedora Linux 42 | PASS | +------------------------------+--------------------+ | Ubuntu 22.04 | PASS | +------------------------------+--------------------+ | Ubuntu 24.04 | PASS | +------------------------------+--------------------+ | CentOS Stream 9 | PASS | +------------------------------+--------------------+ | CentOS Stream 10 | PASS | +------------------------------+--------------------+ Red Hat Enterprise Linux 9.5 Kernel: 5.4 Compiler: gcc gcc (GCC) 11.5.0 20240719 (Red Hat 11.5.0-2) Ubuntu 20.04 Kernel: 5.15 Compiler: aarch64-linux-gnu-gcc gcc (Ubuntu 9.4.0-1ubuntu1~20.04.2) 9.4.0 Debian GNU/Linux 12 Kernel: 5.4 Compiler: gcc gcc (Debian 12.2.0-14+deb12u1) 12.2.0 Fedora Linux 42 Kernel: 5.4 Compiler: gcc gcc (GCC) 15.2.1 20250808 (Red Hat 15.2.1-1) Ubuntu 22.04 Kernel: 5.4 Compiler: gcc gcc (Ubuntu 11.4.0-1ubuntu1~22.04) 11.4.0 Ubuntu 24.04 Kernel: 5.4 Compiler: gcc gcc (Ubuntu 13.3.0-6ubuntu2~24.04) 13.3.0 CentOS Stream 9 Kernel: 5.4 Compiler: gcc gcc (GCC) 11.5.0 20240719 (Red Hat 11.5.0-11) CentOS Stream 10 Kernel: 5.4 Compiler: gcc gcc (GCC) 14.2.1 20250110 (Red Hat 14.2.1-8) To view detailed results, visit: https://lab.dpdk.org/results/dashboard/patchsets/34217/ UNH-IOL DPDK Community Lab To manage your email subscriptions, visit: https://lab.dpdk.org/results/dashboard/preferences/subscriptions/