From mboxrd@z Thu Jan 1 00:00:00 1970 Return-Path: Received: from mails.dpdk.org (mails.dpdk.org [217.70.189.124]) by inbox.dpdk.org (Postfix) with ESMTP id AC8F1488DB for ; Wed, 8 Oct 2025 05:31:55 +0200 (CEST) Received: from mails.dpdk.org (localhost [127.0.0.1]) by mails.dpdk.org (Postfix) with ESMTP id A758740268; Wed, 8 Oct 2025 05:31:55 +0200 (CEST) Received: from mail-il1-f225.google.com (mail-il1-f225.google.com [209.85.166.225]) by mails.dpdk.org (Postfix) with ESMTP id 3A1A840268 for ; Wed, 8 Oct 2025 05:31:55 +0200 (CEST) Received: by mail-il1-f225.google.com with SMTP id e9e14a558f8ab-42d8ad71a51so81672555ab.1 for ; Tue, 07 Oct 2025 20:31:55 -0700 (PDT) DKIM-Signature: v=1; a=rsa-sha256; c=relaxed/relaxed; d=iol.unh.edu; s=unh-iol; t=1759894314; x=1760499114; darn=dpdk.org; h=references:in-reply-to:cc:to:from:subject:message-id:date:from:to :cc:subject:date:message-id:reply-to; bh=JFM4OPGn4Mxbrn3y0u0NhrHr2MENsXdsU/T74yX7Cv0=; b=YEfT2rTqPO0a0KQHP35i3ae9I/01C2LD5pgt69VmMsfeDo1m/5sJTe7lWkwtHzmBJ+ Ri313LHfWjFduOdV4oMC5HxFr9Nzzbr3QoaumTI+JelLBOz7fpCsU0EoAM3SXvxWsEDv k5Jq+SwjFI52eFGqIbJT7qvbd1gwGQ18EA8G4= X-Google-DKIM-Signature: v=1; a=rsa-sha256; c=relaxed/relaxed; d=1e100.net; s=20230601; t=1759894314; x=1760499114; h=references:in-reply-to:cc:to:from:subject:message-id:date :x-gm-message-state:from:to:cc:subject:date:message-id:reply-to; bh=JFM4OPGn4Mxbrn3y0u0NhrHr2MENsXdsU/T74yX7Cv0=; b=bG34lYfTTYKY0sfsQ9JlMtOtqYI8b9JGN3BMOyUNdFI3rtH1SrIbGhz83Sb0t8A9FJ bVHHN/Fu4j2HBBg/j7PV5d+NlkgPA//p6vAcv43i5Wjp6dBXjajHqpvjO3+WphQ9woT2 mKJrCzUyNek7PMzmQMdIJu+OZhjnNML74S83VrciCPCka8GCAFa+wQSnifChgzqcvw+a W4ISCHFwpuYiJcP2UIwPkAQZwbQ7PDoO4/uM4GCv14DABJVDLd4Z04w2qqz+azfqLwKR GN5jtmVSFazz+EIqL5aIq+GYSfTYWC6ckqdR2eJMohGu9ED9nj4C8ARRXOCAPdye+RMI 3m6w== X-Gm-Message-State: AOJu0Yzl88jxQnfffL8/MlWAaJ5pi3q2xHeTTSjxe1+Smsi2mUpDIRKR W6SkaPbOxXbVYJHQFmNKQ8L7y5WiEsy3wr0ngiwabX3NlFLr8bNDXVjQlLa5oawXOz8l7XWdkaP dRhXTimtUoufhrCifqw2ZCYOhNqQ31qYoe5fpj1WPGCQC X-Gm-Gg: ASbGncuGt9+eN9k3KPzKS/htrnvLef8QP8g39mMLghQZTehit/oohilvfTyBsiTxJCz SMbRbF/kOZt99eJx0QSp6Da9fD56+d/4F99mqTISjPDwFdR40l/yjOnBlVi1eBo98Vo/q2R9mJa YDxO4n2YO3sElBYky87V7Wr+MF2Tk4uvcn4mri+h0BOkFs9DVy3olTuG1HwCaYnEE/KxlSoE3/F 2daS5y080IL+bkXsLFUT42Tz5oOz4HMDt6YFTzYTeV5splXY0KvoAIRRzD02L7xYn/bbczq+7wk GZ7krrc2BU8a1H/6P61dJiib6f200c3RaDlmt6FlPpjqUwy1Pw1rEaU5gMk2eNkDsayc9K3CxSE wRg== X-Google-Smtp-Source: AGHT+IGDhs0YVfaqaGuIR2ordOBuon3R0HvfPKq7CKNOifLKY2Gz7XoZ1hbOmzbm7IXLqAAbhMesiYXchifb X-Received: by 2002:a05:6e02:1987:b0:428:e543:1b2 with SMTP id e9e14a558f8ab-42f8734708emr15508615ab.1.1759894314405; Tue, 07 Oct 2025 20:31:54 -0700 (PDT) Received: from postal.iol.unh.edu (postal.iol.unh.edu. [132.177.123.84]) by smtp-relay.gmail.com with ESMTPS id 8926c6da1cb9f-58840eb166bsm154035173.29.2025.10.07.20.31.54 (version=TLS1_2 cipher=ECDHE-ECDSA-AES128-GCM-SHA256 bits=128/128); Tue, 07 Oct 2025 20:31:54 -0700 (PDT) X-Relaying-Domain: iol.unh.edu Date: Tue, 07 Oct 2025 20:31:54 -0700 (PDT) Message-ID: <68e5db2a.050a0220.247b82.95e0SMTPIN_ADDED_MISSING@mx.google.com> Received: from [172.21.0.2] (unknown [172.18.0.240]) by postal.iol.unh.edu (Postfix) with ESMTP id EC0006051830; Tue, 7 Oct 2025 23:31:53 -0400 (EDT) Subject: |SUCCESS| pw157299-157302 [PATCH] [v4,4/4] doc: add doc for dictiona From: dpdklab@iol.unh.edu To: Test Report Cc: dpdk-test-reports@iol.unh.edu, Akhil Goyal In-Reply-To: <20251006200904.2467957-4-svaze@qti.qualcomm.com> References: <20251006200904.2467957-4-svaze@qti.qualcomm.com> Content-Type: text/plain X-BeenThere: test-report@dpdk.org X-Mailman-Version: 2.1.29 Precedence: list List-Id: automatic DPDK test reports List-Unsubscribe: , List-Archive: List-Post: List-Help: List-Subscribe: , Errors-To: test-report-bounces@dpdk.org Test-Label: iol-compile-amd64-testing Test-Status: SUCCESS http://dpdk.org/patch/157302 _Testing PASS_ Submitter: Sameer Vaze Date: Monday, October 06 2025 20:09:04 DPDK git baseline: Repo:dpdk-next-crypto Branch: master CommitID:caa17cb4b057a31ee04067459fe543f7d7ae1079 157299-157302 --> testing pass Upstream job id: Generic-DPDK-Compile-Meson#432027 Test environment and result as below: +-------------------------------+--------------------+-------------------------+-------------------+----------------------+-------------------+------------------+ | Environment | dpdk_meson_compile | dpdk_llvm_clang_compile | dpdk_msvc_compile | dpdk_mingw64_compile | dpdk_compile_spdk | dpdk_compile_ovs | +===============================+====================+=========================+===================+======================+===================+==================+ | Ubuntu 20.04 | PASS | SKIPPED | SKIPPED | SKIPPED | SKIPPED | SKIPPED | +-------------------------------+--------------------+-------------------------+-------------------+----------------------+-------------------+------------------+ | FreeBSD 14.2 | PASS | SKIPPED | SKIPPED | SKIPPED | SKIPPED | SKIPPED | +-------------------------------+--------------------+-------------------------+-------------------+----------------------+-------------------+------------------+ | CentOS Stream 9 | PASS | SKIPPED | SKIPPED | SKIPPED | PASS | SKIPPED | +-------------------------------+--------------------+-------------------------+-------------------+----------------------+-------------------+------------------+ | CentOS Stream 10 | PASS | SKIPPED | SKIPPED | SKIPPED | SKIPPED | SKIPPED | +-------------------------------+--------------------+-------------------------+-------------------+----------------------+-------------------+------------------+ | Debian GNU/Linux 12 | PASS | SKIPPED | SKIPPED | SKIPPED | PASS | SKIPPED | +-------------------------------+--------------------+-------------------------+-------------------+----------------------+-------------------+------------------+ | Fedora Linux 42 | PASS | SKIPPED | SKIPPED | SKIPPED | PASS | PASS | +-------------------------------+--------------------+-------------------------+-------------------+----------------------+-------------------+------------------+ | openSUSE Leap 15.6 | PASS | SKIPPED | SKIPPED | SKIPPED | SKIPPED | SKIPPED | +-------------------------------+--------------------+-------------------------+-------------------+----------------------+-------------------+------------------+ | Red Hat Enterprise Linux 8.10 | PASS | SKIPPED | SKIPPED | SKIPPED | SKIPPED | SKIPPED | +-------------------------------+--------------------+-------------------------+-------------------+----------------------+-------------------+------------------+ | Red Hat Enterprise Linux 9.5 | PASS | SKIPPED | SKIPPED | SKIPPED | SKIPPED | SKIPPED | +-------------------------------+--------------------+-------------------------+-------------------+----------------------+-------------------+------------------+ | Ubuntu 22.04 | PASS | SKIPPED | SKIPPED | SKIPPED | PASS | SKIPPED | +-------------------------------+--------------------+-------------------------+-------------------+----------------------+-------------------+------------------+ | Alpine Linux 3.22.0 | PASS | SKIPPED | SKIPPED | SKIPPED | SKIPPED | SKIPPED | +-------------------------------+--------------------+-------------------------+-------------------+----------------------+-------------------+------------------+ | Ubuntu 24.04 | PASS | SKIPPED | SKIPPED | SKIPPED | PASS | PASS | +-------------------------------+--------------------+-------------------------+-------------------+----------------------+-------------------+------------------+ | Windows Server 2022 | SKIPPED | PASS | PASS | PASS | SKIPPED | SKIPPED | +-------------------------------+--------------------+-------------------------+-------------------+----------------------+-------------------+------------------+ Ubuntu 20.04 Kernel: 4.19 Compiler: gcc gcc (Ubuntu 9.4.0-1ubuntu1~20.04.2) 9.4.0 FreeBSD 14.2 Kernel: 14.2-RELEASE Compiler: clang 18.1.6 CentOS Stream 9 Kernel: 5.15 Compiler: gcc gcc (GCC) 11.5.0 20240719 (Red Hat 11.5.0-11) CentOS Stream 10 Kernel: 5.15 Compiler: gcc gcc (GCC) 14.2.1 20250110 (Red Hat 14.2.1-8) Debian GNU/Linux 12 Kernel: 5.15 Compiler: gcc gcc (Debian 12.2.0-14+deb12u1) 12.2.0 Fedora Linux 42 Kernel: 5.15 Compiler: clang gcc (GCC) 15.2.1 20250808 (Red Hat 15.2.1-1) openSUSE Leap 15.6 Kernel: 5.15 Compiler: gcc gcc (SUSE Linux) 7.5.0 Red Hat Enterprise Linux 8.10 Kernel: 5.15 Compiler: gcc gcc (GCC) 8.5.0 20210514 (Red Hat 8.5.0-22) Red Hat Enterprise Linux 9.5 Kernel: 5.15 Compiler: gcc gcc (GCC) 11.5.0 20240719 (Red Hat 11.5.0-2) Ubuntu 22.04 Kernel: 5.15 Compiler: gcc gcc (Ubuntu 11.4.0-1ubuntu1~22.04) 11.4.0 Alpine Linux 3.22.0 Kernel: 5.15 Compiler: gcc gcc (Alpine 14.2.0) 14.2.0 Ubuntu 24.04 Kernel: 5.15 Compiler: gcc gcc (Ubuntu 13.3.0-6ubuntu2~24.04) 13.3.0 Windows Server 2022 Kernel: 10.0.20348.2031 Compiler: clang 15.0.7, gcc 14.1.0 (MinGW), and MSVC VS 19.39.33521 To view detailed results, visit: https://lab.dpdk.org/results/dashboard/patchsets/34224/ UNH-IOL DPDK Community Lab To manage your email subscriptions, visit: https://lab.dpdk.org/results/dashboard/preferences/subscriptions/