From mboxrd@z Thu Jan 1 00:00:00 1970 Return-Path: Received: from mails.dpdk.org (mails.dpdk.org [217.70.189.124]) by inbox.dpdk.org (Postfix) with ESMTP id 415B9488DE for ; Wed, 8 Oct 2025 06:38:30 +0200 (CEST) Received: from mails.dpdk.org (localhost [127.0.0.1]) by mails.dpdk.org (Postfix) with ESMTP id 3BA2D40431; Wed, 8 Oct 2025 06:38:30 +0200 (CEST) Received: from mail-io1-f99.google.com (mail-io1-f99.google.com [209.85.166.99]) by mails.dpdk.org (Postfix) with ESMTP id 67414402A8 for ; Wed, 8 Oct 2025 06:38:28 +0200 (CEST) Received: by mail-io1-f99.google.com with SMTP id ca18e2360f4ac-90926724bceso600226039f.1 for ; Tue, 07 Oct 2025 21:38:28 -0700 (PDT) DKIM-Signature: v=1; a=rsa-sha256; c=relaxed/relaxed; d=iol.unh.edu; s=unh-iol; t=1759898308; x=1760503108; darn=dpdk.org; h=cc:to:from:subject:message-id:date:from:to:cc:subject:date :message-id:reply-to; bh=Z6y4MVT4RcHDmD9NJrSNso4QxjCZCjLfD3PTwdQxYB4=; b=Dhf/DjM2ykMHxekxM+E+P1C4GgGIbA+qBSfJ3NRYDrTK8wdIWY2jzpz3jlQc2DOh2/ JjaFd51MUezT4fZl90LlIIB18UUciSPkh7EJ27IbztmATBzlxPUg+/aSdJSurI+F8A8G Swz5NfCq/5qewNmVfzYyjdDaERjK2wTHBQAYI= X-Google-DKIM-Signature: v=1; a=rsa-sha256; c=relaxed/relaxed; d=1e100.net; s=20230601; t=1759898308; x=1760503108; h=cc:to:from:subject:message-id:date:x-gm-message-state:from:to:cc :subject:date:message-id:reply-to; bh=Z6y4MVT4RcHDmD9NJrSNso4QxjCZCjLfD3PTwdQxYB4=; b=CqWMR4+Y5IeEJXSGI6jIdGxbqJVXunUny+7Q5Gqq7ceGYL/N1lUXq19WLhm6zYlMrp F/s96bBvqbQJ4biY66DLyoHeWwo0oD87fu6L/AajB+ccqSsqyCg11S8nWWDKB+WIbQ6C zmPyl8ljfRfyWtuCzb3nmlLNQXWPcH2AbqZGr+jHtAzqPoePWZHK8bnbO08olgfbeazc AWAXrfofUSPisidLfSFhyWVr54Bs1LqyD4nc7tb6POy/UEdJQZ1w9uci/0KPdvrI3sEq 16alCzs5gY3dAPx8ocqM3N17rApEGXp1SMobh8y1kx1Ojl6F6SQScmfVvaR3lAiKETVH AmIw== X-Gm-Message-State: AOJu0YyCxXvTOIHB/YTQWcuAYBbaQ+IJ8vuzyuaYqJFH5qqA1viHXyNh 32cB/p6CiAMQIbnFSYYkJ2JKoQeAZoINcEZ/hZLhx3yjsin5sXzoLcriOFFHDoL6F+RP8GJQbs4 Jb01U0QjpYCHn3KXrMezPwpk8mEicpcbfQG/lzpZ/ZxP49dhs74SY X-Gm-Gg: ASbGncvSA12SmccC/lV9l/sIyjT2BSdrOpQ+HoqnqPH2RMZK9acOOULT+I4Jyme6Fok jyL2Ob4Q/lNtx/sZ/qfJ6pZLMJHrmUqMF1+tMv6mDYbC6zlVrG04M6UeFrkHvxxSFlxU/nsfaOI k+cvv4mrc2RFl0xvOgzLE10H4btd6rZwX3Q3rOOsBMNu51kINu8SUj/m2R1oC6YSHbXN606tj1O 4GmtbljlTRiY5Fexj6TEYdh/jxce8GwE521P2LU89fvLsZaINSy1vkJ5sUXeS1SGmfYna3hdSDS Ld8y4yXh87OPCjeDveZEdxlSLYw82+r3lQqi8wJmXoQGDAzCnqoN/FU= X-Google-Smtp-Source: AGHT+IEjQNkDVlI4uwpukn7DEGe720xKb715TnxW+8yZou5AiPdHFsuV97WyXIDrxY0NUG+2W7xMMnO/BkVQ X-Received: by 2002:a05:6602:6cc9:b0:928:6b27:1d75 with SMTP id ca18e2360f4ac-93bd19b0dacmr222820839f.19.1759898307713; Tue, 07 Oct 2025 21:38:27 -0700 (PDT) Received: from postal.iol.unh.edu (postal.iol.unh.edu. [2606:4100:3880:1234::84]) by smtp-relay.gmail.com with ESMTPS id ca18e2360f4ac-93a85624c16sm85307839f.15.2025.10.07.21.38.27 (version=TLS1_2 cipher=ECDHE-ECDSA-AES128-GCM-SHA256 bits=128/128); Tue, 07 Oct 2025 21:38:27 -0700 (PDT) X-Relaying-Domain: iol.unh.edu Date: Tue, 07 Oct 2025 21:38:27 -0700 (PDT) Message-ID: <68e5eac3.6b0a0220.18d2a9.e2d9SMTPIN_ADDED_MISSING@mx.google.com> Received: from [172.21.0.2] (unknown [172.18.0.240]) by postal.iol.unh.edu (Postfix) with ESMTP id 4B28C6051835; Wed, 8 Oct 2025 00:38:27 -0400 (EDT) Subject: |SUCCESS| [GIT MASTER] b287e404643aeab5bb5db084c142789df187844e From: dpdklab@iol.unh.edu To: Test Report Cc: dpdk-test-reports@iol.unh.edu, Xueming Li , Christian Ehrhardt , Kevin Traynor , Luca Boccassi Content-Type: text/plain X-BeenThere: test-report@dpdk.org X-Mailman-Version: 2.1.29 Precedence: list List-Id: automatic DPDK test reports List-Unsubscribe: , List-Archive: List-Post: List-Help: List-Subscribe: , Errors-To: test-report-bounces@dpdk.org _Testing PASS_ Branch: tags/v24.11 b287e404643aeab5bb5db084c142789df187844e --> testing pass Upstream job id: Generic-VM-DPDK-Compile-Meson#38849 Test environment and result as below: +---------------------+--------------------+-------------------+-------------------------+----------------------+ | Environment | dpdk_meson_compile | dpdk_msvc_compile | dpdk_llvm_clang_compile | dpdk_mingw64_compile | +=====================+====================+===================+=========================+======================+ | Ubuntu 20.04 | PASS | SKIPPED | SKIPPED | SKIPPED | +---------------------+--------------------+-------------------+-------------------------+----------------------+ | FreeBSD 14.2 | PASS | SKIPPED | SKIPPED | SKIPPED | +---------------------+--------------------+-------------------+-------------------------+----------------------+ | Windows Server 2022 | SKIPPED | PASS | PASS | PASS | +---------------------+--------------------+-------------------+-------------------------+----------------------+ Ubuntu 20.04 Kernel: 4.19 Compiler: gcc gcc (Ubuntu 9.4.0-1ubuntu1~20.04.2) 9.4.0 FreeBSD 14.2 Kernel: 14.2-RELEASE Compiler: clang 18.1.6 Windows Server 2022 Kernel: 10.0.20348.2031 Compiler: clang 15.0.7, gcc 14.1.0 (MinGW), and MSVC VS 19.39.33521 To view detailed results, visit: https://lab.dpdk.org/results/dashboard/tarballs/35138/ UNH-IOL DPDK Community Lab To manage your email subscriptions, visit: https://lab.dpdk.org/results/dashboard/preferences/subscriptions/