From mboxrd@z Thu Jan 1 00:00:00 1970 Return-Path: Received: from mails.dpdk.org (mails.dpdk.org [217.70.189.124]) by inbox.dpdk.org (Postfix) with ESMTP id 38F8A488DC for ; Wed, 8 Oct 2025 06:38:30 +0200 (CEST) Received: from mails.dpdk.org (localhost [127.0.0.1]) by mails.dpdk.org (Postfix) with ESMTP id 33CD8402A0; Wed, 8 Oct 2025 06:38:30 +0200 (CEST) Received: from mail-il1-f228.google.com (mail-il1-f228.google.com [209.85.166.228]) by mails.dpdk.org (Postfix) with ESMTP id 6107C402A0 for ; Wed, 8 Oct 2025 06:38:28 +0200 (CEST) Received: by mail-il1-f228.google.com with SMTP id e9e14a558f8ab-42e726431bdso2727415ab.1 for ; Tue, 07 Oct 2025 21:38:28 -0700 (PDT) DKIM-Signature: v=1; a=rsa-sha256; c=relaxed/relaxed; d=iol.unh.edu; s=unh-iol; t=1759898308; x=1760503108; darn=dpdk.org; h=cc:to:from:subject:message-id:date:from:to:cc:subject:date :message-id:reply-to; bh=ceThgM0qXeeFh/dXdZoXCnvqYVmlDdRrhcdY9ZaXO14=; b=DFGc87Czz3dUHUekcyqs4m0w8x63wJ38n2kaU+++ku5JYuD6Y/srdJ/eLCI8Ac5M8h caewEk4mghzojJYYOeSJ/82oxaTSZWbGPcWNZUW3IFwAAhC/tbEHr0GZD9Ft3T+e4jVQ 8cbYoEBJyJAjWb1/DOVCHZR50mIsgrOA+EYQ4= X-Google-DKIM-Signature: v=1; a=rsa-sha256; c=relaxed/relaxed; d=1e100.net; s=20230601; t=1759898308; x=1760503108; h=cc:to:from:subject:message-id:date:x-gm-message-state:from:to:cc :subject:date:message-id:reply-to; bh=ceThgM0qXeeFh/dXdZoXCnvqYVmlDdRrhcdY9ZaXO14=; b=WC+94Yk2Z0V2EUP8EmbrI0qG1mIWaDaadvZl6WzPa5M/5qHDcwiERwATxv7TJTKz0c 8Lldg9vZnsI02/in+SYkC3pHuZXWh8vV5PbTEZ5UH47Ryoq0PUgoV/zXCuwUu6T2UpnY rY2IyPOr8j1GTKjKUReqo7rH+jwD+xes335gNZNQVngKDfP6FdFDPxXOU8/tEsiORb49 jTyRLsYqfAtrlmKKVYI0tDAYVCbBH/R169HlKwszOVIMoNwsr7Vq9FRiqSMt8D6huzW5 WvSm7AmOTldjQ/MFozp8BgBfAA+BuWVN1bpvnaXrmRmQcrXxLrLSf1ekZJSQmkQjqg+t S8BQ== X-Gm-Message-State: AOJu0Yx+s2j0PAovuv8TpCuXrMjI2OnUCfypo+t1okObV0uiBISAzLoW kkYPm5XmIvb94kmrXQYZ5KdW4+/PhAzmGKZTSfMRqGKcRhcZXG4QxQNk/ZA0nYVCoEZzRmKX7AM FyBt/G/s2a7++Rj/49JinMLAI3bGCwhavvLWva4+cwwELElr9GOgV X-Gm-Gg: ASbGnctt/XYcJieZKVEDuFIot826eZSIDj9r15rVOm3P/trXmWie1Hsjos6c9Jn75sO 5Aa8nlLooeWe/G8ni3IUWVLibFvAX6nlw3ajVk3adxyTYRM/Gq46wAnzMza6jrBBY86nbXQRxZv zRPzHcXMd/7wzEATvVlHlBqmhZhZh0pFfCSeFY8HCHHQcLbMlEkbePIjhAx3jb2eau5WBNM6Gmz 4QzCZ+OCnGePiGRInXAYP0BkGI7b2ecdun2n7rzYAGps8f2RgZhfkrgd6RHt6Hwn3ebqEMAO+pl sO3WKNjNkBGwwbDu0ZXoFt2Si/DHNrqk4IDstbzJYPQG2bQIgMVC72M= X-Google-Smtp-Source: AGHT+IGuIv/y9Idu4oePYW34Zehn+zkCDM0E6pgrIV4j8qkLGAKymaddnVnv6fdSch/t2Phqut59ifyaqAEV X-Received: by 2002:a05:6e02:1688:b0:424:7128:a06a with SMTP id e9e14a558f8ab-42f87417ff1mr18723055ab.7.1759898307559; Tue, 07 Oct 2025 21:38:27 -0700 (PDT) Received: from postal.iol.unh.edu (postal.iol.unh.edu. [2606:4100:3880:1234::84]) by smtp-relay.gmail.com with ESMTPS id e9e14a558f8ab-42d8b1fddfbsm13617565ab.3.2025.10.07.21.38.27 (version=TLS1_2 cipher=ECDHE-ECDSA-AES128-GCM-SHA256 bits=128/128); Tue, 07 Oct 2025 21:38:27 -0700 (PDT) X-Relaying-Domain: iol.unh.edu Date: Tue, 07 Oct 2025 21:38:27 -0700 (PDT) Message-ID: <68e5eac3.920a0220.c7e1d.5964SMTPIN_ADDED_MISSING@mx.google.com> Received: from [172.21.0.3] (unknown [172.18.0.240]) by postal.iol.unh.edu (Postfix) with ESMTP id 26D266051830; Wed, 8 Oct 2025 00:38:27 -0400 (EDT) Subject: |SUCCESS| [GIT MASTER] 3b43ce3f4a54468e7ef65760c2fd7b4d6ee6d9fc From: dpdklab@iol.unh.edu To: Test Report Cc: dpdk-test-reports@iol.unh.edu, Xueming Li , Christian Ehrhardt , Kevin Traynor , Luca Boccassi Content-Type: text/plain X-BeenThere: test-report@dpdk.org X-Mailman-Version: 2.1.29 Precedence: list List-Id: automatic DPDK test reports List-Unsubscribe: , List-Archive: List-Post: List-Help: List-Subscribe: , Errors-To: test-report-bounces@dpdk.org _Testing PASS_ Branch: tags/v22.11 3b43ce3f4a54468e7ef65760c2fd7b4d6ee6d9fc --> testing pass Upstream job id: Generic-VM-DPDK-Compile-Meson#38847 Test environment and result as below: +---------------------+--------------------+-------------------------+----------------------+ | Environment | dpdk_meson_compile | dpdk_llvm_clang_compile | dpdk_mingw64_compile | +=====================+====================+=========================+======================+ | Ubuntu 20.04 | PASS | SKIPPED | SKIPPED | +---------------------+--------------------+-------------------------+----------------------+ | FreeBSD 14.2 | PASS | SKIPPED | SKIPPED | +---------------------+--------------------+-------------------------+----------------------+ | Windows Server 2022 | SKIPPED | PASS | PASS | +---------------------+--------------------+-------------------------+----------------------+ Ubuntu 20.04 Kernel: 4.19 Compiler: gcc gcc (Ubuntu 9.4.0-1ubuntu1~20.04.2) 9.4.0 FreeBSD 14.2 Kernel: 14.2-RELEASE Compiler: clang 18.1.6 Windows Server 2022 Kernel: 10.0.20348.2031 Compiler: clang 15.0.7, gcc 14.1.0 (MinGW), and MSVC VS 19.39.33521 To view detailed results, visit: https://lab.dpdk.org/results/dashboard/tarballs/35139/ UNH-IOL DPDK Community Lab To manage your email subscriptions, visit: https://lab.dpdk.org/results/dashboard/preferences/subscriptions/