From mboxrd@z Thu Jan 1 00:00:00 1970 Return-Path: Received: from mails.dpdk.org (mails.dpdk.org [217.70.189.124]) by inbox.dpdk.org (Postfix) with ESMTP id 311A8488DC for ; Wed, 8 Oct 2025 07:07:26 +0200 (CEST) Received: from mails.dpdk.org (localhost [127.0.0.1]) by mails.dpdk.org (Postfix) with ESMTP id 271D640297; Wed, 8 Oct 2025 07:07:26 +0200 (CEST) Received: from mail-qk1-f227.google.com (mail-qk1-f227.google.com [209.85.222.227]) by mails.dpdk.org (Postfix) with ESMTP id 1A0A840297 for ; Wed, 8 Oct 2025 07:07:25 +0200 (CEST) Received: by mail-qk1-f227.google.com with SMTP id af79cd13be357-8572d7b2457so70315485a.1 for ; Tue, 07 Oct 2025 22:07:25 -0700 (PDT) DKIM-Signature: v=1; a=rsa-sha256; c=relaxed/relaxed; d=iol.unh.edu; s=unh-iol; t=1759900044; x=1760504844; darn=dpdk.org; h=cc:to:from:subject:message-id:date:from:to:cc:subject:date :message-id:reply-to; bh=0JTzUMKCPwYFzshVnI1tL6AyDxNZ5rISGuEjXmsFgPw=; b=WVp+vwprgq8UK2VFB4fkjJ9hoqfmpQcJTVXC331Pff44BdY4C6JWnCVwWjrwDSKgq3 nG1/TnSvkphnNRuRRxWPLUDCBFPGQDNoXW4fD5SRXM6ZTizgkVjjrHLRxKC/9QHJWA/A TuuOfxKTo5yqP6Jss8g4OE2AFY/3Z0w30DmXs= X-Google-DKIM-Signature: v=1; a=rsa-sha256; c=relaxed/relaxed; d=1e100.net; s=20230601; t=1759900044; x=1760504844; h=cc:to:from:subject:message-id:date:x-gm-message-state:from:to:cc :subject:date:message-id:reply-to; bh=0JTzUMKCPwYFzshVnI1tL6AyDxNZ5rISGuEjXmsFgPw=; b=L047dgMwZa74fW2R/BiFrk5QYaVthXVVLHhDrjigVUM7P9Fjjg5ogxUyOY44fRRkqA AroxohV2vmFwc8LNBf2Wg16YrkJItzjqnIgG5b25QMIAaX9O6OQUIYnwGBRRrQjfohHB MaNtBLOfphTqUQgNCa5hdRD+soYF276Z71TE5Mm52L4DPLwrgzeqCar4cg9gonUq6Sv4 TtYz05V0nEtsNBZjg3HV0RWWhfztiUGGvFshnq9g6Z1Xr2a8oQGYklBhXUi61pwMWrpl yddCn9SgTHm0YSfT7nOi7bODUihWi9ky3Tc1jWYJVsom2Xg6V1Vwdsd1oKoh+rMKhVmy zV6g== X-Gm-Message-State: AOJu0Yw7oeVTwBxM1W5nAMDMK43FJog2vKZCeRvEX8NEHxN5JPWHDN0y oRrIX+hRDu1/eKLubg6tculZOkixyAobfNBgDfG07djYeDjVrXjIG0s3TG+Uma6xTCUkfT3wQkF wJiuVvGaEgxxqiP9IgGOjYm8F1RaRjD6zlgyT2ehtdnK7y0lsTboN X-Gm-Gg: ASbGncuVMqfFZ3kk4bDxd+3+B+e6UbHKL7orkJPxa72u1t6M4xvYhs7wJLEZWSv7Cix a+H+Y8q9wpzwLFAv/b2prW/Wy6vDtqeBRgbCVRSfels4qIWVv7hMgqqV6oJPuPpqErFHjJNBi2K NeVhSps3GtOthG6St4oNxesAlSfgZ0J2allu31WLiK4vlZK+B3qn6/LaB+1vp1PRhYd7PXqHSLe Y34o6qHuL0y1wUhEek1DVRbw2NYw1WujyhI7jcoysAvsR/0qdvyFRcW2c+d8FuLvr3JqHsFWyYC FVK4T3GMdJXHS3NYbNFafSmIjYENWCWzX/BcEY7V64wk41eEEjakLWU= X-Google-Smtp-Source: AGHT+IEfASNmAkoQdoJ7t+JVsuv7FCSgv7oXzVFnrEiJtAUtYCit6CtV/SH2EyBF14xrLjMcBUfa2NWp1lmY X-Received: by 2002:a05:620a:1a90:b0:84d:26f0:614 with SMTP id af79cd13be357-8820b47d77cmr691801185a.18.1759900044402; Tue, 07 Oct 2025 22:07:24 -0700 (PDT) Received: from postal.iol.unh.edu (postal.iol.unh.edu. [2606:4100:3880:1234::84]) by smtp-relay.gmail.com with ESMTPS id af79cd13be357-87776d60b67sm119849585a.7.2025.10.07.22.07.24 (version=TLS1_2 cipher=ECDHE-ECDSA-AES128-GCM-SHA256 bits=128/128); Tue, 07 Oct 2025 22:07:24 -0700 (PDT) X-Relaying-Domain: iol.unh.edu Date: Tue, 07 Oct 2025 22:07:24 -0700 (PDT) Message-ID: <68e5f18c.050a0220.1405b8.11f6SMTPIN_ADDED_MISSING@mx.google.com> Received: from [172.21.0.2] (unknown [172.18.0.240]) by postal.iol.unh.edu (Postfix) with ESMTP id 2183D6051830; Wed, 8 Oct 2025 01:07:24 -0400 (EDT) Subject: |SUCCESS| [GIT MASTER] b287e404643aeab5bb5db084c142789df187844e From: dpdklab@iol.unh.edu To: Test Report Cc: dpdk-test-reports@iol.unh.edu, Xueming Li , Christian Ehrhardt , Kevin Traynor , Luca Boccassi Content-Type: text/plain X-BeenThere: test-report@dpdk.org X-Mailman-Version: 2.1.29 Precedence: list List-Id: automatic DPDK test reports List-Unsubscribe: , List-Archive: List-Post: List-Help: List-Subscribe: , Errors-To: test-report-bounces@dpdk.org _Testing PASS_ Branch: tags/v24.11 b287e404643aeab5bb5db084c142789df187844e --> testing pass Upstream job id: Generic-DPDK-Compile-Meson#432062 Test environment and result as below: +-------------------------------+--------------------+-------------------------+-------------------+----------------------+-------------------+------------------+ | Environment | dpdk_meson_compile | dpdk_llvm_clang_compile | dpdk_msvc_compile | dpdk_mingw64_compile | dpdk_compile_spdk | dpdk_compile_ovs | +===============================+====================+=========================+===================+======================+===================+==================+ | Ubuntu 20.04 | PASS | SKIPPED | SKIPPED | SKIPPED | SKIPPED | SKIPPED | +-------------------------------+--------------------+-------------------------+-------------------+----------------------+-------------------+------------------+ | FreeBSD 14.2 | PASS | SKIPPED | SKIPPED | SKIPPED | SKIPPED | SKIPPED | +-------------------------------+--------------------+-------------------------+-------------------+----------------------+-------------------+------------------+ | CentOS Stream 9 | PASS | SKIPPED | SKIPPED | SKIPPED | PASS | SKIPPED | +-------------------------------+--------------------+-------------------------+-------------------+----------------------+-------------------+------------------+ | CentOS Stream 10 | PASS | SKIPPED | SKIPPED | SKIPPED | SKIPPED | SKIPPED | +-------------------------------+--------------------+-------------------------+-------------------+----------------------+-------------------+------------------+ | Debian GNU/Linux 12 | PASS | SKIPPED | SKIPPED | SKIPPED | PASS | SKIPPED | +-------------------------------+--------------------+-------------------------+-------------------+----------------------+-------------------+------------------+ | Fedora Linux 42 | PASS | SKIPPED | SKIPPED | SKIPPED | PASS | PASS | +-------------------------------+--------------------+-------------------------+-------------------+----------------------+-------------------+------------------+ | openSUSE Leap 15.6 | PASS | SKIPPED | SKIPPED | SKIPPED | SKIPPED | SKIPPED | +-------------------------------+--------------------+-------------------------+-------------------+----------------------+-------------------+------------------+ | Red Hat Enterprise Linux 8.10 | PASS | SKIPPED | SKIPPED | SKIPPED | SKIPPED | SKIPPED | +-------------------------------+--------------------+-------------------------+-------------------+----------------------+-------------------+------------------+ | Red Hat Enterprise Linux 9.5 | PASS | SKIPPED | SKIPPED | SKIPPED | SKIPPED | SKIPPED | +-------------------------------+--------------------+-------------------------+-------------------+----------------------+-------------------+------------------+ | Ubuntu 22.04 | PASS | SKIPPED | SKIPPED | SKIPPED | PASS | SKIPPED | +-------------------------------+--------------------+-------------------------+-------------------+----------------------+-------------------+------------------+ | Ubuntu 24.04 | PASS | SKIPPED | SKIPPED | SKIPPED | PASS | PASS | +-------------------------------+--------------------+-------------------------+-------------------+----------------------+-------------------+------------------+ | Alpine Linux 3.22.0 | PASS | SKIPPED | SKIPPED | SKIPPED | SKIPPED | SKIPPED | +-------------------------------+--------------------+-------------------------+-------------------+----------------------+-------------------+------------------+ | Windows Server 2022 | SKIPPED | PASS | PASS | PASS | SKIPPED | SKIPPED | +-------------------------------+--------------------+-------------------------+-------------------+----------------------+-------------------+------------------+ Ubuntu 20.04 Kernel: 4.19 Compiler: gcc gcc (Ubuntu 9.4.0-1ubuntu1~20.04.2) 9.4.0 FreeBSD 14.2 Kernel: 14.2-RELEASE Compiler: clang 18.1.6 CentOS Stream 9 Kernel: 5.15 Compiler: gcc gcc (GCC) 11.5.0 20240719 (Red Hat 11.5.0-11) CentOS Stream 10 Kernel: 5.15 Compiler: gcc gcc (GCC) 14.2.1 20250110 (Red Hat 14.2.1-8) Debian GNU/Linux 12 Kernel: 5.15 Compiler: gcc gcc (Debian 12.2.0-14+deb12u1) 12.2.0 Fedora Linux 42 Kernel: 5.15 Compiler: clang gcc (GCC) 15.2.1 20250808 (Red Hat 15.2.1-1) openSUSE Leap 15.6 Kernel: 5.15 Compiler: gcc gcc (SUSE Linux) 7.5.0 Red Hat Enterprise Linux 8.10 Kernel: 5.15 Compiler: gcc gcc (GCC) 8.5.0 20210514 (Red Hat 8.5.0-22) Red Hat Enterprise Linux 9.5 Kernel: 5.15 Compiler: gcc gcc (GCC) 11.5.0 20240719 (Red Hat 11.5.0-2) Ubuntu 22.04 Kernel: 5.15 Compiler: gcc gcc (Ubuntu 11.4.0-1ubuntu1~22.04) 11.4.0 Ubuntu 24.04 Kernel: 5.15 Compiler: gcc gcc (Ubuntu 13.3.0-6ubuntu2~24.04) 13.3.0 Alpine Linux 3.22.0 Kernel: 5.15 Compiler: gcc gcc (Alpine 14.2.0) 14.2.0 Windows Server 2022 Kernel: 10.0.20348.2031 Compiler: clang 15.0.7, gcc 14.1.0 (MinGW), and MSVC VS 19.39.33521 To view detailed results, visit: https://lab.dpdk.org/results/dashboard/tarballs/35126/ UNH-IOL DPDK Community Lab To manage your email subscriptions, visit: https://lab.dpdk.org/results/dashboard/preferences/subscriptions/