From mboxrd@z Thu Jan 1 00:00:00 1970 Return-Path: Received: from mails.dpdk.org (mails.dpdk.org [217.70.189.124]) by inbox.dpdk.org (Postfix) with ESMTP id F3930488DC for ; Wed, 8 Oct 2025 07:33:50 +0200 (CEST) Received: from mails.dpdk.org (localhost [127.0.0.1]) by mails.dpdk.org (Postfix) with ESMTP id CF69140297; Wed, 8 Oct 2025 07:33:50 +0200 (CEST) Received: from mail-oa1-f99.google.com (mail-oa1-f99.google.com [209.85.160.99]) by mails.dpdk.org (Postfix) with ESMTP id 06C1340297 for ; Wed, 8 Oct 2025 07:33:50 +0200 (CEST) Received: by mail-oa1-f99.google.com with SMTP id 586e51a60fabf-355102ff142so2281026fac.0 for ; Tue, 07 Oct 2025 22:33:49 -0700 (PDT) DKIM-Signature: v=1; a=rsa-sha256; c=relaxed/relaxed; d=iol.unh.edu; s=unh-iol; t=1759901629; x=1760506429; darn=dpdk.org; h=references:in-reply-to:cc:to:from:subject:message-id:date:from:to :cc:subject:date:message-id:reply-to; bh=vaEm9sbTOaOa1QU4HLaPC9P17r6UXSyzBMuWj55ANJ0=; b=IMHItzHskrmncZLabegfcZC/dQUbSCwDqcOv0LZGslPqGw6e849Aa9zDpHjSftuhv+ ihAwzcq0sP8RH0l7ATKOgpooteBymLezm4w59RpXxhh+YAA/1pCYIg9j83GNV8mLpj7a 7LzTG1QTpzouezPkeZdnQZ90e4EPNbpExg3vc= X-Google-DKIM-Signature: v=1; a=rsa-sha256; c=relaxed/relaxed; d=1e100.net; s=20230601; t=1759901629; x=1760506429; h=references:in-reply-to:cc:to:from:subject:message-id:date :x-gm-message-state:from:to:cc:subject:date:message-id:reply-to; bh=vaEm9sbTOaOa1QU4HLaPC9P17r6UXSyzBMuWj55ANJ0=; b=HjolmLwyDFE/gcVVwVTRo+rOqak2CRB77RKiIl4cHn2BT6IybOBinBRJIUhPym+iS6 Jpl5BSjORM6qK3hVApEmfllGOZnAOXcsoGE526gbCF2MYRfypehUoaRrAQ6CW+eecibb +6byuMfXpW6i3Kg2QjqKbWSxTrJNAR3TwxJdpTpvsTAq2e898bpDlFL9zfYlQnsG4S9z Q9IYTQdYC4/3tNO5SgnPkWnOc3+h1B63/jvb9S9lmJ1qUPd67Drwa/ESmm3hF6WVksJi a9CVtFo+Nutm7bovhA+CqNGMPajqxMG5GOj+3gb0QfGL91kStqyLYzKxXN3bzW8zcedR SRQQ== X-Gm-Message-State: AOJu0YxsQwf1q7JX+eg7DP93YUi6OrgSkqbf7GdQB8L3cZyKphiBNPv3 8u8jHwWSusU1co6xpRErBBjwvX4Egq3vaEAh5R/WgtCMEobbDIHoelyQ9OzFlomFiFuGoAXl8lq P/N9UEgnoQOSVKh+KX0JAzCa252omZs3J2BdsXljvHxpi X-Gm-Gg: ASbGnctBVq1bgd6atS5ciOLDkfHuMeP//NrHtetre0MtlUHY0UCIjqP5UqD2r7M1F9a PB2U0gQi2VdL2Lk9ZTgMsJjLW1/Zc4ERMIAfNdpk1CPoT2tZt+aekwPBzS+tNTXKvB+lXUiaoLZ jlUSGWJ+C4H0DhyVy3oHhXsE0+atJ55pAONBrv9WpZBWJ8EIMjOpvupNsiwcUZu/xjwWHis3K6u DgIafZHIPQ0ZuKIyv242pdviDChgxzwo06CxuHaVNA3fGeXe3wm/FU7MKhGTp1GKiEek1X5CzzI YMMzriwgPER3fhPEOsrAh7LNWtLTeZRZUCjfrm9+jFXjKGHL9d75XnT6s3oGSA0uGNd8ACpz2P2 9jQ== X-Google-Smtp-Source: AGHT+IHzT9kJsWzMirrFo8H7BylGinEb0GjVKvaFNgs3ybMidUUO5puHmnUAe1yF+gklIEdGZ9NlvHESV4Vw X-Received: by 2002:a05:6870:910c:b0:345:50af:a674 with SMTP id 586e51a60fabf-3c0f8daf583mr1215509fac.36.1759901629218; Tue, 07 Oct 2025 22:33:49 -0700 (PDT) Received: from postal.iol.unh.edu (postal.iol.unh.edu. [132.177.123.84]) by smtp-relay.gmail.com with ESMTPS id 586e51a60fabf-3ab79f514b5sm1410694fac.4.2025.10.07.22.33.49 (version=TLS1_2 cipher=ECDHE-ECDSA-AES128-GCM-SHA256 bits=128/128); Tue, 07 Oct 2025 22:33:49 -0700 (PDT) X-Relaying-Domain: iol.unh.edu Date: Tue, 07 Oct 2025 22:33:49 -0700 (PDT) Message-ID: <68e5f7bd.050a0220.2fefb3.bb60SMTPIN_ADDED_MISSING@mx.google.com> Received: from [172.21.0.2] (unknown [172.18.0.240]) by postal.iol.unh.edu (Postfix) with ESMTP id B29C66051830; Wed, 8 Oct 2025 01:33:48 -0400 (EDT) Subject: |SUCCESS| pw157295 [PATCH] [v5] net/intel: add IDPF PCI class ID sup From: dpdklab@iol.unh.edu To: Test Report Cc: dpdk-test-reports@iol.unh.edu, Bruce Richardson In-Reply-To: <20251001153035.2613183-1-venkatesh.vemula@intel.com> References: <20251001153035.2613183-1-venkatesh.vemula@intel.com> Content-Type: text/plain X-BeenThere: test-report@dpdk.org X-Mailman-Version: 2.1.29 Precedence: list List-Id: automatic DPDK test reports List-Unsubscribe: , List-Archive: List-Post: List-Help: List-Subscribe: , Errors-To: test-report-bounces@dpdk.org Test-Label: iol-compile-arm64-testing Test-Status: SUCCESS http://dpdk.org/patch/157295 _Testing PASS_ Submitter: Vemula Venkatesh Date: Wednesday, October 01 2025 15:30:35 DPDK git baseline: Repo:dpdk-next-net-intel Branch: master CommitID:e7d8cc7ef4df3552575525697079d3c957cfcdaf 157295 --> testing pass Upstream job id: Generic-DPDK-Compile-Meson#431893 Test environment and result as below: +------------------------------+--------------------+ | Environment | dpdk_meson_compile | +==============================+====================+ | Red Hat Enterprise Linux 9.5 | PASS | +------------------------------+--------------------+ | Ubuntu 20.04 | PASS | +------------------------------+--------------------+ | Debian GNU/Linux 12 | PASS | +------------------------------+--------------------+ | Fedora Linux 42 | PASS | +------------------------------+--------------------+ | Ubuntu 22.04 | PASS | +------------------------------+--------------------+ | Ubuntu 24.04 | PASS | +------------------------------+--------------------+ | CentOS Stream 9 | PASS | +------------------------------+--------------------+ | CentOS Stream 10 | PASS | +------------------------------+--------------------+ Red Hat Enterprise Linux 9.5 Kernel: 5.4 Compiler: gcc gcc (GCC) 11.5.0 20240719 (Red Hat 11.5.0-2) Ubuntu 20.04 Kernel: 5.15 Compiler: aarch64-linux-gnu-gcc gcc (Ubuntu 9.4.0-1ubuntu1~20.04.2) 9.4.0 Debian GNU/Linux 12 Kernel: 5.4 Compiler: gcc gcc (Debian 12.2.0-14+deb12u1) 12.2.0 Fedora Linux 42 Kernel: 5.4 Compiler: gcc gcc (GCC) 15.2.1 20250808 (Red Hat 15.2.1-1) Ubuntu 22.04 Kernel: 5.4 Compiler: gcc gcc (Ubuntu 11.4.0-1ubuntu1~22.04) 11.4.0 Ubuntu 24.04 Kernel: 5.4 Compiler: gcc gcc (Ubuntu 13.3.0-6ubuntu2~24.04) 13.3.0 CentOS Stream 9 Kernel: 5.4 Compiler: gcc gcc (GCC) 11.5.0 20240719 (Red Hat 11.5.0-11) CentOS Stream 10 Kernel: 5.4 Compiler: gcc gcc (GCC) 14.2.1 20250110 (Red Hat 14.2.1-8) To view detailed results, visit: https://lab.dpdk.org/results/dashboard/patchsets/34220/ UNH-IOL DPDK Community Lab To manage your email subscriptions, visit: https://lab.dpdk.org/results/dashboard/preferences/subscriptions/