From mboxrd@z Thu Jan 1 00:00:00 1970 Return-Path: Received: from mails.dpdk.org (mails.dpdk.org [217.70.189.124]) by inbox.dpdk.org (Postfix) with ESMTP id 96EA8488DC for ; Wed, 8 Oct 2025 07:42:13 +0200 (CEST) Received: from mails.dpdk.org (localhost [127.0.0.1]) by mails.dpdk.org (Postfix) with ESMTP id 8FA6E40297; Wed, 8 Oct 2025 07:42:13 +0200 (CEST) Received: from mail-oa1-f100.google.com (mail-oa1-f100.google.com [209.85.160.100]) by mails.dpdk.org (Postfix) with ESMTP id C50A240297 for ; Wed, 8 Oct 2025 07:42:12 +0200 (CEST) Received: by mail-oa1-f100.google.com with SMTP id 586e51a60fabf-36c9859b036so422412fac.0 for ; Tue, 07 Oct 2025 22:42:12 -0700 (PDT) DKIM-Signature: v=1; a=rsa-sha256; c=relaxed/relaxed; d=iol.unh.edu; s=unh-iol; t=1759902132; x=1760506932; darn=dpdk.org; h=references:in-reply-to:cc:to:from:subject:message-id:date:from:to :cc:subject:date:message-id:reply-to; bh=BFOPakM4JEI3GQSSvBEcrflXTi0tY1ww7eWhFv4J4yo=; b=fHm6gq8ns7zIxyUmJXhi7DtuBrd9B4ZKd2maCAr8OFat530hdh3RNffi/kUDA6zW/b NwSmRRaNCOMCiCEWZs9sEUZxRBKj5BrCOlO0lQgawtMItn8JCUACZ2vcfmv9C6U0qrLg MwVkv/9q+eJaqqDbIqVWRW3oJDuisYTPLrX0c= X-Google-DKIM-Signature: v=1; a=rsa-sha256; c=relaxed/relaxed; d=1e100.net; s=20230601; t=1759902132; x=1760506932; h=references:in-reply-to:cc:to:from:subject:message-id:date :x-gm-message-state:from:to:cc:subject:date:message-id:reply-to; bh=BFOPakM4JEI3GQSSvBEcrflXTi0tY1ww7eWhFv4J4yo=; b=tyFIhgXn2aOGGX6yYFssBPVP6N9MJ8gJF6dhALhbK1icEuipLozYfDLV73PQFjmTnu daxT9+YX2M5rvzWwfI/cEtEfJL31LAg6uN2OxGKkmMPGwyxqd530cMOdUjr2YcxEjJPl HDrrVxpNbk0E5hIsOfu0u9QghbtBcvZfzGDPHkwZeN3RuzGyeUNZTQXUUWRRQv+yzCdI 9YSy6lOrFuxNZBCeXTH34rqdFGJ3Nif9LCWQbfJ96rKmdE4/V7cUifubHwyK7M/scUiT CTrH8ArPUSkSZBO2TRzkrr6g3cT1RR1GxFt+Q7e5mipYXGfc4z00i1uCzmqc+p0KYg0G fvrg== X-Gm-Message-State: AOJu0YyZNXRxR01rh7DyzXtVRSYr8+m9hv79wn5cxwBV29pk+hyb6Ot/ 68iK+FePq4wkfsNbnuaKpAa5dwumtDmeIXmWbmR6KAUUtxGTDzf7M48UWAHNVN2xZmvyzj5e9PE 9kAxycbsWHgPAeVicFjC/Hy9+a3PrG2nlxgNat+Ty5JUJQYENjiF+u6anr5Pc X-Gm-Gg: ASbGncut4P4+qxNffzyiHP5hzI6FbYthBA/U81hkweVY2Pay6Dm2MxOvY+KFQFywPVe jw+oWBbEv1m5WboN9RpQegFctHs6rlqznWfzs+UvbmucHc6sybaQjxnCPBDbf4euKkI9htODvdr TFk/RNVRgCoeloT+RFqKDR+PkYpDSMRZYDqsLaaFhVMOux0/PL/+TQmbyqtnSkRnm5aAKQR7nM8 eFj0uzl5afW6bEV+mT5JzZC7Ldf0tnsPPtrq3AHHHibE9TViL/qnoyg+qI18ecESga+EM67CgXm t+RVNQgofb25m3bi+CjSKxNunwARO3qQP4dc28W81vDmlqhtPLBJ5J8= X-Google-Smtp-Source: AGHT+IGCajcGzHPg8RmJOZQCPW9qDOCGQ9Gf/hshbJbYm+PFXucXEGlbsx+XNVLlXPz75ADnGyCQh4E2dAFZ X-Received: by 2002:a05:6870:200c:b0:332:8989:4ee4 with SMTP id 586e51a60fabf-3c11a2524acmr1016708fac.20.1759902132120; Tue, 07 Oct 2025 22:42:12 -0700 (PDT) Received: from postal.iol.unh.edu (postal.iol.unh.edu. [2606:4100:3880:1234::84]) by smtp-relay.gmail.com with ESMTPS id 586e51a60fabf-3ab79f51586sm1486315fac.3.2025.10.07.22.42.12 (version=TLS1_2 cipher=ECDHE-ECDSA-AES128-GCM-SHA256 bits=128/128); Tue, 07 Oct 2025 22:42:12 -0700 (PDT) X-Relaying-Domain: iol.unh.edu Date: Tue, 07 Oct 2025 22:42:12 -0700 (PDT) Message-ID: <68e5f9b4.050a0220.26cf16.05f8SMTPIN_ADDED_MISSING@mx.google.com> Received: from [172.21.0.2] (unknown [172.18.0.240]) by postal.iol.unh.edu (Postfix) with ESMTP id B85D66051830; Wed, 8 Oct 2025 01:42:11 -0400 (EDT) Subject: |SUCCESS| pw157315-157319 [PATCH] [v2,5/5] net/dpaa: Fix coverity is From: dpdklab@iol.unh.edu To: Test Report Cc: dpdk-test-reports@iol.unh.edu, Stephen Hemminger In-Reply-To: <20251008043519.2461707-6-g.singh@nxp.com> References: <20251008043519.2461707-6-g.singh@nxp.com> Content-Type: text/plain X-BeenThere: test-report@dpdk.org X-Mailman-Version: 2.1.29 Precedence: list List-Id: automatic DPDK test reports List-Unsubscribe: , List-Archive: List-Post: List-Help: List-Subscribe: , Errors-To: test-report-bounces@dpdk.org Test-Label: iol-compile-amd64-testing Test-Status: SUCCESS http://dpdk.org/patch/157319 _Testing PASS_ Submitter: Gagandeep Singh Date: Wednesday, October 08 2025 04:35:19 DPDK git baseline: Repo:dpdk-next-net Branch: master CommitID:c04bbd131b2c14b3049bf86d3ef367b34e6fdf1e 157315-157319 --> testing pass Upstream job id: Windows-Compile-DPDK-Native#31486 Test environment and result as below: +---------------------+--------------------+-------------------------+-------------------+----------------------+ | Environment | dpdk_meson_compile | dpdk_llvm_clang_compile | dpdk_msvc_compile | dpdk_mingw64_compile | +=====================+====================+=========================+===================+======================+ | Ubuntu 20.04 | PASS | SKIPPED | SKIPPED | SKIPPED | +---------------------+--------------------+-------------------------+-------------------+----------------------+ | FreeBSD 14.2 | PASS | SKIPPED | SKIPPED | SKIPPED | +---------------------+--------------------+-------------------------+-------------------+----------------------+ | Windows Server 2022 | SKIPPED | PASS | PASS | PASS | +---------------------+--------------------+-------------------------+-------------------+----------------------+ Ubuntu 20.04 Kernel: 4.19 Compiler: gcc gcc (Ubuntu 9.4.0-1ubuntu1~20.04.2) 9.4.0 FreeBSD 14.2 Kernel: 14.2-RELEASE Compiler: clang 18.1.6 Windows Server 2022 Kernel: 10.0.20348.2031 Compiler: clang 15.0.7, gcc 14.1.0 (MinGW), and MSVC VS 19.39.33521 To view detailed results, visit: https://lab.dpdk.org/results/dashboard/patchsets/34232/ UNH-IOL DPDK Community Lab To manage your email subscriptions, visit: https://lab.dpdk.org/results/dashboard/preferences/subscriptions/