From mboxrd@z Thu Jan 1 00:00:00 1970 Return-Path: Received: from mails.dpdk.org (mails.dpdk.org [217.70.189.124]) by inbox.dpdk.org (Postfix) with ESMTP id E7669488DC for ; Wed, 8 Oct 2025 07:52:55 +0200 (CEST) Received: from mails.dpdk.org (localhost [127.0.0.1]) by mails.dpdk.org (Postfix) with ESMTP id E198640297; Wed, 8 Oct 2025 07:52:55 +0200 (CEST) Received: from mail-pf1-f227.google.com (mail-pf1-f227.google.com [209.85.210.227]) by mails.dpdk.org (Postfix) with ESMTP id 3748A40297 for ; Wed, 8 Oct 2025 07:52:54 +0200 (CEST) Received: by mail-pf1-f227.google.com with SMTP id d2e1a72fcca58-7930132f59aso1807541b3a.0 for ; Tue, 07 Oct 2025 22:52:54 -0700 (PDT) DKIM-Signature: v=1; a=rsa-sha256; c=relaxed/relaxed; d=iol.unh.edu; s=unh-iol; t=1759902773; x=1760507573; darn=dpdk.org; h=references:in-reply-to:cc:to:from:subject:message-id:date:from:to :cc:subject:date:message-id:reply-to; bh=vIIT24LrZFrGWvz924heP3J23Rs9wL96lrdHd/XBm24=; b=PMdh/aU9GVd0zwGJpS+5Cbc8bNZuma+RkvOvLVkae2iCw3+4OZzCGNFnN/VzxPxWUQ pKCfqIq5tIW7v2Cz7ySOyVzeWWsesdYXikN85u1R39f8VRvOYWwUsRkhHIADyC6npvhc SnWlU6LL0OshE+riT/Ss7gv+Q1aUkVJDp1ams= X-Google-DKIM-Signature: v=1; a=rsa-sha256; c=relaxed/relaxed; d=1e100.net; s=20230601; t=1759902773; x=1760507573; h=references:in-reply-to:cc:to:from:subject:message-id:date :x-gm-message-state:from:to:cc:subject:date:message-id:reply-to; bh=vIIT24LrZFrGWvz924heP3J23Rs9wL96lrdHd/XBm24=; b=H3JTFE2EhnjHs2T2f4oCaZafiQBCUmMiGXDs98MIbH2AomHWXu+w5qh1uyb1COcZNY tt37MaQv4mtEfYuec635YWHb4yuYEr9PNvf3JdPqRR/HfSosQim01juBzyGolrBMJWFF gxE/5BRfkLig9Bh8aKfNn4bAs/n+MUOC3fVpkyr7ksYZf4N/k1AyrfKYTtI3dcxKdDvt McKsvhtUJ6XKtKDVqxczMb/XfvsoXZwfa8yCz1mg2Dhc9/NBP93yZKGbQMGnePukZvai 1C1YeK6uH6uADm8Jarw5dkPdCYgsftU+PUr0n5r6Bt4jRodACpLgirXcp9WwZ5rlV4j+ 1XTg== X-Gm-Message-State: AOJu0YwRrC/cah6iYhgDv6C4vZL38dfGSFhjgrgWGFZ0QbkAdzKc4mmJ R3BQJmm9v39qvf8/mYPiaSLHZccE5O92PoeVoyC9zHy+p/Juur8ybow3ufkm4E8AaUOJKr7vS7p gdvyp2MMOs9q7JJyc3VAEzmQytyRVPfs2Cv/a0+cC48Rx X-Gm-Gg: ASbGncvSEbDWuMlbILsug0GA2uadpeBB4QkG1LYUJ0X4y/MubDoHglDAefhaad0RDo0 hDCirn4tYvvXC8X3bv3sR3mCB7P30WmtgcKDwXZQTA7aYAIhTASPI8/R9cPacPzT3NrOnldLYfo sVmYazy0XCSKoyxyxuylsoUKqWKxcuUTB/zufn898/Hw1BHtgA860xN6jeagE7w4280wv7+Uhha apn5nzSCORBEiy94Wcv2bc9fu+vVeZ0vA4fj5KgPY5+xJ4xrVB3yZexOEo54/tkoWguDBJWAR0L J9R20j1imM6EumJp/gMRHiMTNvVZu7hy87+WEOHTHZ28ts97wGMbdE+Trz40gMAd2/ILHmJmLXG aJQ== X-Google-Smtp-Source: AGHT+IEG7LzAjnRkcBg2aqXhDzm0hAC+CpSy/fDZibjZfHm9sZxx5znylSoD0VS1t4Rfxtumr6igkA5TumxI X-Received: by 2002:a05:6a20:72a0:b0:308:60dc:921b with SMTP id adf61e73a8af0-32da845e6d1mr3243686637.40.1759902773363; Tue, 07 Oct 2025 22:52:53 -0700 (PDT) Received: from postal.iol.unh.edu (postal.iol.unh.edu. [132.177.123.84]) by smtp-relay.gmail.com with ESMTPS id 41be03b00d2f7-b630680f972sm445446a12.7.2025.10.07.22.52.53 (version=TLS1_2 cipher=ECDHE-ECDSA-AES128-GCM-SHA256 bits=128/128); Tue, 07 Oct 2025 22:52:53 -0700 (PDT) X-Relaying-Domain: iol.unh.edu Date: Tue, 07 Oct 2025 22:52:53 -0700 (PDT) Message-ID: <68e5fc35.050a0220.28c74.8536SMTPIN_ADDED_MISSING@mx.google.com> Received: from [172.21.0.2] (unknown [172.18.0.240]) by postal.iol.unh.edu (Postfix) with ESMTP id 8C6256051830; Wed, 8 Oct 2025 01:52:52 -0400 (EDT) Subject: |SUCCESS| pw157314 [PATCH] [v2] vhost: always lock all QPs if handle From: dpdklab@iol.unh.edu To: Test Report Cc: dpdk-test-reports@iol.unh.edu, Chenbo Xia , Maxime Coquelin In-Reply-To: <20251007150630.2895365-1-sil-plv@napatech.com> References: <20251007150630.2895365-1-sil-plv@napatech.com> Content-Type: text/plain X-BeenThere: test-report@dpdk.org X-Mailman-Version: 2.1.29 Precedence: list List-Id: automatic DPDK test reports List-Unsubscribe: , List-Archive: List-Post: List-Help: List-Subscribe: , Errors-To: test-report-bounces@dpdk.org Test-Label: iol-unit-arm64-testing Test-Status: SUCCESS http://dpdk.org/patch/157314 _Testing PASS_ Submitter: Serhii Iliushyk Date: Tuesday, October 07 2025 15:06:30 DPDK git baseline: Repo:dpdk-next-virtio Branch: master CommitID:4159ea62922ce41566c7bab44655ad78bee85458 157314 --> testing pass Upstream job id: Generic-Unit-Test-DPDK#379266 Test environment and result as below: +------------------------------+---------------------------+--------------+------------------------------+----------------+ | Environment | cryptodev_sw_zuc_autotest | lpm_autotest | cryptodev_sw_snow3g_autotest | dpdk_unit_test | +==============================+===========================+==============+==============================+================+ | Debian 12 (arm) | PASS | SKIPPED | PASS | SKIPPED | +------------------------------+---------------------------+--------------+------------------------------+----------------+ | Ubuntu 20.04 | SKIPPED | PASS | SKIPPED | PASS | +------------------------------+---------------------------+--------------+------------------------------+----------------+ | CentOS Stream 9 | SKIPPED | SKIPPED | SKIPPED | PASS | +------------------------------+---------------------------+--------------+------------------------------+----------------+ | CentOS Stream 10 | SKIPPED | SKIPPED | SKIPPED | PASS | +------------------------------+---------------------------+--------------+------------------------------+----------------+ | Fedora Linux 40 | SKIPPED | SKIPPED | SKIPPED | PASS | +------------------------------+---------------------------+--------------+------------------------------+----------------+ | Debian GNU/Linux 12 | SKIPPED | SKIPPED | SKIPPED | PASS | +------------------------------+---------------------------+--------------+------------------------------+----------------+ | Fedora Linux 41 | SKIPPED | SKIPPED | SKIPPED | PASS | +------------------------------+---------------------------+--------------+------------------------------+----------------+ | Fedora Linux 42 | SKIPPED | SKIPPED | SKIPPED | PASS | +------------------------------+---------------------------+--------------+------------------------------+----------------+ | Red Hat Enterprise Linux 9.5 | SKIPPED | SKIPPED | SKIPPED | PASS | +------------------------------+---------------------------+--------------+------------------------------+----------------+ | Ubuntu 22.04 | SKIPPED | SKIPPED | SKIPPED | PASS | +------------------------------+---------------------------+--------------+------------------------------+----------------+ | Ubuntu 24.04 | SKIPPED | SKIPPED | SKIPPED | PASS | +------------------------------+---------------------------+--------------+------------------------------+----------------+ Debian 12 (arm) Kernel: Depends on container host Compiler: gcc (Debian 12.2.0-14) 12.2.0 Ubuntu 20.04 Kernel: 5.4 Compiler: gcc gcc (Ubuntu 9.4.0-1ubuntu1~20.04.2) 9.4.0 CentOS Stream 9 Kernel: 5.4 Compiler: gcc gcc (GCC) 11.5.0 20240719 (Red Hat 11.5.0-11) CentOS Stream 10 Kernel: 5.4 Compiler: gcc gcc (GCC) 14.2.1 20250110 (Red Hat 14.2.1-8) Fedora Linux 40 Kernel: 5.4 Compiler: gcc gcc (GCC) 14.2.1 20240912 (Red Hat 14.2.1-3) Debian GNU/Linux 12 Kernel: 5.4 Compiler: gcc gcc (Debian 12.2.0-14+deb12u1) 12.2.0 Fedora Linux 41 Kernel: 5.4 Compiler: clang gcc (GCC) 14.3.1 20250523 (Red Hat 14.3.1-1) Fedora Linux 42 Kernel: 5.4 Compiler: gcc gcc (GCC) 15.2.1 20250808 (Red Hat 15.2.1-1) Red Hat Enterprise Linux 9.5 Kernel: 5.4 Compiler: gcc gcc (GCC) 11.5.0 20240719 (Red Hat 11.5.0-2) Ubuntu 22.04 Kernel: 5.4 Compiler: gcc gcc (Ubuntu 11.4.0-1ubuntu1~22.04) 11.4.0 Ubuntu 24.04 Kernel: 5.4 Compiler: gcc gcc (Ubuntu 13.3.0-6ubuntu2~24.04) 13.3.0 To view detailed results, visit: https://lab.dpdk.org/results/dashboard/patchsets/34231/ UNH-IOL DPDK Community Lab To manage your email subscriptions, visit: https://lab.dpdk.org/results/dashboard/preferences/subscriptions/