From mboxrd@z Thu Jan 1 00:00:00 1970 Return-Path: Received: from mails.dpdk.org (mails.dpdk.org [217.70.189.124]) by inbox.dpdk.org (Postfix) with ESMTP id 495DB488DF for ; Wed, 8 Oct 2025 09:04:26 +0200 (CEST) Received: from mails.dpdk.org (localhost [127.0.0.1]) by mails.dpdk.org (Postfix) with ESMTP id 43B6440297; Wed, 8 Oct 2025 09:04:26 +0200 (CEST) Received: from mail-pj1-f97.google.com (mail-pj1-f97.google.com [209.85.216.97]) by mails.dpdk.org (Postfix) with ESMTP id 343FF40297 for ; Wed, 8 Oct 2025 09:04:24 +0200 (CEST) Received: by mail-pj1-f97.google.com with SMTP id 98e67ed59e1d1-3306d3ab2e4so8264571a91.3 for ; Wed, 08 Oct 2025 00:04:24 -0700 (PDT) DKIM-Signature: v=1; a=rsa-sha256; c=relaxed/relaxed; d=iol.unh.edu; s=unh-iol; t=1759907063; x=1760511863; darn=dpdk.org; h=references:in-reply-to:cc:to:from:subject:message-id:date:from:to :cc:subject:date:message-id:reply-to; bh=pXkOA8PfI9LufKO/9e+8kzFlHNh6Rg7Q9fQxogRJOVU=; b=dbpj2c1/SPoWZTMMsLsRU045DMUSQL/iRHGfuR2SbL+ZavMRvN1wSgzF0+ZFNOV7SV ZjuVxyS3o7dF1iAfbnpXb5wRzfSGQ8uKoZnC1lVreVLHGDVZH77BmyR+EWMXuy9L4tu9 cufqi8DkeTe133xTDFSvTcloh24FtHAUlekTU= X-Google-DKIM-Signature: v=1; a=rsa-sha256; c=relaxed/relaxed; d=1e100.net; s=20230601; t=1759907063; x=1760511863; h=references:in-reply-to:cc:to:from:subject:message-id:date :x-gm-message-state:from:to:cc:subject:date:message-id:reply-to; bh=pXkOA8PfI9LufKO/9e+8kzFlHNh6Rg7Q9fQxogRJOVU=; b=IVVZj5E3wqJ3HK70y40m0jKSKBNh8B86wmA2BuVNeuZkKdm0fsehy1KO9XFpWbUBQs yC6nnHK4eq5t1Q2syJ3R04ARlOzNEhdADTXI8qj2NxrrNvjg2KnQFSwxXWuQl6O4vYqQ B06QuZ1Rpj1HvzsjpSIgMnsIOKS5zK9nt8/vY8/E4zRBbHR5gq7J65GtTmhzqpL4a11p 0qGJ/DCPTrn8K/nkP6gRwEyMVcZPhAreCBeFbH6d+ziMnvquZ/Igvi2TPrRbF4qQVSrE g7+OUL+qM/wwEqvY5tGCILsWlyamwsfU8Xbg342ObxozNs9IcBIqnHUDom8tCsY0wGI3 dGfw== X-Gm-Message-State: AOJu0YywQhaytT8tjBYfdweSUEwcZy1uGHzVF7MGkW6+wdTgnceqqdk2 tUhrX7SDwv99H+tVbjIZUmZDE4FQLpqDKW7jr0UKjEj8a6VlC8gibZO8xBwBs6AWyTx03GUORDY /+nFIX5HdSMTRdLYO48q7RXXLbo2Dr6A1iMdtQwxMDRFng4uguI+K73V5Y2yV X-Gm-Gg: ASbGnctnjOp+cCBTWrFvNHdUbir6TctvQxS0ZNJr3pFzr+8cBJ6XuPlVywS49fmDIad Efn9AL4aJOQpJ5hZauzNaNUguRCHtSylFdyldQE17czuzC5XyXu3nyXjMvvfr+HK7hFEecAvwBT K4N6xefkPQAEr/KOXSgfBzZgx5ADs/KjG33x3s9J+lR72OY1pU1F/vk/yZTNponEAX4DiQAr/7u 8okpoUK8p5jq3KNb1sabagU0Bk3zWgPPtUBCWEoQalEU+lcoEKBDKcqP9wMkyr/I4KKs/DhYsp8 rCQkwjwR2wGwbX/69+ZjpN39kCgIiAlwOS2YGu42ahrc4lllWFT5AO0= X-Google-Smtp-Source: AGHT+IGUOYB5Lk3xU0Kf9oMchQ4t8ez44IFDXLoGwsCBEYwuaHo8xJEaTEQd4kAOpED42NoOPiDPMunOvFEz X-Received: by 2002:a17:90b:1a91:b0:32e:38b0:1600 with SMTP id 98e67ed59e1d1-33b5112501emr3180850a91.6.1759907063299; Wed, 08 Oct 2025 00:04:23 -0700 (PDT) Received: from postal.iol.unh.edu (postal.iol.unh.edu. [2606:4100:3880:1234::84]) by smtp-relay.gmail.com with ESMTPS id 98e67ed59e1d1-33b5111019asm205630a91.6.2025.10.08.00.04.23 (version=TLS1_2 cipher=ECDHE-ECDSA-AES128-GCM-SHA256 bits=128/128); Wed, 08 Oct 2025 00:04:23 -0700 (PDT) X-Relaying-Domain: iol.unh.edu Date: Wed, 08 Oct 2025 00:04:23 -0700 (PDT) Message-ID: <68e60cf7.170a0220.395a56.b228SMTPIN_ADDED_MISSING@mx.google.com> Received: from [172.21.0.2] (unknown [172.18.0.240]) by postal.iol.unh.edu (Postfix) with ESMTP id 8F60E6051830; Wed, 8 Oct 2025 03:04:22 -0400 (EDT) Subject: |SUCCESS| pw157320 [PATCH] app/crypto-perf: add ECDSA P192/P224/P521 From: dpdklab@iol.unh.edu To: Test Report Cc: dpdk-test-reports@iol.unh.edu, Akhil Goyal In-Reply-To: <20251008054059.3934959-1-rchiluka@marvell.com> References: <20251008054059.3934959-1-rchiluka@marvell.com> Content-Type: text/plain X-BeenThere: test-report@dpdk.org X-Mailman-Version: 2.1.29 Precedence: list List-Id: automatic DPDK test reports List-Unsubscribe: , List-Archive: List-Post: List-Help: List-Subscribe: , Errors-To: test-report-bounces@dpdk.org Test-Label: iol-compile-amd64-testing Test-Status: SUCCESS http://dpdk.org/patch/157320 _Testing PASS_ Submitter: Rupesh Chiluka Date: Wednesday, October 08 2025 05:40:59 DPDK git baseline: Repo:dpdk-next-crypto Branch: master CommitID:2aa7141a4e2c78e3cce03dbd613532a2166123c1 157320 --> testing pass Upstream job id: Windows-Compile-DPDK-Native#31488 Test environment and result as below: +---------------------+--------------------+-------------------------+-------------------+----------------------+ | Environment | dpdk_meson_compile | dpdk_llvm_clang_compile | dpdk_msvc_compile | dpdk_mingw64_compile | +=====================+====================+=========================+===================+======================+ | Ubuntu 20.04 | PASS | SKIPPED | SKIPPED | SKIPPED | +---------------------+--------------------+-------------------------+-------------------+----------------------+ | FreeBSD 14.2 | PASS | SKIPPED | SKIPPED | SKIPPED | +---------------------+--------------------+-------------------------+-------------------+----------------------+ | Windows Server 2022 | SKIPPED | PASS | PASS | PASS | +---------------------+--------------------+-------------------------+-------------------+----------------------+ Ubuntu 20.04 Kernel: 4.19 Compiler: gcc gcc (Ubuntu 9.4.0-1ubuntu1~20.04.2) 9.4.0 FreeBSD 14.2 Kernel: 14.2-RELEASE Compiler: clang 18.1.6 Windows Server 2022 Kernel: 10.0.20348.2031 Compiler: clang 15.0.7, gcc 14.1.0 (MinGW), and MSVC VS 19.39.33521 To view detailed results, visit: https://lab.dpdk.org/results/dashboard/patchsets/34233/ UNH-IOL DPDK Community Lab To manage your email subscriptions, visit: https://lab.dpdk.org/results/dashboard/preferences/subscriptions/