From mboxrd@z Thu Jan 1 00:00:00 1970 Return-Path: Received: from mails.dpdk.org (mails.dpdk.org [217.70.189.124]) by inbox.dpdk.org (Postfix) with ESMTP id 155F4488DF for ; Wed, 8 Oct 2025 09:46:29 +0200 (CEST) Received: from mails.dpdk.org (localhost [127.0.0.1]) by mails.dpdk.org (Postfix) with ESMTP id 108DF40297; Wed, 8 Oct 2025 09:46:29 +0200 (CEST) Received: from mail-io1-f97.google.com (mail-io1-f97.google.com [209.85.166.97]) by mails.dpdk.org (Postfix) with ESMTP id 16B26402A0 for ; Wed, 8 Oct 2025 09:46:28 +0200 (CEST) Received: by mail-io1-f97.google.com with SMTP id ca18e2360f4ac-9194a0241aaso292483639f.3 for ; Wed, 08 Oct 2025 00:46:28 -0700 (PDT) DKIM-Signature: v=1; a=rsa-sha256; c=relaxed/relaxed; d=iol.unh.edu; s=unh-iol; t=1759909587; x=1760514387; darn=dpdk.org; h=references:in-reply-to:cc:to:from:subject:message-id:date:from:to :cc:subject:date:message-id:reply-to; bh=MvBu4H3SkiJenLCnzs9Ye43phvZU+BOH5a86408Uq2U=; b=iNh+/nM5/OrMF0DmWGin5itSRrWvJBW+aYUewTwd9JZWsj6jzZBW6QWEP4nKk9JLxO gTn8wB2V0mZZMBRf3z5eINxGv3vj1mH5UxILzZrvscbAfYreKm3dOF4eI8SuUc6UyVXW /mnnLiGsdE3XM0LQC5EepqOHvYAoALMKPyF5E= X-Google-DKIM-Signature: v=1; a=rsa-sha256; c=relaxed/relaxed; d=1e100.net; s=20230601; t=1759909587; x=1760514387; h=references:in-reply-to:cc:to:from:subject:message-id:date :x-gm-message-state:from:to:cc:subject:date:message-id:reply-to; bh=MvBu4H3SkiJenLCnzs9Ye43phvZU+BOH5a86408Uq2U=; b=b1oTr5f707rZkuIzShCjmQjTkQ24NbEvWGAuS91ArZbUB59P+0+Wk3GoXl8wMs0UlR ZuEcRoHpd6Lro5t6gYPkkNQZ7cFL/MLIKftRmnxa2ihV0O/HH0TvKQTv0yTshMfT49ae n2SCifj2P29618Au0ditQLav0yLpE8wgHIdaY6vRUfYmfHEs8cE4rGu6ktDVf31Sv/p6 EMx+ZhJgBaPKuj7h0/DN0HtfP1s0z5xTJ5lUOpOq0VQr4xJdsodQw8RmO7qR7iOLIf9V KAAESPaOxrVOQW+VWVIjo5Fty1TGda97xGATJTyWIsP/ReJt+/973L2c2oE3a5BH9Ng7 LjlA== X-Gm-Message-State: AOJu0Yy6NSaxLZ26cjss0dbu6pbGrK0mn7OQQoPIrieJoHZ/+Wvorz0Z 2p7sskMxrSUzHFLFzUj6SB0L3SGHAb1ohGyDRqkB++An2MPd2UZ6+3gtlQV9T5gOeIvWLkoK52O MFoW+h2M99g5RW0X/zrrtgF9TS7wIe8m4Rn9q9BIrJ5kW X-Gm-Gg: ASbGncu2Q8BVUP6PqJBc9QgMJ1IZV600grBeKgRoEtpDBT7BUHDfsd2XY2MrYK4DsV0 nlE/LN0EvD/3UVOk5+Sb7NnFQYukQOj8iOP7JBlcmn/xICz+R3LFfuz2ouL0K+TYTBcD2xnyW4v LhBIGL+YeVuKS5Rfophfy6WC+UR7/sgRlKv+CS1N8EN3/6uWSY3mX2UsOQ7SXLvErIZSqBvdsNz Mxdmz2dv73sML1KMYdm29QX8WT01LwodTMVMyiAbaBJp8KzX16LjXwG53hjUakJvg2oyQMxOt5x EhgFJIkblVYwuae20RrGWUrRnnn9+XjRSbQ/mBbwgEGTjGLWwCLPvs4AR6qKewbXDQBFhY80v3l Eug== X-Google-Smtp-Source: AGHT+IEVU4bHqvOKq0OAKjvP7vpCR9nvR/C6p2CGSBjbtoRe1Td/LJRvCGjSwvvA1lJVa8DK2nQXlXCo0jXB X-Received: by 2002:a05:6e02:198a:b0:424:9926:a97b with SMTP id e9e14a558f8ab-42f873fe64amr21001085ab.25.1759909587176; Wed, 08 Oct 2025 00:46:27 -0700 (PDT) Received: from postal.iol.unh.edu (postal.iol.unh.edu. [132.177.123.84]) by smtp-relay.gmail.com with ESMTPS id e9e14a558f8ab-42d8b211183sm13855335ab.12.2025.10.08.00.46.27 (version=TLS1_2 cipher=ECDHE-ECDSA-AES128-GCM-SHA256 bits=128/128); Wed, 08 Oct 2025 00:46:27 -0700 (PDT) X-Relaying-Domain: iol.unh.edu Date: Wed, 08 Oct 2025 00:46:27 -0700 (PDT) Message-ID: <68e616d3.050a0220.3d7e48.ab68SMTPIN_ADDED_MISSING@mx.google.com> Received: from [172.21.0.2] (unknown [172.18.0.240]) by postal.iol.unh.edu (Postfix) with ESMTP id 9F9F36051830; Wed, 8 Oct 2025 03:46:26 -0400 (EDT) Subject: |SUCCESS| pw157321 [PATCH] [v6] net/intel: add IDPF PCI class ID sup From: dpdklab@iol.unh.edu To: Test Report Cc: dpdk-test-reports@iol.unh.edu, Bruce Richardson In-Reply-To: <20251006181239.362664-1-venkatesh.vemula@intel.com> References: <20251006181239.362664-1-venkatesh.vemula@intel.com> Content-Type: text/plain X-BeenThere: test-report@dpdk.org X-Mailman-Version: 2.1.29 Precedence: list List-Id: automatic DPDK test reports List-Unsubscribe: , List-Archive: List-Post: List-Help: List-Subscribe: , Errors-To: test-report-bounces@dpdk.org Test-Label: iol-compile-amd64-testing Test-Status: SUCCESS http://dpdk.org/patch/157321 _Testing PASS_ Submitter: Venkatesh Vemula Date: Monday, October 06 2025 18:12:39 DPDK git baseline: Repo:dpdk-next-net-intel Branch: master CommitID:e7d8cc7ef4df3552575525697079d3c957cfcdaf 157321 --> testing pass Upstream job id: Windows-Compile-DPDK-Native#31489 Test environment and result as below: +---------------------+--------------------+-------------------+-------------------------+ | Environment | dpdk_meson_compile | dpdk_msvc_compile | dpdk_llvm_clang_compile | +=====================+====================+===================+=========================+ | Ubuntu 20.04 | PASS | SKIPPED | SKIPPED | +---------------------+--------------------+-------------------+-------------------------+ | FreeBSD 14.2 | PASS | SKIPPED | SKIPPED | +---------------------+--------------------+-------------------+-------------------------+ | Windows Server 2022 | SKIPPED | PASS | PASS | +---------------------+--------------------+-------------------+-------------------------+ Ubuntu 20.04 Kernel: 4.19 Compiler: gcc gcc (Ubuntu 9.4.0-1ubuntu1~20.04.2) 9.4.0 FreeBSD 14.2 Kernel: 14.2-RELEASE Compiler: clang 18.1.6 Windows Server 2022 Kernel: 10.0.20348.2031 Compiler: clang 15.0.7, gcc 14.1.0 (MinGW), and MSVC VS 19.39.33521 To view detailed results, visit: https://lab.dpdk.org/results/dashboard/patchsets/34234/ UNH-IOL DPDK Community Lab To manage your email subscriptions, visit: https://lab.dpdk.org/results/dashboard/preferences/subscriptions/