From mboxrd@z Thu Jan 1 00:00:00 1970 Return-Path: Received: from mails.dpdk.org (mails.dpdk.org [217.70.189.124]) by inbox.dpdk.org (Postfix) with ESMTP id 5E1F2488D0 for ; Wed, 8 Oct 2025 09:58:22 +0200 (CEST) Received: from mails.dpdk.org (localhost [127.0.0.1]) by mails.dpdk.org (Postfix) with ESMTP id 5954D40297; Wed, 8 Oct 2025 09:58:22 +0200 (CEST) Received: from mail-yw1-f228.google.com (mail-yw1-f228.google.com [209.85.128.228]) by mails.dpdk.org (Postfix) with ESMTP id 15C8940297 for ; Wed, 8 Oct 2025 09:58:21 +0200 (CEST) Received: by mail-yw1-f228.google.com with SMTP id 00721157ae682-7501c24a731so80414547b3.3 for ; Wed, 08 Oct 2025 00:58:21 -0700 (PDT) DKIM-Signature: v=1; a=rsa-sha256; c=relaxed/relaxed; d=iol.unh.edu; s=unh-iol; t=1759910300; x=1760515100; darn=dpdk.org; h=references:in-reply-to:cc:to:from:subject:message-id:date:from:to :cc:subject:date:message-id:reply-to; bh=RfSpMeW+2QnyVQgaFKd7kBrleJdf4LSVMrDyUGQoJvY=; b=UyiPlULBozojKKaXqpYNicg0QEMhcXCdER2pbeAHNkTFopawWA2kyxe3kWix/y57V4 +KiG/Hl/igpOFtTtkWuQi5yz2BerD8p3VMXM2eHgSu0CKey+wU+Qy06UMDalY4+ky+EI QNi3ZFj9QCYEZ4jk52YW0pd9ERIbEobAH7/wg= X-Google-DKIM-Signature: v=1; a=rsa-sha256; c=relaxed/relaxed; d=1e100.net; s=20230601; t=1759910300; x=1760515100; h=references:in-reply-to:cc:to:from:subject:message-id:date :x-gm-message-state:from:to:cc:subject:date:message-id:reply-to; bh=RfSpMeW+2QnyVQgaFKd7kBrleJdf4LSVMrDyUGQoJvY=; b=YE9/8qpzPmibXUUBX6sKSs71DmxjqI1SBI4hGfwI18pENFV2HFeooOeZi9FIFwKsRp HnQrNhTgtfTYzhC754UY2bHnUHDZ9bMhCl/tXEzA3072d8ZRFhn3xepSGivrMoQI3iMR fXINuP7Ls6d0PVrI5v1M7UXycFNG21ALNNqEqzsnJnDPFRxRKtJXziikp1Eh4DWdLttD 76rb0vp/WjRekTgEscwmXfv5LHvqYIT1v/nO4FNH0JKmRfV89FvoMZEmU66wTvpUzRg3 Ond8h50n7jVhg/Pqz60Ck3l2m8MmHXMcG4s0mJdhHgrMCsArSesGz9nxN4/bo2BLFy/w rRYQ== X-Gm-Message-State: AOJu0YxRx5wmpWIRGGe/i3eAbNtDoSxE+9BIzvGSe+LRWjMOiZgFkRFr jpQncESWXxC/3eq7+QzB+uZtT70Dkh0k9t9Md+P7Ujf1zI6JEMLKoejznRG+kwPTvQ6QT488a/4 Dc0EXsjhlwPuxMXRuaMKtL3tqxbg4lQs6TWXK3hF9evdA8A9/vTyMyHZe+gkW X-Gm-Gg: ASbGnctRgRSvKdc+BtEkfId9PU85rW4yCFEmRrAa6BNl0EPL9LYuxnao49hOREBpdMs 4GbCRzqqCm1ugZV+q/40iJoRf6R7xSmPRxqXtHoJFEXhpvrxT6c8H/aLbXCPwiGcFZXhR7W11Ml bqQoQpG/fGRiyyuepO65phmdrKMPvMsC972YJVR8CakwEaXKd4VDui2IBMxFwx7nFRN+nWHXghy U6jUm+yv5ePTcbwTrKP5jvxz/sBO1JL09awdJUNpNqMKnJrwZ/Nk3nxDstUAUdXCNE8bCdBhzBP zDCMcbI3lgz8dxuywTJgkpDgKNbcOXBpOkJkp/OK4UYdSQVFViOrsrA= X-Google-Smtp-Source: AGHT+IGFincA+D/L4a6AgxGjS6P1cpHWjZjwZGyEaKpgUkEBbM4rUdA4i6rM7m5z7smSLp00X5dtJsgblCFj X-Received: by 2002:a05:690c:b94:b0:780:be5b:345b with SMTP id 00721157ae682-780e1474959mr31581077b3.20.1759910300380; Wed, 08 Oct 2025 00:58:20 -0700 (PDT) Received: from postal.iol.unh.edu (postal.iol.unh.edu. [2606:4100:3880:1234::84]) by smtp-relay.gmail.com with ESMTPS id 00721157ae682-77f81c3d042sm10129427b3.16.2025.10.08.00.58.20 (version=TLS1_2 cipher=ECDHE-ECDSA-AES128-GCM-SHA256 bits=128/128); Wed, 08 Oct 2025 00:58:20 -0700 (PDT) X-Relaying-Domain: iol.unh.edu Date: Wed, 08 Oct 2025 00:58:20 -0700 (PDT) Message-ID: <68e6199c.050a0220.2fe599.6b88SMTPIN_ADDED_MISSING@mx.google.com> Received: from [172.21.0.2] (unknown [172.18.0.240]) by postal.iol.unh.edu (Postfix) with ESMTP id 074AF6051830; Wed, 8 Oct 2025 03:58:20 -0400 (EDT) Subject: |SUCCESS| pw157321 [PATCH] [v6] net/intel: add IDPF PCI class ID sup From: dpdklab@iol.unh.edu To: Test Report Cc: dpdk-test-reports@iol.unh.edu, Bruce Richardson In-Reply-To: <20251006181239.362664-1-venkatesh.vemula@intel.com> References: <20251006181239.362664-1-venkatesh.vemula@intel.com> Content-Type: text/plain X-BeenThere: test-report@dpdk.org X-Mailman-Version: 2.1.29 Precedence: list List-Id: automatic DPDK test reports List-Unsubscribe: , List-Archive: List-Post: List-Help: List-Subscribe: , Errors-To: test-report-bounces@dpdk.org Test-Label: iol-compile-amd64-testing Test-Status: SUCCESS http://dpdk.org/patch/157321 _Testing PASS_ Submitter: Venkatesh Vemula Date: Monday, October 06 2025 18:12:39 DPDK git baseline: Repo:dpdk-next-net-intel Branch: master CommitID:e7d8cc7ef4df3552575525697079d3c957cfcdaf 157321 --> testing pass Upstream job id: Windows-Compile-DPDK-Native#31490 Test environment and result as below: +---------------------+--------------------+-------------------+-------------------------+----------------------+ | Environment | dpdk_meson_compile | dpdk_msvc_compile | dpdk_llvm_clang_compile | dpdk_mingw64_compile | +=====================+====================+===================+=========================+======================+ | Ubuntu 20.04 | PASS | SKIPPED | SKIPPED | SKIPPED | +---------------------+--------------------+-------------------+-------------------------+----------------------+ | FreeBSD 14.2 | PASS | SKIPPED | SKIPPED | SKIPPED | +---------------------+--------------------+-------------------+-------------------------+----------------------+ | Windows Server 2022 | SKIPPED | PASS | PASS | PASS | +---------------------+--------------------+-------------------+-------------------------+----------------------+ Ubuntu 20.04 Kernel: 4.19 Compiler: gcc gcc (Ubuntu 9.4.0-1ubuntu1~20.04.2) 9.4.0 FreeBSD 14.2 Kernel: 14.2-RELEASE Compiler: clang 18.1.6 Windows Server 2022 Kernel: 10.0.20348.2031 Compiler: clang 15.0.7, gcc 14.1.0 (MinGW), and MSVC VS 19.39.33521 To view detailed results, visit: https://lab.dpdk.org/results/dashboard/patchsets/34234/ UNH-IOL DPDK Community Lab To manage your email subscriptions, visit: https://lab.dpdk.org/results/dashboard/preferences/subscriptions/