From mboxrd@z Thu Jan 1 00:00:00 1970 Return-Path: Received: from mails.dpdk.org (mails.dpdk.org [217.70.189.124]) by inbox.dpdk.org (Postfix) with ESMTP id A3598488E1 for ; Wed, 8 Oct 2025 10:08:19 +0200 (CEST) Received: from mails.dpdk.org (localhost [127.0.0.1]) by mails.dpdk.org (Postfix) with ESMTP id 9F9A140611; Wed, 8 Oct 2025 10:08:19 +0200 (CEST) Received: from mail-io1-f97.google.com (mail-io1-f97.google.com [209.85.166.97]) by mails.dpdk.org (Postfix) with ESMTP id 48D39402A0 for ; Wed, 8 Oct 2025 10:08:18 +0200 (CEST) Received: by mail-io1-f97.google.com with SMTP id ca18e2360f4ac-88703c873d5so250439139f.3 for ; Wed, 08 Oct 2025 01:08:18 -0700 (PDT) DKIM-Signature: v=1; a=rsa-sha256; c=relaxed/relaxed; d=iol.unh.edu; s=unh-iol; t=1759910897; x=1760515697; darn=dpdk.org; h=cc:to:from:subject:message-id:date:from:to:cc:subject:date :message-id:reply-to; bh=yOttqeuZIyd8sxLh4yVe4ckuJC4keNhbAEva4Hds4oc=; b=CLCjwNy89vHM22JoQECnoqISYdBsDmmcd17CjfiCErzN4ix6fitQBg7lQkHGpMEyGg 4M02ZLMlgGJw+n0D/ehvvrQziHopYweIe8uGcaafySNYdts+FDdjeGfXgZzoqKTz6hQv 87sk8RKBOq3R/ZpfxZUcI2lGVSSTayNoPUSJo= X-Google-DKIM-Signature: v=1; a=rsa-sha256; c=relaxed/relaxed; d=1e100.net; s=20230601; t=1759910897; x=1760515697; h=cc:to:from:subject:message-id:date:x-gm-message-state:from:to:cc :subject:date:message-id:reply-to; bh=yOttqeuZIyd8sxLh4yVe4ckuJC4keNhbAEva4Hds4oc=; b=N4gjfpfdMb0z4JjENLPwUn0Sjnlq/oOvJDFyS5Ocp0SNgCeDF90Zn095GKIMzKc3kK t2AVKfSD5A1zeGTyBdaWcyNxn1114d0StRSHADziiJlCZ258mNv3TS6qOLde/ePvwkyw LREOHkL7yWH0TWXCiyFvQaoEoMO7uO5fnua6JdWNgrOoSZobPbknXSCxkWPM3ZhfLtaa O/z1ANzV+6GlQQ7NJZYuqNckMQkBFYRaOP2j1EL/WZe7UaJmE+4y1pySBaNg1eiT/T8M ZG/mG+0fg204MwrCRNcdK6czuEgX2lIX+fh8lnYQ1sQ/4FpQVsFktPnCbef6Aa2a/LUr K2Pg== X-Gm-Message-State: AOJu0YxAKtceqlPGbDfaC/ZYq3ZojWwX/SjUkXO09J/J5gR6ru0w9B9p flXj57Z9b9ezs3AJmE0IuerTaojY9xCiNdJrdeE2yyrq86OiYPIZSFEwBQUX46e0PY3WxHnG0m2 7NYci8+tjldSjl1gB7LynFSwpr1KfyFa1AhgM65EA2RkjzNiggYg/dK/IAhDG X-Gm-Gg: ASbGnctU2WsRBVRYU3EPvjvYnF3GUOI+75i+DG+QPAG7O7sm71Gq0sBryiMRR3z8ybb XjGK/L4L0OCvtalppybaRzFv2RcYdr+F3gHY2RHIeM3aEZCmSCO0gfFEdiLZCs30fauLbTfruHP yCKE1i/bRgV3yGYuntmRFBHvlUOKpIeIj9RYMG2qVc+Y0IEFSRBb3H9jZFydH68WFYYvUVIcE5u SYiMiXQl5CYzc4/pyz+6Z32uO1bJTha7kFJpDOVMEE/GMqjZbx6F9oR7dCBJfOjmIJrlM+Gv6gL 5EfwmejXTQCmIuQCtMJVpprx4MoXIyVhRaQqoZ9T0CvVqgijW3+zqb8= X-Google-Smtp-Source: AGHT+IEO7R5b7TaJyAD2Vf0ftPvBWo6EDJo8A6CcNj/aIl47Sjve3sQgoKQz7m7EAM9CI5SaWcliijdrcyil X-Received: by 2002:a05:6e02:1847:b0:425:73c6:9042 with SMTP id e9e14a558f8ab-42f873fae8cmr17552745ab.24.1759910897481; Wed, 08 Oct 2025 01:08:17 -0700 (PDT) Received: from postal.iol.unh.edu (postal.iol.unh.edu. [2606:4100:3880:1234::84]) by smtp-relay.gmail.com with ESMTPS id e9e14a558f8ab-42d8b2935d8sm13926735ab.34.2025.10.08.01.08.17 (version=TLS1_2 cipher=ECDHE-ECDSA-AES128-GCM-SHA256 bits=128/128); Wed, 08 Oct 2025 01:08:17 -0700 (PDT) X-Relaying-Domain: iol.unh.edu Date: Wed, 08 Oct 2025 01:08:17 -0700 (PDT) Message-ID: <68e61bf1.050a0220.ddd2e.cd12SMTPIN_ADDED_MISSING@mx.google.com> Received: from [172.21.0.2] (unknown [172.18.0.240]) by postal.iol.unh.edu (Postfix) with ESMTP id 05EBE6051830; Wed, 8 Oct 2025 04:08:17 -0400 (EDT) Subject: |SUCCESS| [GIT MASTER] 14d3c6f6a6c18f3b141d0bd9786c6dd3ae3714a3 From: dpdklab@iol.unh.edu To: Test Report Cc: dpdk-test-reports@iol.unh.edu, Jerin Jacob Content-Type: text/plain X-BeenThere: test-report@dpdk.org X-Mailman-Version: 2.1.29 Precedence: list List-Id: automatic DPDK test reports List-Unsubscribe: , List-Archive: List-Post: List-Help: List-Subscribe: , Errors-To: test-report-bounces@dpdk.org _Testing PASS_ Branch: dpdk-next-eventdev 14d3c6f6a6c18f3b141d0bd9786c6dd3ae3714a3 --> testing pass Upstream job id: Generic-Unit-Test-DPDK#379287 Test environment and result as below: +------------------------------+---------------------------+------------------------------+--------------+----------------+ | Environment | cryptodev_sw_zuc_autotest | cryptodev_sw_snow3g_autotest | lpm_autotest | dpdk_unit_test | +==============================+===========================+==============================+==============+================+ | Debian 12 (arm) | PASS | PASS | SKIPPED | SKIPPED | +------------------------------+---------------------------+------------------------------+--------------+----------------+ | Ubuntu 20.04 | SKIPPED | SKIPPED | PASS | PASS | +------------------------------+---------------------------+------------------------------+--------------+----------------+ | Ubuntu 22.04 | SKIPPED | SKIPPED | SKIPPED | PASS | +------------------------------+---------------------------+------------------------------+--------------+----------------+ | CentOS Stream 9 | SKIPPED | SKIPPED | SKIPPED | PASS | +------------------------------+---------------------------+------------------------------+--------------+----------------+ | CentOS Stream 10 | SKIPPED | SKIPPED | SKIPPED | PASS | +------------------------------+---------------------------+------------------------------+--------------+----------------+ | Debian GNU/Linux 12 | SKIPPED | SKIPPED | SKIPPED | PASS | +------------------------------+---------------------------+------------------------------+--------------+----------------+ | Fedora Linux 40 | SKIPPED | SKIPPED | SKIPPED | PASS | +------------------------------+---------------------------+------------------------------+--------------+----------------+ | Fedora Linux 42 | SKIPPED | SKIPPED | SKIPPED | PASS | +------------------------------+---------------------------+------------------------------+--------------+----------------+ | Fedora Linux 41 | SKIPPED | SKIPPED | SKIPPED | PASS | +------------------------------+---------------------------+------------------------------+--------------+----------------+ | Red Hat Enterprise Linux 9.5 | SKIPPED | SKIPPED | SKIPPED | PASS | +------------------------------+---------------------------+------------------------------+--------------+----------------+ | Ubuntu 24.04 | SKIPPED | SKIPPED | SKIPPED | PASS | +------------------------------+---------------------------+------------------------------+--------------+----------------+ Debian 12 (arm) Kernel: Depends on container host Compiler: gcc (Debian 12.2.0-14) 12.2.0 Ubuntu 20.04 Kernel: 5.4 Compiler: gcc gcc (Ubuntu 9.4.0-1ubuntu1~20.04.2) 9.4.0 Ubuntu 22.04 Kernel: 5.15 Compiler: gcc gcc (Ubuntu 11.4.0-1ubuntu1~22.04.2) 11.4.0 CentOS Stream 9 Kernel: 5.4 Compiler: gcc gcc (GCC) 11.5.0 20240719 (Red Hat 11.5.0-11) CentOS Stream 10 Kernel: 5.4 Compiler: gcc gcc (GCC) 14.2.1 20250110 (Red Hat 14.2.1-8) Debian GNU/Linux 12 Kernel: 5.4 Compiler: gcc gcc (Debian 12.2.0-14+deb12u1) 12.2.0 Fedora Linux 40 Kernel: 5.4 Compiler: clang gcc (GCC) 14.2.1 20240912 (Red Hat 14.2.1-3) Fedora Linux 42 Kernel: 5.4 Compiler: gcc gcc (GCC) 15.2.1 20250808 (Red Hat 15.2.1-1) Fedora Linux 41 Kernel: 5.4 Compiler: gcc gcc (GCC) 14.3.1 20250523 (Red Hat 14.3.1-1) Red Hat Enterprise Linux 9.5 Kernel: 5.4 Compiler: gcc gcc (GCC) 11.5.0 20240719 (Red Hat 11.5.0-2) Ubuntu 24.04 Kernel: 5.4 Compiler: gcc gcc (Ubuntu 13.3.0-6ubuntu2~24.04) 13.3.0 To view detailed results, visit: https://lab.dpdk.org/results/dashboard/tarballs/35134/ UNH-IOL DPDK Community Lab To manage your email subscriptions, visit: https://lab.dpdk.org/results/dashboard/preferences/subscriptions/