From mboxrd@z Thu Jan 1 00:00:00 1970 Return-Path: Received: from mails.dpdk.org (mails.dpdk.org [217.70.189.124]) by inbox.dpdk.org (Postfix) with ESMTP id 8B3A3488E1 for ; Wed, 8 Oct 2025 10:41:35 +0200 (CEST) Received: from mails.dpdk.org (localhost [127.0.0.1]) by mails.dpdk.org (Postfix) with ESMTP id 852E440297; Wed, 8 Oct 2025 10:41:35 +0200 (CEST) Received: from mail-io1-f100.google.com (mail-io1-f100.google.com [209.85.166.100]) by mails.dpdk.org (Postfix) with ESMTP id 79D1E40297 for ; Wed, 8 Oct 2025 10:41:33 +0200 (CEST) Received: by mail-io1-f100.google.com with SMTP id ca18e2360f4ac-9298eba27c2so306888839f.3 for ; Wed, 08 Oct 2025 01:41:33 -0700 (PDT) DKIM-Signature: v=1; a=rsa-sha256; c=relaxed/relaxed; d=iol.unh.edu; s=unh-iol; t=1759912893; x=1760517693; darn=dpdk.org; h=references:in-reply-to:cc:to:from:subject:message-id:date:from:to :cc:subject:date:message-id:reply-to; bh=c63lc2C3T8OJgqqQQ+vy/4mYh+17O363aNpQTpx308Y=; b=dmaOCXyhI0J8nsB8NoiWsmxj8zZd42gpQn3QsSsgHKuV/J7aCqxT8rwbRXn+CCMHX6 EYtJGAyKjlfaoi1u8e9gau0rEtwL8ALvckWvqJsoBdYZzu6/VP1Fsl2KpV2/UURUXHbH 6epqcMVX129CmTJKGx2BKTgsodQ41KL0blGz8= X-Google-DKIM-Signature: v=1; a=rsa-sha256; c=relaxed/relaxed; d=1e100.net; s=20230601; t=1759912893; x=1760517693; h=references:in-reply-to:cc:to:from:subject:message-id:date :x-gm-message-state:from:to:cc:subject:date:message-id:reply-to; bh=c63lc2C3T8OJgqqQQ+vy/4mYh+17O363aNpQTpx308Y=; b=ucG1/e6s2TEJNkcz1O+XFkckX1SCl+U+jB1VTbHzjxEtbYaszWoxUBnlPQLyX9Pupe c05MvS++hIpYNRhQGs2NBVZfcCnDd6uuTHtjgI9uYp+yg16jK93kM8sX4uPqjvmukZbJ TeeZt+VraMvb2Yo9EFbjl/eMqVXLwxOZUnaIIOqLMsFn3piDq6f6fVmqbaL7KFIAwo6t cyc0NhN37729ZKpneuvkCptAb2PiRDcV7drrX8OC8AnLV8AVNS6OOairQl+o+KNjc6On Ymkh0/b7YAkeQ2pr0CvQUs0NnsrcR4eHrDwOxCOF80dm6/WCBw/AdZm1c5Wg7R3Dob3q 8J9A== X-Gm-Message-State: AOJu0Yz9egfPWvP88uO29kG8Elopn3X8EtlyzNEXicVLNFJlyZ3Hjp95 o3RnhMh7GNqxEIhHFt4S9YrQHdfkEIvieV++rsk2qs6Fmy33stWaDsuGprwdhigZi7Qj93ZHzJZ FT9ARpCJmZ2CsgUd5A22n6AeQkR9XvsPDSgSNK8mP3VZb X-Gm-Gg: ASbGncv8k/5yGcU3GiQTPZ4om9krKfoH6mhZjqqS4WhO7WBp8YL3Oz2iE++TDVAm5yO Gu70cqBLx6bIkX6zdUCVVpCfHxiLQ7wTdI9pQDIZGwB92H1ortdHlDM5aTsDaheuoC4vsxbxq9p 6EB4ER/B8oYGVSu8yPdoA37Ue55D0t5Qu7QQOxCdNIyuyh6nILrcYFt3ZETyaUImUbcsEIC6jo3 oFCAQVI4TYKBCSOWrVKhFbRAQR/22X4IpZ9PrQUS0KtaTMJunvlHHPep2GG2DZ8ZEryW4Xc57Ih ensx0k9iRR+nxCVAZVpJND0thOFzKF8wraGhdGFi/0ELufeN5BDxL/SwjjQUHTPuQkWeh8phqqr a5g== X-Google-Smtp-Source: AGHT+IF3zOAyiRa4gF+hbl4dx9BvmwMjWaYqK/iq8vBkav5H1fa3mKWFWbfyuQKftPhwK2ealVyI3Oqf4Mwv X-Received: by 2002:a05:6e02:1785:b0:424:8858:6ba9 with SMTP id e9e14a558f8ab-42f87428505mr21114225ab.32.1759912892715; Wed, 08 Oct 2025 01:41:32 -0700 (PDT) Received: from postal.iol.unh.edu (postal.iol.unh.edu. [132.177.123.84]) by smtp-relay.gmail.com with ESMTPS id e9e14a558f8ab-42d8b201f70sm13156015ab.2.2025.10.08.01.41.32 (version=TLS1_2 cipher=ECDHE-ECDSA-AES128-GCM-SHA256 bits=128/128); Wed, 08 Oct 2025 01:41:32 -0700 (PDT) X-Relaying-Domain: iol.unh.edu Date: Wed, 08 Oct 2025 01:41:32 -0700 (PDT) Message-ID: <68e623bc.050a0220.2b84b4.757bSMTPIN_ADDED_MISSING@mx.google.com> Received: from [172.21.0.8] (unknown [172.18.0.240]) by postal.iol.unh.edu (Postfix) with ESMTP id 5F56D6051830; Wed, 8 Oct 2025 04:41:32 -0400 (EDT) Subject: |SUCCESS| pw157303 [PATCH] net/idpf: correct the enum constant name From: dpdklab@iol.unh.edu To: Test Report Cc: dpdk-test-reports@iol.unh.edu, Bruce Richardson In-Reply-To: <20251007040436.2924355-1-shaiq.wani@intel.com> References: <20251007040436.2924355-1-shaiq.wani@intel.com> Content-Type: text/plain X-BeenThere: test-report@dpdk.org X-Mailman-Version: 2.1.29 Precedence: list List-Id: automatic DPDK test reports List-Unsubscribe: , List-Archive: List-Post: List-Help: List-Subscribe: , Errors-To: test-report-bounces@dpdk.org Test-Label: iol-compile-amd64-testing Test-Status: SUCCESS http://dpdk.org/patch/157303 _Testing PASS_ Submitter: Shaiq Wani Date: Tuesday, October 07 2025 04:04:36 DPDK git baseline: Repo:dpdk-next-net-intel Branch: master CommitID:e7d8cc7ef4df3552575525697079d3c957cfcdaf 157303 --> testing pass Upstream job id: Generic-DPDK-Compile-Meson#432145 Test environment and result as below: +-------------------------------+-------------------+--------------------+-------------------------+----------------------+-------------------+------------------+ | Environment | dpdk_msvc_compile | dpdk_meson_compile | dpdk_llvm_clang_compile | dpdk_mingw64_compile | dpdk_compile_spdk | dpdk_compile_ovs | +===============================+===================+====================+=========================+======================+===================+==================+ | Windows Server 2022 | PASS | SKIPPED | PASS | PASS | SKIPPED | SKIPPED | +-------------------------------+-------------------+--------------------+-------------------------+----------------------+-------------------+------------------+ | FreeBSD 14.2 | SKIPPED | PASS | SKIPPED | SKIPPED | SKIPPED | SKIPPED | +-------------------------------+-------------------+--------------------+-------------------------+----------------------+-------------------+------------------+ | Ubuntu 20.04 | SKIPPED | PASS | SKIPPED | SKIPPED | SKIPPED | SKIPPED | +-------------------------------+-------------------+--------------------+-------------------------+----------------------+-------------------+------------------+ | CentOS Stream 9 | SKIPPED | PASS | SKIPPED | SKIPPED | PASS | SKIPPED | +-------------------------------+-------------------+--------------------+-------------------------+----------------------+-------------------+------------------+ | CentOS Stream 10 | SKIPPED | PASS | SKIPPED | SKIPPED | SKIPPED | SKIPPED | +-------------------------------+-------------------+--------------------+-------------------------+----------------------+-------------------+------------------+ | Debian GNU/Linux 12 | SKIPPED | PASS | SKIPPED | SKIPPED | PASS | SKIPPED | +-------------------------------+-------------------+--------------------+-------------------------+----------------------+-------------------+------------------+ | Fedora Linux 42 | SKIPPED | PASS | SKIPPED | SKIPPED | PASS | PASS | +-------------------------------+-------------------+--------------------+-------------------------+----------------------+-------------------+------------------+ | openSUSE Leap 15.6 | SKIPPED | PASS | SKIPPED | SKIPPED | SKIPPED | SKIPPED | +-------------------------------+-------------------+--------------------+-------------------------+----------------------+-------------------+------------------+ | Red Hat Enterprise Linux 8.10 | SKIPPED | PASS | SKIPPED | SKIPPED | SKIPPED | SKIPPED | +-------------------------------+-------------------+--------------------+-------------------------+----------------------+-------------------+------------------+ | Red Hat Enterprise Linux 9.5 | SKIPPED | PASS | SKIPPED | SKIPPED | SKIPPED | SKIPPED | +-------------------------------+-------------------+--------------------+-------------------------+----------------------+-------------------+------------------+ | Ubuntu 22.04 | SKIPPED | PASS | SKIPPED | SKIPPED | PASS | SKIPPED | +-------------------------------+-------------------+--------------------+-------------------------+----------------------+-------------------+------------------+ | Ubuntu 24.04 | SKIPPED | PASS | SKIPPED | SKIPPED | PASS | PASS | +-------------------------------+-------------------+--------------------+-------------------------+----------------------+-------------------+------------------+ | Alpine Linux 3.22.0 | SKIPPED | PASS | SKIPPED | SKIPPED | SKIPPED | SKIPPED | +-------------------------------+-------------------+--------------------+-------------------------+----------------------+-------------------+------------------+ Windows Server 2022 Kernel: 10.0.20348.2031 Compiler: clang 15.0.7, gcc 14.1.0 (MinGW), and MSVC VS 19.39.33521 FreeBSD 14.2 Kernel: 14.2-RELEASE Compiler: clang 18.1.6 Ubuntu 20.04 Kernel: 4.19 Compiler: gcc gcc (Ubuntu 9.4.0-1ubuntu1~20.04.2) 9.4.0 CentOS Stream 9 Kernel: 5.15 Compiler: gcc gcc (GCC) 11.5.0 20240719 (Red Hat 11.5.0-11) CentOS Stream 10 Kernel: 5.15 Compiler: gcc gcc (GCC) 14.2.1 20250110 (Red Hat 14.2.1-8) Debian GNU/Linux 12 Kernel: 5.15 Compiler: gcc gcc (Debian 12.2.0-14+deb12u1) 12.2.0 Fedora Linux 42 Kernel: 5.15 Compiler: clang gcc (GCC) 15.2.1 20250808 (Red Hat 15.2.1-1) openSUSE Leap 15.6 Kernel: 5.15 Compiler: gcc gcc (SUSE Linux) 7.5.0 Red Hat Enterprise Linux 8.10 Kernel: 5.15 Compiler: gcc gcc (GCC) 8.5.0 20210514 (Red Hat 8.5.0-22) Red Hat Enterprise Linux 9.5 Kernel: 5.15 Compiler: gcc gcc (GCC) 11.5.0 20240719 (Red Hat 11.5.0-2) Ubuntu 22.04 Kernel: 5.15 Compiler: gcc gcc (Ubuntu 11.4.0-1ubuntu1~22.04) 11.4.0 Ubuntu 24.04 Kernel: 5.15 Compiler: gcc gcc (Ubuntu 13.3.0-6ubuntu2~24.04) 13.3.0 Alpine Linux 3.22.0 Kernel: 5.15 Compiler: gcc gcc (Alpine 14.2.0) 14.2.0 To view detailed results, visit: https://lab.dpdk.org/results/dashboard/patchsets/34225/ UNH-IOL DPDK Community Lab To manage your email subscriptions, visit: https://lab.dpdk.org/results/dashboard/preferences/subscriptions/