From mboxrd@z Thu Jan 1 00:00:00 1970 Return-Path: Received: from mails.dpdk.org (mails.dpdk.org [217.70.189.124]) by inbox.dpdk.org (Postfix) with ESMTP id C2C58488E1 for ; Wed, 8 Oct 2025 10:42:27 +0200 (CEST) Received: from mails.dpdk.org (localhost [127.0.0.1]) by mails.dpdk.org (Postfix) with ESMTP id BEA9A40297; Wed, 8 Oct 2025 10:42:27 +0200 (CEST) Received: from mail-yx1-f100.google.com (mail-yx1-f100.google.com [74.125.224.100]) by mails.dpdk.org (Postfix) with ESMTP id 79FFB40297 for ; Wed, 8 Oct 2025 10:42:26 +0200 (CEST) Received: by mail-yx1-f100.google.com with SMTP id 956f58d0204a3-637dc2292cfso7789929d50.3 for ; Wed, 08 Oct 2025 01:42:26 -0700 (PDT) DKIM-Signature: v=1; a=rsa-sha256; c=relaxed/relaxed; d=iol.unh.edu; s=unh-iol; t=1759912946; x=1760517746; darn=dpdk.org; h=references:in-reply-to:cc:to:from:subject:message-id:date:from:to :cc:subject:date:message-id:reply-to; bh=2NH8SaVXIN0+HNk0vU2gS1G1P22pnEnKsgnzC5k6BSc=; b=Y1/+hrV6X96GQeDqdH9bO8WduxXNaRpjejXBMhZRhkMTFbo3gPz6jnFNlIP17YY4ck RbJF9Lza2wTy4HfPwl9LI3c1ZS5dcq40VkBsxUO7BeSoTiT80AhwAxuBIyOiMDe5Q4bf k6RmSkmbRmG3CqKe62fdfipV12ff5FXxxA9iI= X-Google-DKIM-Signature: v=1; a=rsa-sha256; c=relaxed/relaxed; d=1e100.net; s=20230601; t=1759912946; x=1760517746; h=references:in-reply-to:cc:to:from:subject:message-id:date :x-gm-message-state:from:to:cc:subject:date:message-id:reply-to; bh=2NH8SaVXIN0+HNk0vU2gS1G1P22pnEnKsgnzC5k6BSc=; b=vBm/whXz+cSqzo352Yk/mRmWYt9y067+xCZvgZVqomQZYDBd5JGq9uRxa6/ImoFqV9 BJHDnE0olkpA1YQcLjOP7hc3VbjYAR0K4a+CD6OQ6T9Tz5ZdgFxwyJAVmkFL/b7N1+y/ rqh7JofdUpUc2PGqsbutkgmbByifbF9ijIUALFGetqi7qItrmO9cUVlSSkr2q/zhmIhA 2wmFBf8EOltHSkEJK9P6y9gxNJuSGHZKQCXM942w8Vs5zNzLy0TfXC8YgdqtC54o++jq BAweOtt1G1hsklhToO4B5Xz0C9JJjIg9G+8hr3L+AHwKNURfq4NYlbNM01/U7fZClq5R TN8w== X-Gm-Message-State: AOJu0YwZquRVW60FL1fHttNMJu71iJfvkDl6xM3iGvSLt503vdWUfQbW viDjQAoe7nq4kUhGCHAiNnCIMaYFWZIQ0ROxIW2HGbDW9W1qfYpoWkeWIb6wQue8+nk81GhV3LO 9duR0V3eNxX43ycroo3vcA78e3NJEPNXmk35O0Ps65mqKROFTaDUdaRSVle15 X-Gm-Gg: ASbGncsSzvDNPTqKxY7nfgUE7Ew7xPTHuDkhzvlS0sR45hzmp9QezGnu6fURyOg8YBE U2pMF7lm6Z/E18rgg77fKjN2krB32zMG2GeSNNT7PtfT70aC9UxBVjaSMD4UhKCg7RdJm/k1hkZ NTVYTWbK59oWgG1+1Vy1RA4uEwznMgTvt2jU8YnNqcyoh/vthnYFM+nxN2sjAR3QVZhiYjSxwq3 YK8gn68TloMmDANPhhVt6MD5WJ2H/HqkJxpCY/ZMG/750PbmoWa8RKvwPSj2VleJyC5UDwNdFPo icAhLMYnOJthcdVU9ogNIiXvqtMVdDTPTYIE42oVhQN8JfcKDDL/Tk8= X-Google-Smtp-Source: AGHT+IG0Wf/MuKGvV5r59kaan7KU96B42Q1mBwrD7YBu0BS26N8bT0iVuMzSvgfrxdwvxoj5g4hhesOsRbC5 X-Received: by 2002:a05:690c:8685:10b0:749:d874:e66e with SMTP id 00721157ae682-780e159ef6amr45843327b3.24.1759912945852; Wed, 08 Oct 2025 01:42:25 -0700 (PDT) Received: from postal.iol.unh.edu (postal.iol.unh.edu. [2606:4100:3880:1234::84]) by smtp-relay.gmail.com with ESMTPS id 00721157ae682-77f81c35a5esm10731347b3.15.2025.10.08.01.42.25 (version=TLS1_2 cipher=ECDHE-ECDSA-AES128-GCM-SHA256 bits=128/128); Wed, 08 Oct 2025 01:42:25 -0700 (PDT) X-Relaying-Domain: iol.unh.edu Date: Wed, 08 Oct 2025 01:42:25 -0700 (PDT) Message-ID: <68e623f1.050a0220.1c841a.b804SMTPIN_ADDED_MISSING@mx.google.com> Received: from [172.21.0.9] (unknown [172.18.0.240]) by postal.iol.unh.edu (Postfix) with ESMTP id 83C206051830; Wed, 8 Oct 2025 04:42:25 -0400 (EDT) Subject: |SUCCESS| pw157303 [PATCH] net/idpf: correct the enum constant name From: dpdklab@iol.unh.edu To: Test Report Cc: dpdk-test-reports@iol.unh.edu, Bruce Richardson In-Reply-To: <20251007040436.2924355-1-shaiq.wani@intel.com> References: <20251007040436.2924355-1-shaiq.wani@intel.com> Content-Type: text/plain X-BeenThere: test-report@dpdk.org X-Mailman-Version: 2.1.29 Precedence: list List-Id: automatic DPDK test reports List-Unsubscribe: , List-Archive: List-Post: List-Help: List-Subscribe: , Errors-To: test-report-bounces@dpdk.org Test-Label: iol-compile-amd64-testing Test-Status: SUCCESS http://dpdk.org/patch/157303 _Testing PASS_ Submitter: Shaiq Wani Date: Tuesday, October 07 2025 04:04:36 DPDK git baseline: Repo:dpdk-next-net-intel Branch: master CommitID:e7d8cc7ef4df3552575525697079d3c957cfcdaf 157303 --> testing pass Upstream job id: Generic-DPDK-Compile-Meson#432137 Test environment and result as below: +-------------------------------+-------------------+--------------------+-------------------------+----------------------+-------------------+------------------+ | Environment | dpdk_msvc_compile | dpdk_meson_compile | dpdk_llvm_clang_compile | dpdk_mingw64_compile | dpdk_compile_spdk | dpdk_compile_ovs | +===============================+===================+====================+=========================+======================+===================+==================+ | Windows Server 2022 | PASS | SKIPPED | PASS | PASS | SKIPPED | SKIPPED | +-------------------------------+-------------------+--------------------+-------------------------+----------------------+-------------------+------------------+ | FreeBSD 14.2 | SKIPPED | PASS | SKIPPED | SKIPPED | SKIPPED | SKIPPED | +-------------------------------+-------------------+--------------------+-------------------------+----------------------+-------------------+------------------+ | Ubuntu 20.04 | SKIPPED | PASS | SKIPPED | SKIPPED | SKIPPED | SKIPPED | +-------------------------------+-------------------+--------------------+-------------------------+----------------------+-------------------+------------------+ | CentOS Stream 9 | SKIPPED | PASS | SKIPPED | SKIPPED | PASS | SKIPPED | +-------------------------------+-------------------+--------------------+-------------------------+----------------------+-------------------+------------------+ | CentOS Stream 10 | SKIPPED | PASS | SKIPPED | SKIPPED | SKIPPED | SKIPPED | +-------------------------------+-------------------+--------------------+-------------------------+----------------------+-------------------+------------------+ | Debian GNU/Linux 12 | SKIPPED | PASS | SKIPPED | SKIPPED | PASS | SKIPPED | +-------------------------------+-------------------+--------------------+-------------------------+----------------------+-------------------+------------------+ | Fedora Linux 42 | SKIPPED | PASS | SKIPPED | SKIPPED | PASS | PASS | +-------------------------------+-------------------+--------------------+-------------------------+----------------------+-------------------+------------------+ | openSUSE Leap 15.6 | SKIPPED | PASS | SKIPPED | SKIPPED | SKIPPED | SKIPPED | +-------------------------------+-------------------+--------------------+-------------------------+----------------------+-------------------+------------------+ | Red Hat Enterprise Linux 8.10 | SKIPPED | PASS | SKIPPED | SKIPPED | SKIPPED | SKIPPED | +-------------------------------+-------------------+--------------------+-------------------------+----------------------+-------------------+------------------+ | Red Hat Enterprise Linux 9.5 | SKIPPED | PASS | SKIPPED | SKIPPED | SKIPPED | SKIPPED | +-------------------------------+-------------------+--------------------+-------------------------+----------------------+-------------------+------------------+ | Ubuntu 22.04 | SKIPPED | PASS | SKIPPED | SKIPPED | PASS | SKIPPED | +-------------------------------+-------------------+--------------------+-------------------------+----------------------+-------------------+------------------+ | Ubuntu 24.04 | SKIPPED | PASS | SKIPPED | SKIPPED | PASS | PASS | +-------------------------------+-------------------+--------------------+-------------------------+----------------------+-------------------+------------------+ | Alpine Linux 3.22.0 | SKIPPED | PASS | SKIPPED | SKIPPED | SKIPPED | SKIPPED | +-------------------------------+-------------------+--------------------+-------------------------+----------------------+-------------------+------------------+ Windows Server 2022 Kernel: 10.0.20348.2031 Compiler: clang 15.0.7, gcc 14.1.0 (MinGW), and MSVC VS 19.39.33521 FreeBSD 14.2 Kernel: 14.2-RELEASE Compiler: clang 18.1.6 Ubuntu 20.04 Kernel: 4.19 Compiler: gcc gcc (Ubuntu 9.4.0-1ubuntu1~20.04.2) 9.4.0 CentOS Stream 9 Kernel: 5.15 Compiler: gcc gcc (GCC) 11.5.0 20240719 (Red Hat 11.5.0-11) CentOS Stream 10 Kernel: 5.15 Compiler: gcc gcc (GCC) 14.2.1 20250110 (Red Hat 14.2.1-8) Debian GNU/Linux 12 Kernel: 5.15 Compiler: gcc gcc (Debian 12.2.0-14+deb12u1) 12.2.0 Fedora Linux 42 Kernel: 5.15 Compiler: clang gcc (GCC) 15.2.1 20250808 (Red Hat 15.2.1-1) openSUSE Leap 15.6 Kernel: 5.15 Compiler: gcc gcc (SUSE Linux) 7.5.0 Red Hat Enterprise Linux 8.10 Kernel: 5.15 Compiler: gcc gcc (GCC) 8.5.0 20210514 (Red Hat 8.5.0-22) Red Hat Enterprise Linux 9.5 Kernel: 5.15 Compiler: gcc gcc (GCC) 11.5.0 20240719 (Red Hat 11.5.0-2) Ubuntu 22.04 Kernel: 5.15 Compiler: gcc gcc (Ubuntu 11.4.0-1ubuntu1~22.04) 11.4.0 Ubuntu 24.04 Kernel: 5.15 Compiler: gcc gcc (Ubuntu 13.3.0-6ubuntu2~24.04) 13.3.0 Alpine Linux 3.22.0 Kernel: 5.15 Compiler: gcc gcc (Alpine 14.2.0) 14.2.0 To view detailed results, visit: https://lab.dpdk.org/results/dashboard/patchsets/34225/ UNH-IOL DPDK Community Lab To manage your email subscriptions, visit: https://lab.dpdk.org/results/dashboard/preferences/subscriptions/