From mboxrd@z Thu Jan 1 00:00:00 1970 Return-Path: Received: from mails.dpdk.org (mails.dpdk.org [217.70.189.124]) by inbox.dpdk.org (Postfix) with ESMTP id CF610488E1 for ; Wed, 8 Oct 2025 10:42:30 +0200 (CEST) Received: from mails.dpdk.org (localhost [127.0.0.1]) by mails.dpdk.org (Postfix) with ESMTP id CB69140297; Wed, 8 Oct 2025 10:42:30 +0200 (CEST) Received: from mail-pf1-f225.google.com (mail-pf1-f225.google.com [209.85.210.225]) by mails.dpdk.org (Postfix) with ESMTP id 598D640647 for ; Wed, 8 Oct 2025 10:42:28 +0200 (CEST) Received: by mail-pf1-f225.google.com with SMTP id d2e1a72fcca58-781001e3846so6523077b3a.2 for ; Wed, 08 Oct 2025 01:42:28 -0700 (PDT) DKIM-Signature: v=1; a=rsa-sha256; c=relaxed/relaxed; d=iol.unh.edu; s=unh-iol; t=1759912947; x=1760517747; darn=dpdk.org; h=cc:to:from:subject:message-id:date:from:to:cc:subject:date :message-id:reply-to; bh=TyJxvjPxdKUSye/UAkKVIEOW65m9EYHkNGWhQuMg53o=; b=Jqp3SwtDxGid4QsU0B+GMeRpt0vYVQ/9BTz6DLx2eI+7lG71X3s6mbDDSCrEXMCnh3 SK5XXU+ETyYkarGU6B9jmhzpB9aUot+ZpbchnyYpw3IDvvlHE1qd1dR2N6Ax4spUPaCZ /GoxOAYF7MAKgsf9in5e6QpOVsNsohZ0VbVe4= X-Google-DKIM-Signature: v=1; a=rsa-sha256; c=relaxed/relaxed; d=1e100.net; s=20230601; t=1759912947; x=1760517747; h=cc:to:from:subject:message-id:date:x-gm-message-state:from:to:cc :subject:date:message-id:reply-to; bh=TyJxvjPxdKUSye/UAkKVIEOW65m9EYHkNGWhQuMg53o=; b=gioEWWWQne7/1TJfY9klRpv+UYrcpM2ej/ZTTq9woGC+M3jMn88sfVM2m/5mRo5/yz SoEKltkuFzp2xksA5gIAlHih/OjsU9HF2n63MyJ5L4hWnCfygsR8/F4UvaGOZV9cNpbu 3oqyKutDnkRxOLGYB+I8Ry02h/Xehi/I2UCtuiaJXKOYEVRgni2vkbPiPr7u6M9nkczy wtFvOysQWt+VWJATHGzEC3Rqg2seelYot3CFc+vDHTkel2X6+u8GoEU+/2zP8KOV4vpO VmocKW87DoXHZG5lwCnUMNHmKKaLcF8I4xDR0KQV9XgjkiqouAc/oYYg55w+PUaWhHU9 Mz6w== X-Gm-Message-State: AOJu0Ywwdq/SpYNoKFTIuRVxwVO/FRVVfn7iB0KUf01NxdBd1yzG66SR D6ukAUJ7pgX72MR3MJISeWma+r/MOBb8OLS4EJSBNSOe5Vc9JWA7BiRfHKcTtsU0dBhS/QzsLG1 GD7bhCyXnE9K6YRd/xDKnTTYINu2IxDDI4CbG X-Gm-Gg: ASbGnctF1ayS/NIBNXUOQiZ73rfYdLr4M1KaKE6xoEGy5hA3FpY9i2+Owh3VK79KMgN IeyeHmjDAqoj47+qjeQIJWjjTGIJUkXZBL9kozQrwdy342lgwpxh9AhzqHNHnXLRywPjFj0J0Ka CoFiLIAzd6/TMWyUEkxU0Kp5bwErcuXLv5B4rLUFWx9GSlAyEQiV2gEK8vmqMEFiYk/Rkbxh9Oj 5LlLdt55fnGvSshgxx0o23LsytZLgVBquieJjhzroMJ/tTn0EvR/5ukHtuTqucE3i99e2GfJeyc 3dWe1FjZc9dNGuAFhsOM+zlUMg1ojPEFiv9O8aNZutlnTKeGX/GrGPTS54Yl4lXHEHgK2rREY9U YVg== X-Google-Smtp-Source: AGHT+IEWqCWMEPOi8y4uTnMhfyrb3MNZL9aN5qjjC8C0f2d8i23IlMEONduRsuZbVhPZQeZiWcPhuwarCP3A X-Received: by 2002:a05:6a00:b85:b0:781:32e:53cb with SMTP id d2e1a72fcca58-79384f48ca9mr3300721b3a.2.1759912947407; Wed, 08 Oct 2025 01:42:27 -0700 (PDT) Received: from postal.iol.unh.edu (postal.iol.unh.edu. [132.177.123.84]) by smtp-relay.gmail.com with ESMTPS id d2e1a72fcca58-78b0204cdd2sm1223077b3a.13.2025.10.08.01.42.27 (version=TLS1_2 cipher=ECDHE-ECDSA-AES128-GCM-SHA256 bits=128/128); Wed, 08 Oct 2025 01:42:27 -0700 (PDT) X-Relaying-Domain: iol.unh.edu Date: Wed, 08 Oct 2025 01:42:27 -0700 (PDT) Message-ID: <68e623f3.050a0220.245412.2e4fSMTPIN_ADDED_MISSING@mx.google.com> Received: from [172.21.0.4] (unknown [172.18.0.240]) by postal.iol.unh.edu (Postfix) with ESMTP id DE7286051830; Wed, 8 Oct 2025 04:42:26 -0400 (EDT) Subject: |SUCCESS| [GIT MASTER] 3b43ce3f4a54468e7ef65760c2fd7b4d6ee6d9fc From: dpdklab@iol.unh.edu To: Test Report Cc: dpdk-test-reports@iol.unh.edu, Xueming Li , Christian Ehrhardt , Kevin Traynor , Luca Boccassi Content-Type: text/plain X-BeenThere: test-report@dpdk.org X-Mailman-Version: 2.1.29 Precedence: list List-Id: automatic DPDK test reports List-Unsubscribe: , List-Archive: List-Post: List-Help: List-Subscribe: , Errors-To: test-report-bounces@dpdk.org _Testing PASS_ Branch: tags/v22.11 3b43ce3f4a54468e7ef65760c2fd7b4d6ee6d9fc --> testing pass Upstream job id: Generic-DPDK-Compile-Meson#432089 Test environment and result as below: +-------------------------------+--------------------+-------------------------+----------------------+ | Environment | dpdk_meson_compile | dpdk_llvm_clang_compile | dpdk_mingw64_compile | +===============================+====================+=========================+======================+ | Ubuntu 20.04 | PASS | SKIPPED | SKIPPED | +-------------------------------+--------------------+-------------------------+----------------------+ | FreeBSD 14.2 | PASS | SKIPPED | SKIPPED | +-------------------------------+--------------------+-------------------------+----------------------+ | CentOS Stream 9 | PASS | SKIPPED | SKIPPED | +-------------------------------+--------------------+-------------------------+----------------------+ | CentOS Stream 10 | PASS | SKIPPED | SKIPPED | +-------------------------------+--------------------+-------------------------+----------------------+ | Debian GNU/Linux 12 | PASS | SKIPPED | SKIPPED | +-------------------------------+--------------------+-------------------------+----------------------+ | Fedora Linux 42 | PASS | SKIPPED | SKIPPED | +-------------------------------+--------------------+-------------------------+----------------------+ | openSUSE Leap 15.6 | PASS | SKIPPED | SKIPPED | +-------------------------------+--------------------+-------------------------+----------------------+ | Red Hat Enterprise Linux 8.10 | PASS | SKIPPED | SKIPPED | +-------------------------------+--------------------+-------------------------+----------------------+ | Red Hat Enterprise Linux 9.5 | PASS | SKIPPED | SKIPPED | +-------------------------------+--------------------+-------------------------+----------------------+ | Ubuntu 22.04 | PASS | SKIPPED | SKIPPED | +-------------------------------+--------------------+-------------------------+----------------------+ | Ubuntu 24.04 | PASS | SKIPPED | SKIPPED | +-------------------------------+--------------------+-------------------------+----------------------+ | Windows Server 2022 | SKIPPED | PASS | PASS | +-------------------------------+--------------------+-------------------------+----------------------+ Ubuntu 20.04 Kernel: 4.19 Compiler: gcc gcc (Ubuntu 9.4.0-1ubuntu1~20.04.2) 9.4.0 FreeBSD 14.2 Kernel: 14.2-RELEASE Compiler: clang 18.1.6 CentOS Stream 9 Kernel: 5.15 Compiler: gcc gcc (GCC) 11.5.0 20240719 (Red Hat 11.5.0-11) CentOS Stream 10 Kernel: 5.15 Compiler: gcc gcc (GCC) 14.2.1 20250110 (Red Hat 14.2.1-8) Debian GNU/Linux 12 Kernel: 5.15 Compiler: gcc gcc (Debian 12.2.0-14+deb12u1) 12.2.0 Fedora Linux 42 Kernel: 5.15 Compiler: clang gcc (GCC) 15.2.1 20250808 (Red Hat 15.2.1-1) openSUSE Leap 15.6 Kernel: 5.15 Compiler: gcc gcc (SUSE Linux) 7.5.0 Red Hat Enterprise Linux 8.10 Kernel: 5.15 Compiler: gcc gcc (GCC) 8.5.0 20210514 (Red Hat 8.5.0-22) Red Hat Enterprise Linux 9.5 Kernel: 5.15 Compiler: gcc gcc (GCC) 11.5.0 20240719 (Red Hat 11.5.0-2) Ubuntu 22.04 Kernel: 5.15 Compiler: gcc gcc (Ubuntu 11.4.0-1ubuntu1~22.04) 11.4.0 Ubuntu 24.04 Kernel: 5.15 Compiler: gcc gcc (Ubuntu 13.3.0-6ubuntu2~24.04) 13.3.0 Windows Server 2022 Kernel: 10.0.20348.2031 Compiler: clang 15.0.7, gcc 14.1.0 (MinGW), and MSVC VS 19.39.33521 To view detailed results, visit: https://lab.dpdk.org/results/dashboard/tarballs/35124/ UNH-IOL DPDK Community Lab To manage your email subscriptions, visit: https://lab.dpdk.org/results/dashboard/preferences/subscriptions/