From mboxrd@z Thu Jan 1 00:00:00 1970 Return-Path: Received: from mails.dpdk.org (mails.dpdk.org [217.70.189.124]) by inbox.dpdk.org (Postfix) with ESMTP id 61436488E1 for ; Wed, 8 Oct 2025 10:46:34 +0200 (CEST) Received: from mails.dpdk.org (localhost [127.0.0.1]) by mails.dpdk.org (Postfix) with ESMTP id 5731340297; Wed, 8 Oct 2025 10:46:34 +0200 (CEST) Received: from mail-pf1-f225.google.com (mail-pf1-f225.google.com [209.85.210.225]) by mails.dpdk.org (Postfix) with ESMTP id D01E940297 for ; Wed, 8 Oct 2025 10:46:33 +0200 (CEST) Received: by mail-pf1-f225.google.com with SMTP id d2e1a72fcca58-793021f348fso1415302b3a.1 for ; Wed, 08 Oct 2025 01:46:33 -0700 (PDT) DKIM-Signature: v=1; a=rsa-sha256; c=relaxed/relaxed; d=iol.unh.edu; s=unh-iol; t=1759913193; x=1760517993; darn=dpdk.org; h=references:in-reply-to:cc:to:from:subject:message-id:date:from:to :cc:subject:date:message-id:reply-to; bh=2GglI52oh072i3aG+uuRDXmpagyxt7ST75XLVnQtJ4Q=; b=RNaE/zJIZ3il0xPMoy958P71L2/pSovzOVUlZYQ1KjaRGiEij6FYchZ4LITc4JEUhQ ufWHIEX9Wujs18CufUX9i5RdjSQwCaH7IfQyT+Cm6dT3+r7HU7TrtR09tea5HymdwKqB HiIeIpb3op7prYH9w4Ms0pkGbqGCSXvA67l4A= X-Google-DKIM-Signature: v=1; a=rsa-sha256; c=relaxed/relaxed; d=1e100.net; s=20230601; t=1759913193; x=1760517993; h=references:in-reply-to:cc:to:from:subject:message-id:date :x-gm-message-state:from:to:cc:subject:date:message-id:reply-to; bh=2GglI52oh072i3aG+uuRDXmpagyxt7ST75XLVnQtJ4Q=; b=QvsP3Q4BOG9y+0BbG/Sb5M1UXGDESUNS/wQQs2AyGO1JmaV/frhI6zJstEkWwz5UhW B2tdsE2sbjXdd0OdSLk9pcwpVbAzGetxmN15K1vmLEFN+QXNOFOo8AxbEPuSpQPJG1v8 HF4GlQXR0NIG4OAZHDzTgZbOUW+qKR01pxki7ikwM4zSV9DrdscouzZB1MOepAnHFz4N W/8Am+oZ9HR05DrShVcmNnNeXr6ABR+nAarrJpabX18H6WptwpNBlPhQPKWmy8bY5ifF sOg46HtHr9SZKlhQ5WfH5kr0E/uIJTPcbRV0QPOqdJSRnm/rVDZonhnQ3/Qkhj2pLK/R Ctcw== X-Gm-Message-State: AOJu0YxEY9AODVIiGlSU+nbX1WoS2LY/gMkh82EPxHo4Rldm1YjbD7An a4dVop4HWZt6OyyfnTyzlL1RgpPVodT1+h1ZzSgm0z60+nXgPP0UFp7IundW8qffA73EIH1iFtU PYrp7H170cTtRqIZyxDNq6Ex1KwkGagi/DaHGYOy8tVluJpwkx98nBZG9TMxB X-Gm-Gg: ASbGncucg5Ra8qVxGMC8Af5h7fGhl3DIoU1Zb5uR9eH3vsvrSRc1DGCqHetfK8scAxS 7rlhXNhpWSSfNjPr/VoP9ba3Iric60n52PTXoDM2VhKEuWprQdq8yLFEDzylt6qi4PzCB+/r2Q3 Uz1e78VNDjqXVO8+4F7BhMWusVjvOHesx0cU56pEd81LoRm9fuwNqgik/phYmhHGgVJNVCGBH83 Y5jS+GPGpSZDK84v0aFxJVyiiFN7cFJjqQlIwSOWzlmzhAqkADp5F20uk6ld7cdGIn57CPhVvzd 55QwJxPE1g+cjSG8kqI73gNggMjrcq+9Ltt0JoTbbt7LMYQ+/vMEGKM= X-Google-Smtp-Source: AGHT+IH2If96N5P3vmZlKQEGTMOpk8vz7f3FT7/bCNhuTm5CWdfhsP9ZXVau0I+rOLCgyIXHCqygaT+j4YbW X-Received: by 2002:a17:902:e945:b0:269:8f2d:5221 with SMTP id d9443c01a7336-29027290222mr31198805ad.9.1759913192877; Wed, 08 Oct 2025 01:46:32 -0700 (PDT) Received: from postal.iol.unh.edu (postal.iol.unh.edu. [2606:4100:3880:1234::84]) by smtp-relay.gmail.com with ESMTPS id d9443c01a7336-28e8d12c89bsm13869055ad.32.2025.10.08.01.46.32 (version=TLS1_2 cipher=ECDHE-ECDSA-AES128-GCM-SHA256 bits=128/128); Wed, 08 Oct 2025 01:46:32 -0700 (PDT) X-Relaying-Domain: iol.unh.edu Date: Wed, 08 Oct 2025 01:46:32 -0700 (PDT) Message-ID: <68e624e8.170a0220.409ed.bb82SMTPIN_ADDED_MISSING@mx.google.com> Received: from [172.21.0.4] (unknown [172.18.0.240]) by postal.iol.unh.edu (Postfix) with ESMTP id 2FFCF6051830; Wed, 8 Oct 2025 04:46:32 -0400 (EDT) Subject: |SUCCESS| pw157309 [PATCH] [v1,1/1] net/ice: fix memory leak in raw From: dpdklab@iol.unh.edu To: Test Report Cc: dpdk-test-reports@iol.unh.edu, Bruce Richardson In-Reply-To: <65bfe82e74867020982e2729f84a7c00a5690c5b.1759837052.git.anatoly.burakov@intel.com> References: <65bfe82e74867020982e2729f84a7c00a5690c5b.1759837052.git.anatoly.burakov@intel.com> Content-Type: text/plain X-BeenThere: test-report@dpdk.org X-Mailman-Version: 2.1.29 Precedence: list List-Id: automatic DPDK test reports List-Unsubscribe: , List-Archive: List-Post: List-Help: List-Subscribe: , Errors-To: test-report-bounces@dpdk.org Test-Label: iol-compile-amd64-testing Test-Status: SUCCESS http://dpdk.org/patch/157309 _Testing PASS_ Submitter: Burakov, Anatoly Date: Tuesday, October 07 2025 11:37:40 DPDK git baseline: Repo:dpdk-next-net-intel Branch: master CommitID:e7d8cc7ef4df3552575525697079d3c957cfcdaf 157309 --> testing pass Upstream job id: Generic-DPDK-Compile-Meson#432179 Test environment and result as below: +-------------------------------+--------------------+-------------------+-------------------------+----------------------+-------------------+------------------+ | Environment | dpdk_meson_compile | dpdk_msvc_compile | dpdk_llvm_clang_compile | dpdk_mingw64_compile | dpdk_compile_spdk | dpdk_compile_ovs | +===============================+====================+===================+=========================+======================+===================+==================+ | Ubuntu 20.04 | PASS | SKIPPED | SKIPPED | SKIPPED | SKIPPED | SKIPPED | +-------------------------------+--------------------+-------------------+-------------------------+----------------------+-------------------+------------------+ | FreeBSD 14.2 | PASS | SKIPPED | SKIPPED | SKIPPED | SKIPPED | SKIPPED | +-------------------------------+--------------------+-------------------+-------------------------+----------------------+-------------------+------------------+ | CentOS Stream 9 | PASS | SKIPPED | SKIPPED | SKIPPED | PASS | SKIPPED | +-------------------------------+--------------------+-------------------+-------------------------+----------------------+-------------------+------------------+ | CentOS Stream 10 | PASS | SKIPPED | SKIPPED | SKIPPED | SKIPPED | SKIPPED | +-------------------------------+--------------------+-------------------+-------------------------+----------------------+-------------------+------------------+ | Debian GNU/Linux 12 | PASS | SKIPPED | SKIPPED | SKIPPED | PASS | SKIPPED | +-------------------------------+--------------------+-------------------+-------------------------+----------------------+-------------------+------------------+ | Fedora Linux 42 | PASS | SKIPPED | SKIPPED | SKIPPED | PASS | PASS | +-------------------------------+--------------------+-------------------+-------------------------+----------------------+-------------------+------------------+ | openSUSE Leap 15.6 | PASS | SKIPPED | SKIPPED | SKIPPED | SKIPPED | SKIPPED | +-------------------------------+--------------------+-------------------+-------------------------+----------------------+-------------------+------------------+ | Red Hat Enterprise Linux 8.10 | PASS | SKIPPED | SKIPPED | SKIPPED | SKIPPED | SKIPPED | +-------------------------------+--------------------+-------------------+-------------------------+----------------------+-------------------+------------------+ | Red Hat Enterprise Linux 9.5 | PASS | SKIPPED | SKIPPED | SKIPPED | SKIPPED | SKIPPED | +-------------------------------+--------------------+-------------------+-------------------------+----------------------+-------------------+------------------+ | Ubuntu 22.04 | PASS | SKIPPED | SKIPPED | SKIPPED | PASS | SKIPPED | +-------------------------------+--------------------+-------------------+-------------------------+----------------------+-------------------+------------------+ | Ubuntu 24.04 | PASS | SKIPPED | SKIPPED | SKIPPED | PASS | PASS | +-------------------------------+--------------------+-------------------+-------------------------+----------------------+-------------------+------------------+ | Alpine Linux 3.22.0 | PASS | SKIPPED | SKIPPED | SKIPPED | SKIPPED | SKIPPED | +-------------------------------+--------------------+-------------------+-------------------------+----------------------+-------------------+------------------+ | Windows Server 2022 | SKIPPED | PASS | PASS | PASS | SKIPPED | SKIPPED | +-------------------------------+--------------------+-------------------+-------------------------+----------------------+-------------------+------------------+ Ubuntu 20.04 Kernel: 4.19 Compiler: gcc gcc (Ubuntu 9.4.0-1ubuntu1~20.04.2) 9.4.0 FreeBSD 14.2 Kernel: 14.2-RELEASE Compiler: clang 18.1.6 CentOS Stream 9 Kernel: 5.15 Compiler: gcc gcc (GCC) 11.5.0 20240719 (Red Hat 11.5.0-11) CentOS Stream 10 Kernel: 5.15 Compiler: gcc gcc (GCC) 14.2.1 20250110 (Red Hat 14.2.1-8) Debian GNU/Linux 12 Kernel: 5.15 Compiler: gcc gcc (Debian 12.2.0-14+deb12u1) 12.2.0 Fedora Linux 42 Kernel: 5.15 Compiler: clang gcc (GCC) 15.2.1 20250808 (Red Hat 15.2.1-1) openSUSE Leap 15.6 Kernel: 5.15 Compiler: gcc gcc (SUSE Linux) 7.5.0 Red Hat Enterprise Linux 8.10 Kernel: 5.15 Compiler: gcc gcc (GCC) 8.5.0 20210514 (Red Hat 8.5.0-22) Red Hat Enterprise Linux 9.5 Kernel: 5.15 Compiler: gcc gcc (GCC) 11.5.0 20240719 (Red Hat 11.5.0-2) Ubuntu 22.04 Kernel: 5.15 Compiler: gcc gcc (Ubuntu 11.4.0-1ubuntu1~22.04) 11.4.0 Ubuntu 24.04 Kernel: 5.15 Compiler: gcc gcc (Ubuntu 13.3.0-6ubuntu2~24.04) 13.3.0 Alpine Linux 3.22.0 Kernel: 5.15 Compiler: gcc gcc (Alpine 14.2.0) 14.2.0 Windows Server 2022 Kernel: 10.0.20348.2031 Compiler: clang 15.0.7, gcc 14.1.0 (MinGW), and MSVC VS 19.39.33521 To view detailed results, visit: https://lab.dpdk.org/results/dashboard/patchsets/34227/ UNH-IOL DPDK Community Lab To manage your email subscriptions, visit: https://lab.dpdk.org/results/dashboard/preferences/subscriptions/