From mboxrd@z Thu Jan 1 00:00:00 1970 Return-Path: Received: from mails.dpdk.org (mails.dpdk.org [217.70.189.124]) by inbox.dpdk.org (Postfix) with ESMTP id 6DCBC488E1 for ; Wed, 8 Oct 2025 10:46:37 +0200 (CEST) Received: from mails.dpdk.org (localhost [127.0.0.1]) by mails.dpdk.org (Postfix) with ESMTP id 6969F40297; Wed, 8 Oct 2025 10:46:37 +0200 (CEST) Received: from mail-pl1-f226.google.com (mail-pl1-f226.google.com [209.85.214.226]) by mails.dpdk.org (Postfix) with ESMTP id EB75B40297 for ; Wed, 8 Oct 2025 10:46:35 +0200 (CEST) Received: by mail-pl1-f226.google.com with SMTP id d9443c01a7336-27edcbbe7bfso111262955ad.0 for ; Wed, 08 Oct 2025 01:46:35 -0700 (PDT) DKIM-Signature: v=1; a=rsa-sha256; c=relaxed/relaxed; d=iol.unh.edu; s=unh-iol; t=1759913195; x=1760517995; darn=dpdk.org; h=references:in-reply-to:cc:to:from:subject:message-id:date:from:to :cc:subject:date:message-id:reply-to; bh=vd7Rb8Ie4B12eVu8QmvTUppqOPYkZ1z3BXHs7LhnwwQ=; b=X6d0FYUJMV+MFuwIO91mY63gz1UcnH3wFgnNnLMEPc41l92L+AcgTquEoWkp1mUzmx UUvkpzJ8rKflfgOpRUseBfSpJVe+ihrc3jBWBC+GA+OqWEulfjNoMq2ICrHGC/RwswGm aa09gQp0kJBvSzuameoDieSOYp3XahDxSFOY0= X-Google-DKIM-Signature: v=1; a=rsa-sha256; c=relaxed/relaxed; d=1e100.net; s=20230601; t=1759913195; x=1760517995; h=references:in-reply-to:cc:to:from:subject:message-id:date :x-gm-message-state:from:to:cc:subject:date:message-id:reply-to; bh=vd7Rb8Ie4B12eVu8QmvTUppqOPYkZ1z3BXHs7LhnwwQ=; b=DEu+yBmmVR/uT5NnzPp7vsK/Qt5XeQpOWSHcITV1XNmSarzSYXTCuwrkd3/6aHRy8t jbz2s9GbwE8q1XFewBL8Mh08hGSVBA40w+FIfMr3eqv0Y/at91qgRimAqyPuAfAfGthv 9LXBE6fD372laC30j8EWhK0m3JrmpB4qbY03LLYq2SQrmcecChFf+IssqVU9N9S6QD13 gn//PQ4cU6LLxRZXyi/oLzy00nD/ItuI8XDdcvis+Ljh3pHSMTCbJ5FHdLQZIB8n4YzJ WqHiLtmxQOY4gZPHInXk0u75F0B2pna7koRGH/CYbfxjXfpf2GaKyOHDeAy+9DHiRZen Kmiw== X-Gm-Message-State: AOJu0YzuXHcDmRf0UteWGJlcgFbFUf+eijjvelbXf2Zx1PrMIeyGfLFZ bd/qz0J+aXvAZGQsOsPZXHcyAWD9MqyVnfLai/Nwtkwa3Pi+E7+jBb5YOxn+Kuko5LXZWu5KX2g qtWES7bVNxEYOxoBuVSTSJ/aEXtVgQedB9qGxscM6TEoLmfckb+Z31hCDDIgO X-Gm-Gg: ASbGncv3DqZ8tnNXmjI35MKb5msV0dIv0ZnVsfVempl9uowew6RahdWR8rhRhbjtqtP FfJQ4nE22ZVSZb5MbuRynBvRg+jFILFTXVck5p3eMfliDI26POcoTFlS54u5ffBbAf9cqbyM20y QdCI66HkU0daS9F6HUkJzzaPwIAcjfpZLcWqB0TbcL+7hgHOoeIk5sxGGlWvEA0nHHID8hp+Nch 8GcGy3ke76c8KTi9fMz3bdqTNuQ3eJZ0pQ3uplSQne+ohqXFsO4YuOgGz3fYvtib0K4p7Q8zLEf /04zWna+Og41Ffm2msX9EqaIz+iLYClPhccjNpnhIjtp1RqPmbbdZMY= X-Google-Smtp-Source: AGHT+IHYMj1cqFQteoAWwlngLbHssFiyfWtHWSsbQTRbeQKHlgtZfvb7OuLm/NA/49ZkEJRkGRdLOdBSr2Nf X-Received: by 2002:a17:902:f708:b0:27e:ed58:25e5 with SMTP id d9443c01a7336-290272498c8mr36940255ad.24.1759913195182; Wed, 08 Oct 2025 01:46:35 -0700 (PDT) Received: from postal.iol.unh.edu (postal.iol.unh.edu. [2606:4100:3880:1234::84]) by smtp-relay.gmail.com with ESMTPS id d9443c01a7336-28e8d118127sm14802365ad.21.2025.10.08.01.46.35 (version=TLS1_2 cipher=ECDHE-ECDSA-AES128-GCM-SHA256 bits=128/128); Wed, 08 Oct 2025 01:46:35 -0700 (PDT) X-Relaying-Domain: iol.unh.edu Date: Wed, 08 Oct 2025 01:46:35 -0700 (PDT) Message-ID: <68e624eb.170a0220.1ffa2a.1a0fSMTPIN_ADDED_MISSING@mx.google.com> Received: from [172.21.0.10] (unknown [172.18.0.240]) by postal.iol.unh.edu (Postfix) with ESMTP id AA5E76051830; Wed, 8 Oct 2025 04:46:34 -0400 (EDT) Subject: |SUCCESS| pw157310-157311 [PATCH] [v2,2/2] net/ice: fix memory leak From: dpdklab@iol.unh.edu To: Test Report Cc: dpdk-test-reports@iol.unh.edu, Bruce Richardson In-Reply-To: <200ebf9129483347f6263f130e167ff7fa42e7c3.1759840924.git.anatoly.burakov@intel.com> References: <200ebf9129483347f6263f130e167ff7fa42e7c3.1759840924.git.anatoly.burakov@intel.com> Content-Type: text/plain X-BeenThere: test-report@dpdk.org X-Mailman-Version: 2.1.29 Precedence: list List-Id: automatic DPDK test reports List-Unsubscribe: , List-Archive: List-Post: List-Help: List-Subscribe: , Errors-To: test-report-bounces@dpdk.org Test-Label: iol-compile-amd64-testing Test-Status: SUCCESS http://dpdk.org/patch/157311 _Testing PASS_ Submitter: Burakov, Anatoly Date: Tuesday, October 07 2025 12:42:12 DPDK git baseline: Repo:dpdk-next-net-intel Branch: master CommitID:e7d8cc7ef4df3552575525697079d3c957cfcdaf 157310-157311 --> testing pass Upstream job id: Generic-DPDK-Compile-Meson#432229 Test environment and result as below: +-------------------------------+-------------------------+--------------------+-------------------+----------------------+-------------------+------------------+ | Environment | dpdk_llvm_clang_compile | dpdk_meson_compile | dpdk_msvc_compile | dpdk_mingw64_compile | dpdk_compile_spdk | dpdk_compile_ovs | +===============================+=========================+====================+===================+======================+===================+==================+ | Windows Server 2022 | PASS | SKIPPED | PASS | PASS | SKIPPED | SKIPPED | +-------------------------------+-------------------------+--------------------+-------------------+----------------------+-------------------+------------------+ | Ubuntu 20.04 | SKIPPED | PASS | SKIPPED | SKIPPED | SKIPPED | SKIPPED | +-------------------------------+-------------------------+--------------------+-------------------+----------------------+-------------------+------------------+ | FreeBSD 14.2 | SKIPPED | PASS | SKIPPED | SKIPPED | SKIPPED | SKIPPED | +-------------------------------+-------------------------+--------------------+-------------------+----------------------+-------------------+------------------+ | CentOS Stream 9 | SKIPPED | PASS | SKIPPED | SKIPPED | PASS | SKIPPED | +-------------------------------+-------------------------+--------------------+-------------------+----------------------+-------------------+------------------+ | CentOS Stream 10 | SKIPPED | PASS | SKIPPED | SKIPPED | SKIPPED | SKIPPED | +-------------------------------+-------------------------+--------------------+-------------------+----------------------+-------------------+------------------+ | Debian GNU/Linux 12 | SKIPPED | PASS | SKIPPED | SKIPPED | PASS | SKIPPED | +-------------------------------+-------------------------+--------------------+-------------------+----------------------+-------------------+------------------+ | Fedora Linux 42 | SKIPPED | PASS | SKIPPED | SKIPPED | PASS | PASS | +-------------------------------+-------------------------+--------------------+-------------------+----------------------+-------------------+------------------+ | openSUSE Leap 15.6 | SKIPPED | PASS | SKIPPED | SKIPPED | SKIPPED | SKIPPED | +-------------------------------+-------------------------+--------------------+-------------------+----------------------+-------------------+------------------+ | Red Hat Enterprise Linux 8.10 | SKIPPED | PASS | SKIPPED | SKIPPED | SKIPPED | SKIPPED | +-------------------------------+-------------------------+--------------------+-------------------+----------------------+-------------------+------------------+ | Red Hat Enterprise Linux 9.5 | SKIPPED | PASS | SKIPPED | SKIPPED | SKIPPED | SKIPPED | +-------------------------------+-------------------------+--------------------+-------------------+----------------------+-------------------+------------------+ | Ubuntu 22.04 | SKIPPED | PASS | SKIPPED | SKIPPED | PASS | SKIPPED | +-------------------------------+-------------------------+--------------------+-------------------+----------------------+-------------------+------------------+ | Ubuntu 24.04 | SKIPPED | PASS | SKIPPED | SKIPPED | PASS | PASS | +-------------------------------+-------------------------+--------------------+-------------------+----------------------+-------------------+------------------+ | Alpine Linux 3.22.0 | SKIPPED | PASS | SKIPPED | SKIPPED | SKIPPED | SKIPPED | +-------------------------------+-------------------------+--------------------+-------------------+----------------------+-------------------+------------------+ Windows Server 2022 Kernel: 10.0.20348.2031 Compiler: clang 15.0.7, gcc 14.1.0 (MinGW), and MSVC VS 19.39.33521 Ubuntu 20.04 Kernel: 4.19 Compiler: gcc gcc (Ubuntu 9.4.0-1ubuntu1~20.04.2) 9.4.0 FreeBSD 14.2 Kernel: 14.2-RELEASE Compiler: clang 18.1.6 CentOS Stream 9 Kernel: 5.15 Compiler: gcc gcc (GCC) 11.5.0 20240719 (Red Hat 11.5.0-11) CentOS Stream 10 Kernel: 5.15 Compiler: gcc gcc (GCC) 14.2.1 20250110 (Red Hat 14.2.1-8) Debian GNU/Linux 12 Kernel: 5.15 Compiler: gcc gcc (Debian 12.2.0-14+deb12u1) 12.2.0 Fedora Linux 42 Kernel: 5.15 Compiler: clang gcc (GCC) 15.2.1 20250808 (Red Hat 15.2.1-1) openSUSE Leap 15.6 Kernel: 5.15 Compiler: gcc gcc (SUSE Linux) 7.5.0 Red Hat Enterprise Linux 8.10 Kernel: 5.15 Compiler: gcc gcc (GCC) 8.5.0 20210514 (Red Hat 8.5.0-22) Red Hat Enterprise Linux 9.5 Kernel: 5.15 Compiler: gcc gcc (GCC) 11.5.0 20240719 (Red Hat 11.5.0-2) Ubuntu 22.04 Kernel: 5.15 Compiler: gcc gcc (Ubuntu 11.4.0-1ubuntu1~22.04) 11.4.0 Ubuntu 24.04 Kernel: 5.15 Compiler: gcc gcc (Ubuntu 13.3.0-6ubuntu2~24.04) 13.3.0 Alpine Linux 3.22.0 Kernel: 5.15 Compiler: gcc gcc (Alpine 14.2.0) 14.2.0 To view detailed results, visit: https://lab.dpdk.org/results/dashboard/patchsets/34228/ UNH-IOL DPDK Community Lab To manage your email subscriptions, visit: https://lab.dpdk.org/results/dashboard/preferences/subscriptions/