From mboxrd@z Thu Jan 1 00:00:00 1970 Return-Path: Received: from mails.dpdk.org (mails.dpdk.org [217.70.189.124]) by inbox.dpdk.org (Postfix) with ESMTP id 79CC7488E1 for ; Wed, 8 Oct 2025 10:46:45 +0200 (CEST) Received: from mails.dpdk.org (localhost [127.0.0.1]) by mails.dpdk.org (Postfix) with ESMTP id 7537740297; Wed, 8 Oct 2025 10:46:45 +0200 (CEST) Received: from mail-pl1-f226.google.com (mail-pl1-f226.google.com [209.85.214.226]) by mails.dpdk.org (Postfix) with ESMTP id 0A68E40297 for ; Wed, 8 Oct 2025 10:46:44 +0200 (CEST) Received: by mail-pl1-f226.google.com with SMTP id d9443c01a7336-27d2c35c459so52145805ad.0 for ; Wed, 08 Oct 2025 01:46:43 -0700 (PDT) DKIM-Signature: v=1; a=rsa-sha256; c=relaxed/relaxed; d=iol.unh.edu; s=unh-iol; t=1759913203; x=1760518003; darn=dpdk.org; h=references:in-reply-to:cc:to:from:subject:message-id:date:from:to :cc:subject:date:message-id:reply-to; bh=/MO5F82/JOQ57EBTdPpZiAYqkcmn7117EfStI/n8R1k=; b=NehcVFAQ+Wx3VSQ+YV++FWlGhwFdPU4EK9Iq+QXnUKetKAk+pEwEdlD+h94sKazroC HZdXtnU/KNHnq0ORSMApzObMTmu3HZIkIQHDYM+btpNev2aAMycS+YmjrqGRQ7HFzclo nminu8mIr6QffZzTNXoOq5D+KKgsr2ZBLzxIQ= X-Google-DKIM-Signature: v=1; a=rsa-sha256; c=relaxed/relaxed; d=1e100.net; s=20230601; t=1759913203; x=1760518003; h=references:in-reply-to:cc:to:from:subject:message-id:date :x-gm-message-state:from:to:cc:subject:date:message-id:reply-to; bh=/MO5F82/JOQ57EBTdPpZiAYqkcmn7117EfStI/n8R1k=; b=X48pnniNi61M4WTNbR5N1agByGLK8xVXnNymSP+Svo8+BymXP04f9OqHbdGV4QmYZl zRu/iCZQfps7ugdhPLDq3h+e7T0b+tNwI7ufRhjDL1B2wYa+8iCzo5qjW+PRlF+MotkW N50XWNVPccwaqFj0/58NyByo9Lt/4cgHKVfn2xaVUT5k5Efw4/uBPP8lDCzEjqKXdtEO twESYw6cdC4jBkARTZcogJ+RONCYKBWJL5KvP8lPbyng2qUFmn/zQN8f4IN0Yte2QIW1 3IWeNrvb+/ftZJ23eeq65tA90j0CsvhWWEcdRlAuOx2sQlxRFDmVWOefeW9CU5TNhSzx vFJg== X-Gm-Message-State: AOJu0YxRkNvOp027OBtmtPAEPdVY6RBg7W4XLaV+g3s9UfpNOu/mNWNo yZBcuJnT5yuTWpnyGdhmLj9ThOePUB3ILRBsvdgSbK1Tge/nfENUPOPVkj+hnmigQ9jgobv/gtB yafI6qeem5vwtIGZpg51js0wSHZAUUIF7cptMKP9Lc8k3zf+kGPf/+jnugcAS X-Gm-Gg: ASbGncvOaG7Dgh8Jluyx1gHyeC3bWyIElo0seTaZ1XM0/iTIPsZWh8tT+AJBHCttYFk cY+tOeCbtoYoRxGJ9jvqJbIc4xfJ860CVQrNBsaxtJNcj01t+AruDnOrkN7Rq5cpxk+lsAZJa+W ggQy/K0PrAOlZQcIt0pdpfmmZXuAl51UYqpPkD6uWeeqhoECi0YyxeJvvbHfxlEYAlOdytiEuQ0 ZZQvlVj7vtJqzKxx3ZZ9GlzG6N0kCsbPwsOu83OXKkNazTgyDNtW6lDBFW4RaO0qXke/KNUyZ5Q mGwPsR+PANvoKRra5JrQMSvVHqxnB7yX8JviCavuxRXXgNPvQIiPgIc= X-Google-Smtp-Source: AGHT+IFmWc1n36eYUtqeRy92Jc5bko8eSXp/lY02afCVQXyKmqfoRsfUT9Fs+ELzyF0qZqNZzs2s1Rbyo9Ts X-Received: by 2002:a17:902:fc4c:b0:28e:a875:f7d1 with SMTP id d9443c01a7336-2902729036bmr32691835ad.10.1759913203254; Wed, 08 Oct 2025 01:46:43 -0700 (PDT) Received: from postal.iol.unh.edu (postal.iol.unh.edu. [2606:4100:3880:1234::84]) by smtp-relay.gmail.com with ESMTPS id d9443c01a7336-28e8d180b74sm14047265ad.40.2025.10.08.01.46.43 (version=TLS1_2 cipher=ECDHE-ECDSA-AES128-GCM-SHA256 bits=128/128); Wed, 08 Oct 2025 01:46:43 -0700 (PDT) X-Relaying-Domain: iol.unh.edu Date: Wed, 08 Oct 2025 01:46:43 -0700 (PDT) Message-ID: <68e624f3.170a0220.10b646.cc60SMTPIN_ADDED_MISSING@mx.google.com> Received: from [172.21.0.5] (unknown [172.18.0.240]) by postal.iol.unh.edu (Postfix) with ESMTP id 8376E6051830; Wed, 8 Oct 2025 04:46:42 -0400 (EDT) Subject: |SUCCESS| pw157310-157311 [PATCH] [v2,2/2] net/ice: fix memory leak From: dpdklab@iol.unh.edu To: Test Report Cc: dpdk-test-reports@iol.unh.edu, Bruce Richardson In-Reply-To: <200ebf9129483347f6263f130e167ff7fa42e7c3.1759840924.git.anatoly.burakov@intel.com> References: <200ebf9129483347f6263f130e167ff7fa42e7c3.1759840924.git.anatoly.burakov@intel.com> Content-Type: text/plain X-BeenThere: test-report@dpdk.org X-Mailman-Version: 2.1.29 Precedence: list List-Id: automatic DPDK test reports List-Unsubscribe: , List-Archive: List-Post: List-Help: List-Subscribe: , Errors-To: test-report-bounces@dpdk.org Test-Label: iol-compile-amd64-testing Test-Status: SUCCESS http://dpdk.org/patch/157311 _Testing PASS_ Submitter: Burakov, Anatoly Date: Tuesday, October 07 2025 12:42:12 DPDK git baseline: Repo:dpdk-next-net-intel Branch: master CommitID:e7d8cc7ef4df3552575525697079d3c957cfcdaf 157310-157311 --> testing pass Upstream job id: Generic-DPDK-Compile-Meson#432227 Test environment and result as below: +-------------------------------+-------------------------+--------------------+-------------------+----------------------+-------------------+------------------+ | Environment | dpdk_llvm_clang_compile | dpdk_meson_compile | dpdk_msvc_compile | dpdk_mingw64_compile | dpdk_compile_spdk | dpdk_compile_ovs | +===============================+=========================+====================+===================+======================+===================+==================+ | Windows Server 2022 | PASS | SKIPPED | PASS | PASS | SKIPPED | SKIPPED | +-------------------------------+-------------------------+--------------------+-------------------+----------------------+-------------------+------------------+ | Ubuntu 20.04 | SKIPPED | PASS | SKIPPED | SKIPPED | SKIPPED | SKIPPED | +-------------------------------+-------------------------+--------------------+-------------------+----------------------+-------------------+------------------+ | FreeBSD 14.2 | SKIPPED | PASS | SKIPPED | SKIPPED | SKIPPED | SKIPPED | +-------------------------------+-------------------------+--------------------+-------------------+----------------------+-------------------+------------------+ | CentOS Stream 9 | SKIPPED | PASS | SKIPPED | SKIPPED | PASS | SKIPPED | +-------------------------------+-------------------------+--------------------+-------------------+----------------------+-------------------+------------------+ | CentOS Stream 10 | SKIPPED | PASS | SKIPPED | SKIPPED | SKIPPED | SKIPPED | +-------------------------------+-------------------------+--------------------+-------------------+----------------------+-------------------+------------------+ | Debian GNU/Linux 12 | SKIPPED | PASS | SKIPPED | SKIPPED | PASS | SKIPPED | +-------------------------------+-------------------------+--------------------+-------------------+----------------------+-------------------+------------------+ | Fedora Linux 42 | SKIPPED | PASS | SKIPPED | SKIPPED | PASS | PASS | +-------------------------------+-------------------------+--------------------+-------------------+----------------------+-------------------+------------------+ | openSUSE Leap 15.6 | SKIPPED | PASS | SKIPPED | SKIPPED | SKIPPED | SKIPPED | +-------------------------------+-------------------------+--------------------+-------------------+----------------------+-------------------+------------------+ | Red Hat Enterprise Linux 8.10 | SKIPPED | PASS | SKIPPED | SKIPPED | SKIPPED | SKIPPED | +-------------------------------+-------------------------+--------------------+-------------------+----------------------+-------------------+------------------+ | Red Hat Enterprise Linux 9.5 | SKIPPED | PASS | SKIPPED | SKIPPED | SKIPPED | SKIPPED | +-------------------------------+-------------------------+--------------------+-------------------+----------------------+-------------------+------------------+ | Ubuntu 22.04 | SKIPPED | PASS | SKIPPED | SKIPPED | PASS | SKIPPED | +-------------------------------+-------------------------+--------------------+-------------------+----------------------+-------------------+------------------+ | Ubuntu 24.04 | SKIPPED | PASS | SKIPPED | SKIPPED | PASS | PASS | +-------------------------------+-------------------------+--------------------+-------------------+----------------------+-------------------+------------------+ | Alpine Linux 3.22.0 | SKIPPED | PASS | SKIPPED | SKIPPED | SKIPPED | SKIPPED | +-------------------------------+-------------------------+--------------------+-------------------+----------------------+-------------------+------------------+ Windows Server 2022 Kernel: 10.0.20348.2031 Compiler: clang 15.0.7, gcc 14.1.0 (MinGW), and MSVC VS 19.39.33521 Ubuntu 20.04 Kernel: 4.19 Compiler: gcc gcc (Ubuntu 9.4.0-1ubuntu1~20.04.2) 9.4.0 FreeBSD 14.2 Kernel: 14.2-RELEASE Compiler: clang 18.1.6 CentOS Stream 9 Kernel: 5.15 Compiler: gcc gcc (GCC) 11.5.0 20240719 (Red Hat 11.5.0-11) CentOS Stream 10 Kernel: 5.15 Compiler: gcc gcc (GCC) 14.2.1 20250110 (Red Hat 14.2.1-8) Debian GNU/Linux 12 Kernel: 5.15 Compiler: gcc gcc (Debian 12.2.0-14+deb12u1) 12.2.0 Fedora Linux 42 Kernel: 5.15 Compiler: clang gcc (GCC) 15.2.1 20250808 (Red Hat 15.2.1-1) openSUSE Leap 15.6 Kernel: 5.15 Compiler: gcc gcc (SUSE Linux) 7.5.0 Red Hat Enterprise Linux 8.10 Kernel: 5.15 Compiler: gcc gcc (GCC) 8.5.0 20210514 (Red Hat 8.5.0-22) Red Hat Enterprise Linux 9.5 Kernel: 5.15 Compiler: gcc gcc (GCC) 11.5.0 20240719 (Red Hat 11.5.0-2) Ubuntu 22.04 Kernel: 5.15 Compiler: gcc gcc (Ubuntu 11.4.0-1ubuntu1~22.04) 11.4.0 Ubuntu 24.04 Kernel: 5.15 Compiler: gcc gcc (Ubuntu 13.3.0-6ubuntu2~24.04) 13.3.0 Alpine Linux 3.22.0 Kernel: 5.15 Compiler: gcc gcc (Alpine 14.2.0) 14.2.0 To view detailed results, visit: https://lab.dpdk.org/results/dashboard/patchsets/34228/ UNH-IOL DPDK Community Lab To manage your email subscriptions, visit: https://lab.dpdk.org/results/dashboard/preferences/subscriptions/