From mboxrd@z Thu Jan 1 00:00:00 1970 Return-Path: Received: from mails.dpdk.org (mails.dpdk.org [217.70.189.124]) by inbox.dpdk.org (Postfix) with ESMTP id 9DC3F488E1 for ; Wed, 8 Oct 2025 10:47:18 +0200 (CEST) Received: from mails.dpdk.org (localhost [127.0.0.1]) by mails.dpdk.org (Postfix) with ESMTP id 99DF740297; Wed, 8 Oct 2025 10:47:18 +0200 (CEST) Received: from mail-pf1-f226.google.com (mail-pf1-f226.google.com [209.85.210.226]) by mails.dpdk.org (Postfix) with ESMTP id 9769940297 for ; Wed, 8 Oct 2025 10:47:17 +0200 (CEST) Received: by mail-pf1-f226.google.com with SMTP id d2e1a72fcca58-781db5068b8so5990957b3a.0 for ; Wed, 08 Oct 2025 01:47:17 -0700 (PDT) DKIM-Signature: v=1; a=rsa-sha256; c=relaxed/relaxed; d=iol.unh.edu; s=unh-iol; t=1759913237; x=1760518037; darn=dpdk.org; h=references:in-reply-to:cc:to:from:subject:message-id:date:from:to :cc:subject:date:message-id:reply-to; bh=IXbEwv5Flv8TetOWdbpE3N5UNa53EiBmDCunyf9vSWw=; b=BdGmERY8enIw1iVsWodfxe1AvZIH2N3A1WFcimP3J0gYeb1NjM554lIER6xm/FS/o7 4F8X5fx9VScPrKN3g79bOkKS3tISwsWZpD7CAEha/wgFhWln5Tz9qzCeVrsKwxm9nMjo pDIPNniADbE+jyn8uPb4JSHSzMcF3CanKmjEk= X-Google-DKIM-Signature: v=1; a=rsa-sha256; c=relaxed/relaxed; d=1e100.net; s=20230601; t=1759913237; x=1760518037; h=references:in-reply-to:cc:to:from:subject:message-id:date :x-gm-message-state:from:to:cc:subject:date:message-id:reply-to; bh=IXbEwv5Flv8TetOWdbpE3N5UNa53EiBmDCunyf9vSWw=; b=bYQy8W2erfP+GqqpF9/hH7a8KV0NFwXLr1+mMQ7SjSD6DY+9RU74mEnI334i0YuomO cEDixC12sXX/ai0oeghdhbp2Z4dwRELv/fW9cPFw0UzOb2Zo9ExSIvp8tl4zhsi5Vaqh E42kySttMJWq/POmc+zLST2Ae4/kyklbyTuX+4ZOz+GlkiArMFKFmWI8j5OksKaPIB+4 nLyBs/71JytrvSFjT3wuunIWgeE//twZCAIb6pu9kqy5gy4LTQ6rYGP0GBrOABPKuRKU vBuQ6l3RFeVsmISFiHObDnkvDaVCBfv2qaCHLFXZMEN4ZLtKPxTyj3dKaVXUX5ybtyNB iDSw== X-Gm-Message-State: AOJu0Yy1Tc+vNYmImqkwcBFgfGlGqYftcTIu409xfaEDnpjhRkBHqhfu iRJLUdhN60ZTYxr316aNOvNf8toouXzQTgxwBA8hc2vxs3q5qymibXSa2EELsaZLJmtb9rM0axN zdYrWXtKJZ3R+0HvU1EL51/s/hvoev4qVf8vBJE5m4xJDldmfO7W5tx1C1mta X-Gm-Gg: ASbGncuy00cIyuTn9h4Tn5MQjL20Zdp+/bLutd1yEpzaMOu6zjWxTJHGkfivvNcIOHG tetcYG8E/27WaiPJ/S7t9SpAtB5Z2GL3MjjfLMvlNjC4H6BnSikqgZdUxuLkDMPEaKp0YQCa6rV hs3jrcaNpYpG1dlQYLx3v16RbKbQnXWvSbydUciyvqss+1T8qNnZ0fVFHoD4cUoesSPbOjfUGlK A2QueHWKg3S3JcCKsPlLrgZlCVVOWRKILbxquKC2dEJB9tXdaz7Myn1I8DWkjq/0rv3ph8S4Jh4 Vo7lFeoBYaaYj0dBAk5B4tFx25XhBYkmtH6fcMn6YOk4Jjoky1r/nqs= X-Google-Smtp-Source: AGHT+IE8zm+aWtpwWz+IC8z7Bosyhwr7phOY4eirfxDVsPmwR4xY3MFOOYafi1ZjWhS9mfME729eym1RkOqO X-Received: by 2002:a17:902:f607:b0:27e:f018:d2f9 with SMTP id d9443c01a7336-290272c07eemr37927115ad.34.1759913236824; Wed, 08 Oct 2025 01:47:16 -0700 (PDT) Received: from postal.iol.unh.edu (postal.iol.unh.edu. [2606:4100:3880:1234::84]) by smtp-relay.gmail.com with ESMTPS id d9443c01a7336-28e8d02f2edsm14599115ad.0.2025.10.08.01.47.16 (version=TLS1_2 cipher=ECDHE-ECDSA-AES128-GCM-SHA256 bits=128/128); Wed, 08 Oct 2025 01:47:16 -0700 (PDT) X-Relaying-Domain: iol.unh.edu Date: Wed, 08 Oct 2025 01:47:16 -0700 (PDT) Message-ID: <68e62514.170a0220.89c4b.0429SMTPIN_ADDED_MISSING@mx.google.com> Received: from [172.21.0.9] (unknown [172.18.0.240]) by postal.iol.unh.edu (Postfix) with ESMTP id 1D72D6051830; Wed, 8 Oct 2025 04:47:16 -0400 (EDT) Subject: |SUCCESS| pw157310-157311 [PATCH] [v2,2/2] net/ice: fix memory leak From: dpdklab@iol.unh.edu To: Test Report Cc: dpdk-test-reports@iol.unh.edu, Bruce Richardson In-Reply-To: <200ebf9129483347f6263f130e167ff7fa42e7c3.1759840924.git.anatoly.burakov@intel.com> References: <200ebf9129483347f6263f130e167ff7fa42e7c3.1759840924.git.anatoly.burakov@intel.com> Content-Type: text/plain X-BeenThere: test-report@dpdk.org X-Mailman-Version: 2.1.29 Precedence: list List-Id: automatic DPDK test reports List-Unsubscribe: , List-Archive: List-Post: List-Help: List-Subscribe: , Errors-To: test-report-bounces@dpdk.org Test-Label: iol-compile-amd64-testing Test-Status: SUCCESS http://dpdk.org/patch/157311 _Testing PASS_ Submitter: Burakov, Anatoly Date: Tuesday, October 07 2025 12:42:12 DPDK git baseline: Repo:dpdk-next-net-intel Branch: master CommitID:e7d8cc7ef4df3552575525697079d3c957cfcdaf 157310-157311 --> testing pass Upstream job id: Generic-DPDK-Compile-Meson#432220 Test environment and result as below: +-------------------------------+-------------------------+--------------------+-------------------+----------------------+-------------------+------------------+ | Environment | dpdk_llvm_clang_compile | dpdk_meson_compile | dpdk_msvc_compile | dpdk_mingw64_compile | dpdk_compile_spdk | dpdk_compile_ovs | +===============================+=========================+====================+===================+======================+===================+==================+ | Windows Server 2022 | PASS | SKIPPED | PASS | PASS | SKIPPED | SKIPPED | +-------------------------------+-------------------------+--------------------+-------------------+----------------------+-------------------+------------------+ | Ubuntu 20.04 | SKIPPED | PASS | SKIPPED | SKIPPED | SKIPPED | SKIPPED | +-------------------------------+-------------------------+--------------------+-------------------+----------------------+-------------------+------------------+ | FreeBSD 14.2 | SKIPPED | PASS | SKIPPED | SKIPPED | SKIPPED | SKIPPED | +-------------------------------+-------------------------+--------------------+-------------------+----------------------+-------------------+------------------+ | CentOS Stream 9 | SKIPPED | PASS | SKIPPED | SKIPPED | PASS | SKIPPED | +-------------------------------+-------------------------+--------------------+-------------------+----------------------+-------------------+------------------+ | CentOS Stream 10 | SKIPPED | PASS | SKIPPED | SKIPPED | SKIPPED | SKIPPED | +-------------------------------+-------------------------+--------------------+-------------------+----------------------+-------------------+------------------+ | Debian GNU/Linux 12 | SKIPPED | PASS | SKIPPED | SKIPPED | PASS | SKIPPED | +-------------------------------+-------------------------+--------------------+-------------------+----------------------+-------------------+------------------+ | Fedora Linux 42 | SKIPPED | PASS | SKIPPED | SKIPPED | PASS | PASS | +-------------------------------+-------------------------+--------------------+-------------------+----------------------+-------------------+------------------+ | openSUSE Leap 15.6 | SKIPPED | PASS | SKIPPED | SKIPPED | SKIPPED | SKIPPED | +-------------------------------+-------------------------+--------------------+-------------------+----------------------+-------------------+------------------+ | Red Hat Enterprise Linux 8.10 | SKIPPED | PASS | SKIPPED | SKIPPED | SKIPPED | SKIPPED | +-------------------------------+-------------------------+--------------------+-------------------+----------------------+-------------------+------------------+ | Red Hat Enterprise Linux 9.5 | SKIPPED | PASS | SKIPPED | SKIPPED | SKIPPED | SKIPPED | +-------------------------------+-------------------------+--------------------+-------------------+----------------------+-------------------+------------------+ | Ubuntu 22.04 | SKIPPED | PASS | SKIPPED | SKIPPED | PASS | SKIPPED | +-------------------------------+-------------------------+--------------------+-------------------+----------------------+-------------------+------------------+ | Ubuntu 24.04 | SKIPPED | PASS | SKIPPED | SKIPPED | PASS | PASS | +-------------------------------+-------------------------+--------------------+-------------------+----------------------+-------------------+------------------+ | Alpine Linux 3.22.0 | SKIPPED | PASS | SKIPPED | SKIPPED | SKIPPED | SKIPPED | +-------------------------------+-------------------------+--------------------+-------------------+----------------------+-------------------+------------------+ Windows Server 2022 Kernel: 10.0.20348.2031 Compiler: clang 15.0.7, gcc 14.1.0 (MinGW), and MSVC VS 19.39.33521 Ubuntu 20.04 Kernel: 4.19 Compiler: gcc gcc (Ubuntu 9.4.0-1ubuntu1~20.04.2) 9.4.0 FreeBSD 14.2 Kernel: 14.2-RELEASE Compiler: clang 18.1.6 CentOS Stream 9 Kernel: 5.15 Compiler: gcc gcc (GCC) 11.5.0 20240719 (Red Hat 11.5.0-11) CentOS Stream 10 Kernel: 5.15 Compiler: gcc gcc (GCC) 14.2.1 20250110 (Red Hat 14.2.1-8) Debian GNU/Linux 12 Kernel: 5.15 Compiler: gcc gcc (Debian 12.2.0-14+deb12u1) 12.2.0 Fedora Linux 42 Kernel: 5.15 Compiler: clang gcc (GCC) 15.2.1 20250808 (Red Hat 15.2.1-1) openSUSE Leap 15.6 Kernel: 5.15 Compiler: gcc gcc (SUSE Linux) 7.5.0 Red Hat Enterprise Linux 8.10 Kernel: 5.15 Compiler: gcc gcc (GCC) 8.5.0 20210514 (Red Hat 8.5.0-22) Red Hat Enterprise Linux 9.5 Kernel: 5.15 Compiler: gcc gcc (GCC) 11.5.0 20240719 (Red Hat 11.5.0-2) Ubuntu 22.04 Kernel: 5.15 Compiler: gcc gcc (Ubuntu 11.4.0-1ubuntu1~22.04) 11.4.0 Ubuntu 24.04 Kernel: 5.15 Compiler: gcc gcc (Ubuntu 13.3.0-6ubuntu2~24.04) 13.3.0 Alpine Linux 3.22.0 Kernel: 5.15 Compiler: gcc gcc (Alpine 14.2.0) 14.2.0 To view detailed results, visit: https://lab.dpdk.org/results/dashboard/patchsets/34228/ UNH-IOL DPDK Community Lab To manage your email subscriptions, visit: https://lab.dpdk.org/results/dashboard/preferences/subscriptions/