From mboxrd@z Thu Jan 1 00:00:00 1970 Return-Path: Received: from mails.dpdk.org (mails.dpdk.org [217.70.189.124]) by inbox.dpdk.org (Postfix) with ESMTP id C2CD4488E1 for ; Wed, 8 Oct 2025 10:48:38 +0200 (CEST) Received: from mails.dpdk.org (localhost [127.0.0.1]) by mails.dpdk.org (Postfix) with ESMTP id BD25B40297; Wed, 8 Oct 2025 10:48:38 +0200 (CEST) Received: from mail-pg1-f226.google.com (mail-pg1-f226.google.com [209.85.215.226]) by mails.dpdk.org (Postfix) with ESMTP id EC6BD40297 for ; Wed, 8 Oct 2025 10:48:37 +0200 (CEST) Received: by mail-pg1-f226.google.com with SMTP id 41be03b00d2f7-b4755f37c3eso6219113a12.3 for ; Wed, 08 Oct 2025 01:48:37 -0700 (PDT) DKIM-Signature: v=1; a=rsa-sha256; c=relaxed/relaxed; d=iol.unh.edu; s=unh-iol; t=1759913317; x=1760518117; darn=dpdk.org; h=references:in-reply-to:cc:to:from:subject:message-id:date:from:to :cc:subject:date:message-id:reply-to; bh=yPVHE9Qq7dzY1uAzrAiYKQgS40T4lSnfvUSVs9W+n+o=; b=VnnmlTXgwV/Aen3MjGPCL+rpL8IttRWS+Kc0/TjCvPIqxT9uwZ8n9m7ZjfQYgokgVM RL+5wAFy8bOmyIbHUhNVHY/kLDyBUPGkJhvCxbFOURFp+hSFxQioaccTLZjBvrA0jw83 g0hBilTtIvo0+8oKWCU6aU09T4v4ted66Ix2M= X-Google-DKIM-Signature: v=1; a=rsa-sha256; c=relaxed/relaxed; d=1e100.net; s=20230601; t=1759913317; x=1760518117; h=references:in-reply-to:cc:to:from:subject:message-id:date :x-gm-message-state:from:to:cc:subject:date:message-id:reply-to; bh=yPVHE9Qq7dzY1uAzrAiYKQgS40T4lSnfvUSVs9W+n+o=; b=N0A7i5NO70CpWRUKWGhtaLtsIXJ84kbJlF+LVLDvPlnjKx/p5c+LjgF4U1NX3SRMrI ZW4OEba7t6Hekw3KVWiFU74k1EQJWrWwt1yTkPDHk+IjkUn2PpP4pVTGuw+P93CRTq5s mWpf2LmSiYnwhTzfR6IgKftnMEZ31mrZSiSpjjlQ9ZaJYkhyBpgqSJkX89woiOuEGrjR BiTkFCW217CCFiLfYnCG2kt+QIMNf4uxpwPiKMKo3T+3n2WsaucPTS52bNzDE45jri7y +jQ5wXPW2vMYekb1BMzBFNQN4JIs7fx6h7hJJJSQigRRFnnhuE3jTh9Ago0ACmt659/M +Wsw== X-Gm-Message-State: AOJu0YzcacWZ14d8baGkPY2vSxKru1eYf6vnuJWjCpyDnYZgQJgZ7dGi dZaRgdNHHqFNjojNSF0J0MVLcV8IRzDX/VssTJ4eKXaGVSmGtAUjn7D0zZFXrdb2pCwZDFEG9ut X9iSDNsYL6h7dBpo0PmKJ7g1AgrTjrx5EBRAfVj/tRSRV X-Gm-Gg: ASbGncuv4NhiZlk2ZtRjAYifGkoUuQ4fwO8Fh6yJjzZputmpZry0WTNvp7IFPjRBnRX wA1J3b2ld4p1gui8kbqWn8fjl0BaY8kqLoFk88ZRz/zSGTkDIU2deBKQDbGJsv6zOf5J1Nl6FpD bZKtz9wXXc7vwkrEGqkQTUMcc3PN5+jglucS5Z4aU6Mmejl+IM1cuArM9GZ4JG5nnTTGHhjf/QC 83hbpoTL0POdNbESsf+3MivOHYeQzY3fMN3Y6830on4rxyUv9k1B/OV0pljxk4s2BK1+srqTTku NKAGE0b7wkv3P2yQINFKikr4/DtX8c0RD/rnYXd7WAKgt1NYc0zQlxJt7SA8BzmRTYIntkCjlYI Lng== X-Google-Smtp-Source: AGHT+IFfIDhY/th+a+iHRF4OGmu7DIPJw/xAghdG4cVdlGshVYYPu+gjDvCCRCvpHvpQOCJE7mudIpdyDxK0 X-Received: by 2002:a17:903:1aee:b0:27e:ec72:f50 with SMTP id d9443c01a7336-290274033f3mr31714725ad.51.1759913317033; Wed, 08 Oct 2025 01:48:37 -0700 (PDT) Received: from postal.iol.unh.edu (postal.iol.unh.edu. [132.177.123.84]) by smtp-relay.gmail.com with ESMTPS id 98e67ed59e1d1-33b5115755bsm195898a91.3.2025.10.08.01.48.36 (version=TLS1_2 cipher=ECDHE-ECDSA-AES128-GCM-SHA256 bits=128/128); Wed, 08 Oct 2025 01:48:37 -0700 (PDT) X-Relaying-Domain: iol.unh.edu Date: Wed, 08 Oct 2025 01:48:37 -0700 (PDT) Message-ID: <68e62565.170a0220.1d16f6.a6feSMTPIN_ADDED_MISSING@mx.google.com> Received: from [172.21.0.2] (unknown [172.18.0.240]) by postal.iol.unh.edu (Postfix) with ESMTP id 4F5846051830; Wed, 8 Oct 2025 04:48:36 -0400 (EDT) Subject: |SUCCESS| pw157261-157263 [PATCH] [v5,3/3] net/ice: add PFC statisti From: dpdklab@iol.unh.edu To: Test Report Cc: dpdk-test-reports@iol.unh.edu, Bruce Richardson In-Reply-To: <20251003124037.342760-4-vladimir.medvedkin@intel.com> References: <20251003124037.342760-4-vladimir.medvedkin@intel.com> Content-Type: text/plain X-BeenThere: test-report@dpdk.org X-Mailman-Version: 2.1.29 Precedence: list List-Id: automatic DPDK test reports List-Unsubscribe: , List-Archive: List-Post: List-Help: List-Subscribe: , Errors-To: test-report-bounces@dpdk.org Test-Label: iol-compile-amd64-testing Test-Status: SUCCESS http://dpdk.org/patch/157263 _Testing PASS RETEST #1_ Submitter: Medvedkin, Vladimir Date: Friday, October 03 2025 12:40:37 DPDK git baseline: Repo:dpdk-next-net-intel Branch: master CommitID:e7d8cc7ef4df3552575525697079d3c957cfcdaf 157261-157263 --> testing pass Upstream job id: Generic-DPDK-Compile-Meson#432264 Test environment and result as below: +-------------------------------+--------------------+-------------------+-------------------------+----------------------+-------------------+------------------+ | Environment | dpdk_meson_compile | dpdk_msvc_compile | dpdk_llvm_clang_compile | dpdk_mingw64_compile | dpdk_compile_spdk | dpdk_compile_ovs | +===============================+====================+===================+=========================+======================+===================+==================+ | Ubuntu 20.04 | PASS | SKIPPED | SKIPPED | SKIPPED | SKIPPED | SKIPPED | +-------------------------------+--------------------+-------------------+-------------------------+----------------------+-------------------+------------------+ | FreeBSD 14.2 | PASS | SKIPPED | SKIPPED | SKIPPED | SKIPPED | SKIPPED | +-------------------------------+--------------------+-------------------+-------------------------+----------------------+-------------------+------------------+ | CentOS Stream 9 | PASS | SKIPPED | SKIPPED | SKIPPED | PASS | SKIPPED | +-------------------------------+--------------------+-------------------+-------------------------+----------------------+-------------------+------------------+ | CentOS Stream 10 | PASS | SKIPPED | SKIPPED | SKIPPED | SKIPPED | SKIPPED | +-------------------------------+--------------------+-------------------+-------------------------+----------------------+-------------------+------------------+ | Debian GNU/Linux 12 | PASS | SKIPPED | SKIPPED | SKIPPED | PASS | SKIPPED | +-------------------------------+--------------------+-------------------+-------------------------+----------------------+-------------------+------------------+ | Fedora Linux 42 | PASS | SKIPPED | SKIPPED | SKIPPED | PASS | PASS | +-------------------------------+--------------------+-------------------+-------------------------+----------------------+-------------------+------------------+ | openSUSE Leap 15.6 | PASS | SKIPPED | SKIPPED | SKIPPED | SKIPPED | SKIPPED | +-------------------------------+--------------------+-------------------+-------------------------+----------------------+-------------------+------------------+ | Red Hat Enterprise Linux 8.10 | PASS | SKIPPED | SKIPPED | SKIPPED | SKIPPED | SKIPPED | +-------------------------------+--------------------+-------------------+-------------------------+----------------------+-------------------+------------------+ | Red Hat Enterprise Linux 9.5 | PASS | SKIPPED | SKIPPED | SKIPPED | SKIPPED | SKIPPED | +-------------------------------+--------------------+-------------------+-------------------------+----------------------+-------------------+------------------+ | Ubuntu 22.04 | PASS | SKIPPED | SKIPPED | SKIPPED | PASS | SKIPPED | +-------------------------------+--------------------+-------------------+-------------------------+----------------------+-------------------+------------------+ | Ubuntu 24.04 | PASS | SKIPPED | SKIPPED | SKIPPED | PASS | PASS | +-------------------------------+--------------------+-------------------+-------------------------+----------------------+-------------------+------------------+ | Alpine Linux 3.22.0 | PASS | SKIPPED | SKIPPED | SKIPPED | SKIPPED | SKIPPED | +-------------------------------+--------------------+-------------------+-------------------------+----------------------+-------------------+------------------+ | Windows Server 2022 | SKIPPED | PASS | PASS | PASS | SKIPPED | SKIPPED | +-------------------------------+--------------------+-------------------+-------------------------+----------------------+-------------------+------------------+ Ubuntu 20.04 Kernel: 4.19 Compiler: gcc gcc (Ubuntu 9.4.0-1ubuntu1~20.04.2) 9.4.0 FreeBSD 14.2 Kernel: 14.2-RELEASE Compiler: clang 18.1.6 CentOS Stream 9 Kernel: 5.15 Compiler: gcc gcc (GCC) 11.5.0 20240719 (Red Hat 11.5.0-11) CentOS Stream 10 Kernel: 5.15 Compiler: gcc gcc (GCC) 14.2.1 20250110 (Red Hat 14.2.1-8) Debian GNU/Linux 12 Kernel: 5.15 Compiler: gcc gcc (Debian 12.2.0-14+deb12u1) 12.2.0 Fedora Linux 42 Kernel: 5.15 Compiler: clang gcc (GCC) 15.2.1 20250808 (Red Hat 15.2.1-1) openSUSE Leap 15.6 Kernel: 5.15 Compiler: gcc gcc (SUSE Linux) 7.5.0 Red Hat Enterprise Linux 8.10 Kernel: 5.15 Compiler: gcc gcc (GCC) 8.5.0 20210514 (Red Hat 8.5.0-22) Red Hat Enterprise Linux 9.5 Kernel: 5.15 Compiler: gcc gcc (GCC) 11.5.0 20240719 (Red Hat 11.5.0-2) Ubuntu 22.04 Kernel: 5.15 Compiler: gcc gcc (Ubuntu 11.4.0-1ubuntu1~22.04) 11.4.0 Ubuntu 24.04 Kernel: 5.15 Compiler: gcc gcc (Ubuntu 13.3.0-6ubuntu2~24.04) 13.3.0 Alpine Linux 3.22.0 Kernel: 5.15 Compiler: gcc gcc (Alpine 14.2.0) 14.2.0 Windows Server 2022 Kernel: 10.0.20348.2031 Compiler: clang 15.0.7, gcc 14.1.0 (MinGW), and MSVC VS 19.39.33521 To view detailed results, visit: https://lab.dpdk.org/results/dashboard/patchsets/34210/ UNH-IOL DPDK Community Lab To manage your email subscriptions, visit: https://lab.dpdk.org/results/dashboard/preferences/subscriptions/