From mboxrd@z Thu Jan 1 00:00:00 1970 Return-Path: Received: from mails.dpdk.org (mails.dpdk.org [217.70.189.124]) by inbox.dpdk.org (Postfix) with ESMTP id E528B488E1 for ; Wed, 8 Oct 2025 10:49:21 +0200 (CEST) Received: from mails.dpdk.org (localhost [127.0.0.1]) by mails.dpdk.org (Postfix) with ESMTP id DFD7640297; Wed, 8 Oct 2025 10:49:21 +0200 (CEST) Received: from mail-yx1-f97.google.com (mail-yx1-f97.google.com [74.125.224.97]) by mails.dpdk.org (Postfix) with ESMTP id 683D340297 for ; Wed, 8 Oct 2025 10:49:20 +0200 (CEST) Received: by mail-yx1-f97.google.com with SMTP id 956f58d0204a3-63b960a0a2bso5928590d50.1 for ; Wed, 08 Oct 2025 01:49:20 -0700 (PDT) DKIM-Signature: v=1; a=rsa-sha256; c=relaxed/relaxed; d=iol.unh.edu; s=unh-iol; t=1759913360; x=1760518160; darn=dpdk.org; h=references:in-reply-to:cc:to:from:subject:message-id:date:from:to :cc:subject:date:message-id:reply-to; bh=nVnyL5MTqry+HNN8GKtKayEM9MTY3Al4rU6RajU7PLs=; b=Nm27tCikVxmm0Ws0IlqwM0qYsRSd7nAViH2d/jJ7BQayqLYsZ00XAhf++1L250vV79 rEBdijdI0SMcWxrmhvoCVVbHFucHSGN5z2ZnRiHJFch6MbaF4GEnBSM6INoWQl8zzWCw pMpoxhgO7cqPfNbSivGur2xbmsQCA2ghrhyBI= X-Google-DKIM-Signature: v=1; a=rsa-sha256; c=relaxed/relaxed; d=1e100.net; s=20230601; t=1759913360; x=1760518160; h=references:in-reply-to:cc:to:from:subject:message-id:date :x-gm-message-state:from:to:cc:subject:date:message-id:reply-to; bh=nVnyL5MTqry+HNN8GKtKayEM9MTY3Al4rU6RajU7PLs=; b=YUtzP0UyL6MH1/ovI54LG3Bd8xk1ehF6x6XVOdQBboFVUryBzJ4ZGg2Hrak1P5QQQu p1kB9+RJEdOBQtJ48jjhXPEx34qObOD2CBe9FXfS8KNJ5sPVyS6Sobqg4vXKcjTDBi6l 0YxS1YKRsyvC3Y0j/ltmakDMJwt/3A6oVsS+kZ5+hyd0MHvsVScF1831vH//RlaFamUZ cuTOgHXCwVF0hAC+2y2I/ptrKuIcRRfaTDljGhg24MwAKr8RDKijbQJnLqrV30AEqFAj KjUo+Zd4rmfZ6XrruNh20IkoTK6+XchRHALoA1hEVehbEBgkNX+wGEh92EiuacqN6uAA 9YHQ== X-Gm-Message-State: AOJu0YwTYoR5kvCt8IjgzXW9b+z1ALqHLrzxaDnimCr/K0WwWdnq1/6Y yiCfLPYBZAqn5TeJuU71LoENe+8O1wSx5WfOKonttJ+TwnezVKyQk4XVLOsMhj+PCMRDAMrcpVX 0TyP9hQBfCq9e/K3tozwz+cXyRl6tIXqsovkp/x44IHGG X-Gm-Gg: ASbGncvgluhuPiNkKEoXXDG01SUiBF1QuKURCMnrf1G7TFWNDVD/SHVI+lrfWoBeWx3 SDlgVwyzIO6QpEN1ZSdVA5ilwTzj80bz06HaznCLLkyfIrWYhL7p35uWEzaWqZ0KDXgaszq8Shm DC3dOfhxZIqktu1FzZp+Nwoex94+1wNxTzymJpOObygsqgtGeka0dpsaVzDBKTrUwatTNN5gf2T CO1lZ5Bt6/eRGCptlJWQEpVgIzcIb+sSf701e7MH7pkwgb3S18iMzK+oS+rYH/PMjplBq4CvK6I y57yJfs3NcGouaIXLnUJVybq/16QaSEWIWGKc6dXt76InvFAHLJwY8CKW/uyloTAxCyTetip6U6 1Iw== X-Google-Smtp-Source: AGHT+IHgysQlV9ykbNbcLncbRm+bX6KBIq7haTJH0vmmWOEnBPyGCBxUckxnK4Cen72DzIgXwaAK5besI0B9 X-Received: by 2002:a53:d048:0:10b0:62a:b545:54b4 with SMTP id 956f58d0204a3-63ccb8dbc07mr2168516d50.26.1759913359687; Wed, 08 Oct 2025 01:49:19 -0700 (PDT) Received: from postal.iol.unh.edu (postal.iol.unh.edu. [132.177.123.84]) by smtp-relay.gmail.com with ESMTPS id 956f58d0204a3-63b84686bf1sm1048318d50.14.2025.10.08.01.49.19 (version=TLS1_2 cipher=ECDHE-ECDSA-AES128-GCM-SHA256 bits=128/128); Wed, 08 Oct 2025 01:49:19 -0700 (PDT) X-Relaying-Domain: iol.unh.edu Date: Wed, 08 Oct 2025 01:49:19 -0700 (PDT) Message-ID: <68e6258f.530a0220.24c616.e731SMTPIN_ADDED_MISSING@mx.google.com> Received: from [172.21.0.6] (unknown [172.18.0.240]) by postal.iol.unh.edu (Postfix) with ESMTP id 2D0256051830; Wed, 8 Oct 2025 04:49:19 -0400 (EDT) Subject: |SUCCESS| pw157261-157263 [PATCH] [v5,3/3] net/ice: add PFC statisti From: dpdklab@iol.unh.edu To: Test Report Cc: dpdk-test-reports@iol.unh.edu, Bruce Richardson In-Reply-To: <20251003124037.342760-4-vladimir.medvedkin@intel.com> References: <20251003124037.342760-4-vladimir.medvedkin@intel.com> Content-Type: text/plain X-BeenThere: test-report@dpdk.org X-Mailman-Version: 2.1.29 Precedence: list List-Id: automatic DPDK test reports List-Unsubscribe: , List-Archive: List-Post: List-Help: List-Subscribe: , Errors-To: test-report-bounces@dpdk.org Test-Label: iol-compile-amd64-testing Test-Status: SUCCESS http://dpdk.org/patch/157263 _Testing PASS RETEST #1_ Submitter: Medvedkin, Vladimir Date: Friday, October 03 2025 12:40:37 DPDK git baseline: Repo:dpdk-next-net-intel Branch: master CommitID:e7d8cc7ef4df3552575525697079d3c957cfcdaf 157261-157263 --> testing pass Upstream job id: Generic-DPDK-Compile-Meson#432267 Test environment and result as below: +-------------------------------+--------------------+-------------------+-------------------------+----------------------+-------------------+------------------+ | Environment | dpdk_meson_compile | dpdk_msvc_compile | dpdk_llvm_clang_compile | dpdk_mingw64_compile | dpdk_compile_spdk | dpdk_compile_ovs | +===============================+====================+===================+=========================+======================+===================+==================+ | Ubuntu 20.04 | PASS | SKIPPED | SKIPPED | SKIPPED | SKIPPED | SKIPPED | +-------------------------------+--------------------+-------------------+-------------------------+----------------------+-------------------+------------------+ | FreeBSD 14.2 | PASS | SKIPPED | SKIPPED | SKIPPED | SKIPPED | SKIPPED | +-------------------------------+--------------------+-------------------+-------------------------+----------------------+-------------------+------------------+ | CentOS Stream 9 | PASS | SKIPPED | SKIPPED | SKIPPED | PASS | SKIPPED | +-------------------------------+--------------------+-------------------+-------------------------+----------------------+-------------------+------------------+ | CentOS Stream 10 | PASS | SKIPPED | SKIPPED | SKIPPED | SKIPPED | SKIPPED | +-------------------------------+--------------------+-------------------+-------------------------+----------------------+-------------------+------------------+ | Debian GNU/Linux 12 | PASS | SKIPPED | SKIPPED | SKIPPED | PASS | SKIPPED | +-------------------------------+--------------------+-------------------+-------------------------+----------------------+-------------------+------------------+ | Fedora Linux 42 | PASS | SKIPPED | SKIPPED | SKIPPED | PASS | PASS | +-------------------------------+--------------------+-------------------+-------------------------+----------------------+-------------------+------------------+ | openSUSE Leap 15.6 | PASS | SKIPPED | SKIPPED | SKIPPED | SKIPPED | SKIPPED | +-------------------------------+--------------------+-------------------+-------------------------+----------------------+-------------------+------------------+ | Red Hat Enterprise Linux 8.10 | PASS | SKIPPED | SKIPPED | SKIPPED | SKIPPED | SKIPPED | +-------------------------------+--------------------+-------------------+-------------------------+----------------------+-------------------+------------------+ | Red Hat Enterprise Linux 9.5 | PASS | SKIPPED | SKIPPED | SKIPPED | SKIPPED | SKIPPED | +-------------------------------+--------------------+-------------------+-------------------------+----------------------+-------------------+------------------+ | Ubuntu 22.04 | PASS | SKIPPED | SKIPPED | SKIPPED | PASS | SKIPPED | +-------------------------------+--------------------+-------------------+-------------------------+----------------------+-------------------+------------------+ | Ubuntu 24.04 | PASS | SKIPPED | SKIPPED | SKIPPED | PASS | PASS | +-------------------------------+--------------------+-------------------+-------------------------+----------------------+-------------------+------------------+ | Alpine Linux 3.22.0 | PASS | SKIPPED | SKIPPED | SKIPPED | SKIPPED | SKIPPED | +-------------------------------+--------------------+-------------------+-------------------------+----------------------+-------------------+------------------+ | Windows Server 2022 | SKIPPED | PASS | PASS | PASS | SKIPPED | SKIPPED | +-------------------------------+--------------------+-------------------+-------------------------+----------------------+-------------------+------------------+ Ubuntu 20.04 Kernel: 4.19 Compiler: gcc gcc (Ubuntu 9.4.0-1ubuntu1~20.04.2) 9.4.0 FreeBSD 14.2 Kernel: 14.2-RELEASE Compiler: clang 18.1.6 CentOS Stream 9 Kernel: 5.15 Compiler: gcc gcc (GCC) 11.5.0 20240719 (Red Hat 11.5.0-11) CentOS Stream 10 Kernel: 5.15 Compiler: gcc gcc (GCC) 14.2.1 20250110 (Red Hat 14.2.1-8) Debian GNU/Linux 12 Kernel: 5.15 Compiler: gcc gcc (Debian 12.2.0-14+deb12u1) 12.2.0 Fedora Linux 42 Kernel: 5.15 Compiler: clang gcc (GCC) 15.2.1 20250808 (Red Hat 15.2.1-1) openSUSE Leap 15.6 Kernel: 5.15 Compiler: gcc gcc (SUSE Linux) 7.5.0 Red Hat Enterprise Linux 8.10 Kernel: 5.15 Compiler: gcc gcc (GCC) 8.5.0 20210514 (Red Hat 8.5.0-22) Red Hat Enterprise Linux 9.5 Kernel: 5.15 Compiler: gcc gcc (GCC) 11.5.0 20240719 (Red Hat 11.5.0-2) Ubuntu 22.04 Kernel: 5.15 Compiler: gcc gcc (Ubuntu 11.4.0-1ubuntu1~22.04) 11.4.0 Ubuntu 24.04 Kernel: 5.15 Compiler: gcc gcc (Ubuntu 13.3.0-6ubuntu2~24.04) 13.3.0 Alpine Linux 3.22.0 Kernel: 5.15 Compiler: gcc gcc (Alpine 14.2.0) 14.2.0 Windows Server 2022 Kernel: 10.0.20348.2031 Compiler: clang 15.0.7, gcc 14.1.0 (MinGW), and MSVC VS 19.39.33521 To view detailed results, visit: https://lab.dpdk.org/results/dashboard/patchsets/34210/ UNH-IOL DPDK Community Lab To manage your email subscriptions, visit: https://lab.dpdk.org/results/dashboard/preferences/subscriptions/