From mboxrd@z Thu Jan 1 00:00:00 1970 Return-Path: Received: from mails.dpdk.org (mails.dpdk.org [217.70.189.124]) by inbox.dpdk.org (Postfix) with ESMTP id 116BC488E1 for ; Wed, 8 Oct 2025 10:50:11 +0200 (CEST) Received: from mails.dpdk.org (localhost [127.0.0.1]) by mails.dpdk.org (Postfix) with ESMTP id 0D81E40297; Wed, 8 Oct 2025 10:50:11 +0200 (CEST) Received: from mail-yw1-f228.google.com (mail-yw1-f228.google.com [209.85.128.228]) by mails.dpdk.org (Postfix) with ESMTP id B692F40297 for ; Wed, 8 Oct 2025 10:50:09 +0200 (CEST) Received: by mail-yw1-f228.google.com with SMTP id 00721157ae682-7501c24a731so80853787b3.3 for ; Wed, 08 Oct 2025 01:50:09 -0700 (PDT) DKIM-Signature: v=1; a=rsa-sha256; c=relaxed/relaxed; d=iol.unh.edu; s=unh-iol; t=1759913409; x=1760518209; darn=dpdk.org; h=references:in-reply-to:cc:to:from:subject:message-id:date:from:to :cc:subject:date:message-id:reply-to; bh=yzYk0WSzdpfNWQTh1gR85fvEIy3o0KiAEdLN8eDM8go=; b=ZcoR/0KX5jlUwXZqc4StgMxloWaff5H6WBxuPyvDTag8EMR8HDAWvLo/K0xzYTEzqN 2kiduEExUI23EohNV5Z8c8hKOv4BP2H9VkMri/yiMph/tzsu4anKUtna9OvlKtBeo2lA ot/Y+jGOFbix69n8SqEt55PTu95dNe7WkBOKI= X-Google-DKIM-Signature: v=1; a=rsa-sha256; c=relaxed/relaxed; d=1e100.net; s=20230601; t=1759913409; x=1760518209; h=references:in-reply-to:cc:to:from:subject:message-id:date :x-gm-message-state:from:to:cc:subject:date:message-id:reply-to; bh=yzYk0WSzdpfNWQTh1gR85fvEIy3o0KiAEdLN8eDM8go=; b=HwIKm6oWuJtSSMtBG29PBiA8o/ZjpLfGK89hjJEmslbECoG/Qu8N+McawFO9KbNDCz 62Xs4fxrk+700tdib+0ENBRkVmU0SXZExSOdJIt4bO9mytRCo3VIQPMVqNKMBfxsotK6 fVLWOzuMcTIJUfARf0MrePaUF0lLwkJhf/0Z8z4fTwdy5GYEYR/AL6xZNdO1aqafkVtb hfyX+8vARHugaps/DhqOXUBhqryeEoOGhbBXvbKd8SfHjkFzEmCmJkBYtrLPX++L3X/b lPHZKTpn3LvoBtISvqkLeag6OiQpP1/jb2xA62BxxZoc75tTamjV8Yl5+W6TtU2tLPhQ Smug== X-Gm-Message-State: AOJu0YwcA5oFbHpI6DN+JsapYEaxPhjHyr5nAUHi5OsmGHTqt7koLpR1 0q0TTI3cbMrB7KsWiLLg6YLMH5eCyrnqKrN23TgLK3hDpG2yTXmwlgwKXCcG6VdVaEGS+HV0DBX iSKvf5lPUYUkhDx8+f9CGTqBq8ruHUmzo2gptic8F4C5U X-Gm-Gg: ASbGncvShAXjOvv/u31BuN6/rKRckypfSHzzvv/3NZrzPt4Hbc/VK5kBHrkh9PsqAr0 SZgkbD0XIT9CIEpdt3a2e5xU40PPW96pNVcfagJLtv/nNQGz2f3aYI9s9MHMEBVaeS6OnDYyFpj NaYCdR1a2Mj08H63bEWdZ0bZ/UtMf3Sl4SHFqUR+7QqpIi9KIhSb4hb7tvqIu8lINkHNv4nI6/i rce3a9Is7cPFW3ptD5T4GOcDzgJMiBCRJ5QXFp2xXEta303mTiLi4sjGER95xdb272JtlFz/4/Y 1nD+HTNAYjgtrRiGJJ7qxDGGsW2IN2jGRh+SU72J+YViY8qtntx3Og6k0Qm5/80YBWvXiNgbtjs uwQ== X-Google-Smtp-Source: AGHT+IHHwBJIEz2NaCMd/mdZ9rBgHwQhoUVbLjUu/F4e5MEg/iOMYMQ9oItY4Zyy+Ywq48G+08Tn+AjD0EW4 X-Received: by 2002:a53:8650:0:b0:604:3849:9bd1 with SMTP id 956f58d0204a3-63ccb851a6cmr2044442d50.17.1759913409176; Wed, 08 Oct 2025 01:50:09 -0700 (PDT) Received: from postal.iol.unh.edu (postal.iol.unh.edu. [132.177.123.84]) by smtp-relay.gmail.com with ESMTPS id 00721157ae682-77f81d05880sm10457197b3.27.2025.10.08.01.50.09 (version=TLS1_2 cipher=ECDHE-ECDSA-AES128-GCM-SHA256 bits=128/128); Wed, 08 Oct 2025 01:50:09 -0700 (PDT) X-Relaying-Domain: iol.unh.edu Date: Wed, 08 Oct 2025 01:50:09 -0700 (PDT) Message-ID: <68e625c1.050a0220.c338b.8b09SMTPIN_ADDED_MISSING@mx.google.com> Received: from [172.21.0.2] (unknown [172.18.0.240]) by postal.iol.unh.edu (Postfix) with ESMTP id D133E6051830; Wed, 8 Oct 2025 04:50:08 -0400 (EDT) Subject: |SUCCESS| pw157261-157263 [PATCH] [v5,3/3] net/ice: add PFC statisti From: dpdklab@iol.unh.edu To: Test Report Cc: dpdk-test-reports@iol.unh.edu, Bruce Richardson In-Reply-To: <20251003124037.342760-4-vladimir.medvedkin@intel.com> References: <20251003124037.342760-4-vladimir.medvedkin@intel.com> Content-Type: text/plain X-BeenThere: test-report@dpdk.org X-Mailman-Version: 2.1.29 Precedence: list List-Id: automatic DPDK test reports List-Unsubscribe: , List-Archive: List-Post: List-Help: List-Subscribe: , Errors-To: test-report-bounces@dpdk.org Test-Label: iol-compile-amd64-testing Test-Status: SUCCESS http://dpdk.org/patch/157263 _Testing PASS RETEST #1_ Submitter: Medvedkin, Vladimir Date: Friday, October 03 2025 12:40:37 DPDK git baseline: Repo:dpdk-next-net-intel Branch: master CommitID:e7d8cc7ef4df3552575525697079d3c957cfcdaf 157261-157263 --> testing pass Upstream job id: Generic-DPDK-Compile-Meson#432261 Test environment and result as below: +-------------------------------+--------------------+-------------------+-------------------------+----------------------+-------------------+------------------+ | Environment | dpdk_meson_compile | dpdk_msvc_compile | dpdk_llvm_clang_compile | dpdk_mingw64_compile | dpdk_compile_spdk | dpdk_compile_ovs | +===============================+====================+===================+=========================+======================+===================+==================+ | Ubuntu 20.04 | PASS | SKIPPED | SKIPPED | SKIPPED | SKIPPED | SKIPPED | +-------------------------------+--------------------+-------------------+-------------------------+----------------------+-------------------+------------------+ | FreeBSD 14.2 | PASS | SKIPPED | SKIPPED | SKIPPED | SKIPPED | SKIPPED | +-------------------------------+--------------------+-------------------+-------------------------+----------------------+-------------------+------------------+ | CentOS Stream 9 | PASS | SKIPPED | SKIPPED | SKIPPED | PASS | SKIPPED | +-------------------------------+--------------------+-------------------+-------------------------+----------------------+-------------------+------------------+ | CentOS Stream 10 | PASS | SKIPPED | SKIPPED | SKIPPED | SKIPPED | SKIPPED | +-------------------------------+--------------------+-------------------+-------------------------+----------------------+-------------------+------------------+ | Debian GNU/Linux 12 | PASS | SKIPPED | SKIPPED | SKIPPED | PASS | SKIPPED | +-------------------------------+--------------------+-------------------+-------------------------+----------------------+-------------------+------------------+ | Fedora Linux 42 | PASS | SKIPPED | SKIPPED | SKIPPED | PASS | PASS | +-------------------------------+--------------------+-------------------+-------------------------+----------------------+-------------------+------------------+ | openSUSE Leap 15.6 | PASS | SKIPPED | SKIPPED | SKIPPED | SKIPPED | SKIPPED | +-------------------------------+--------------------+-------------------+-------------------------+----------------------+-------------------+------------------+ | Red Hat Enterprise Linux 8.10 | PASS | SKIPPED | SKIPPED | SKIPPED | SKIPPED | SKIPPED | +-------------------------------+--------------------+-------------------+-------------------------+----------------------+-------------------+------------------+ | Red Hat Enterprise Linux 9.5 | PASS | SKIPPED | SKIPPED | SKIPPED | SKIPPED | SKIPPED | +-------------------------------+--------------------+-------------------+-------------------------+----------------------+-------------------+------------------+ | Ubuntu 22.04 | PASS | SKIPPED | SKIPPED | SKIPPED | PASS | SKIPPED | +-------------------------------+--------------------+-------------------+-------------------------+----------------------+-------------------+------------------+ | Ubuntu 24.04 | PASS | SKIPPED | SKIPPED | SKIPPED | PASS | PASS | +-------------------------------+--------------------+-------------------+-------------------------+----------------------+-------------------+------------------+ | Alpine Linux 3.22.0 | PASS | SKIPPED | SKIPPED | SKIPPED | SKIPPED | SKIPPED | +-------------------------------+--------------------+-------------------+-------------------------+----------------------+-------------------+------------------+ | Windows Server 2022 | SKIPPED | PASS | PASS | PASS | SKIPPED | SKIPPED | +-------------------------------+--------------------+-------------------+-------------------------+----------------------+-------------------+------------------+ Ubuntu 20.04 Kernel: 4.19 Compiler: gcc gcc (Ubuntu 9.4.0-1ubuntu1~20.04.2) 9.4.0 FreeBSD 14.2 Kernel: 14.2-RELEASE Compiler: clang 18.1.6 CentOS Stream 9 Kernel: 5.15 Compiler: gcc gcc (GCC) 11.5.0 20240719 (Red Hat 11.5.0-11) CentOS Stream 10 Kernel: 5.15 Compiler: gcc gcc (GCC) 14.2.1 20250110 (Red Hat 14.2.1-8) Debian GNU/Linux 12 Kernel: 5.15 Compiler: gcc gcc (Debian 12.2.0-14+deb12u1) 12.2.0 Fedora Linux 42 Kernel: 5.15 Compiler: clang gcc (GCC) 15.2.1 20250808 (Red Hat 15.2.1-1) openSUSE Leap 15.6 Kernel: 5.15 Compiler: gcc gcc (SUSE Linux) 7.5.0 Red Hat Enterprise Linux 8.10 Kernel: 5.15 Compiler: gcc gcc (GCC) 8.5.0 20210514 (Red Hat 8.5.0-22) Red Hat Enterprise Linux 9.5 Kernel: 5.15 Compiler: gcc gcc (GCC) 11.5.0 20240719 (Red Hat 11.5.0-2) Ubuntu 22.04 Kernel: 5.15 Compiler: gcc gcc (Ubuntu 11.4.0-1ubuntu1~22.04) 11.4.0 Ubuntu 24.04 Kernel: 5.15 Compiler: gcc gcc (Ubuntu 13.3.0-6ubuntu2~24.04) 13.3.0 Alpine Linux 3.22.0 Kernel: 5.15 Compiler: gcc gcc (Alpine 14.2.0) 14.2.0 Windows Server 2022 Kernel: 10.0.20348.2031 Compiler: clang 15.0.7, gcc 14.1.0 (MinGW), and MSVC VS 19.39.33521 To view detailed results, visit: https://lab.dpdk.org/results/dashboard/patchsets/34210/ UNH-IOL DPDK Community Lab To manage your email subscriptions, visit: https://lab.dpdk.org/results/dashboard/preferences/subscriptions/