From mboxrd@z Thu Jan 1 00:00:00 1970 Return-Path: Received: from mails.dpdk.org (mails.dpdk.org [217.70.189.124]) by inbox.dpdk.org (Postfix) with ESMTP id 1C8F1488E1 for ; Wed, 8 Oct 2025 10:50:24 +0200 (CEST) Received: from mails.dpdk.org (localhost [127.0.0.1]) by mails.dpdk.org (Postfix) with ESMTP id 18DCE40297; Wed, 8 Oct 2025 10:50:24 +0200 (CEST) Received: from mail-io1-f98.google.com (mail-io1-f98.google.com [209.85.166.98]) by mails.dpdk.org (Postfix) with ESMTP id 22C4840297 for ; Wed, 8 Oct 2025 10:50:23 +0200 (CEST) Received: by mail-io1-f98.google.com with SMTP id ca18e2360f4ac-930a6c601b3so634629139f.3 for ; Wed, 08 Oct 2025 01:50:23 -0700 (PDT) DKIM-Signature: v=1; a=rsa-sha256; c=relaxed/relaxed; d=iol.unh.edu; s=unh-iol; t=1759913422; x=1760518222; darn=dpdk.org; h=references:in-reply-to:cc:to:from:subject:message-id:date:from:to :cc:subject:date:message-id:reply-to; bh=5Qut5KG53zHvhV2ozTOkMKuBYE4Xgdhnm73xeI0tlR8=; b=DaLFJOgMk3ZPPSnJ9hmDog3uGkDOFBXXfLTRjl47+qYF+ko5r8rk/e1euE+ZYkfuIc XWb7w3g8zqr5AiBYoEfEDIAtwBrl8ZCVOu1/U2B9MEap54jnC5o7aK8Av2IauiDFhuj7 3Bt+lfk87up0I6gI5hfy0B2o8jsxhRFbTEsfU= X-Google-DKIM-Signature: v=1; a=rsa-sha256; c=relaxed/relaxed; d=1e100.net; s=20230601; t=1759913422; x=1760518222; h=references:in-reply-to:cc:to:from:subject:message-id:date :x-gm-message-state:from:to:cc:subject:date:message-id:reply-to; bh=5Qut5KG53zHvhV2ozTOkMKuBYE4Xgdhnm73xeI0tlR8=; b=vH8gRGVFcSfDO3pqAAuWBfoFQ4MXRGBrArOY+/fTpAhm6WDZ7vKf6+tpPPl7+GJAbU gDdMfA9SYFG0tPoH0slPgiHziltd6o1KaUOxWppY/6EDbTvjee2p6QyTwQLjieznrdSD 38ZJrXtD1tvzrG6tOeMTfrF//cBpztB+G6jhBKn0qesXUx1N08m/fTY4WaD8jLkryYRd zGu13ckDlWmuDQjyCuxS3+oZPBHJeRDwWKNn0CVGouYdJri2q1Un9KnEabuqxCgDyzCu NzfUMFAvttcfrw61oHtGWXsA63JZYe+cWOCmJLGrtVt48sL6xKmAziUxl47H8MTvgkx8 f4jA== X-Gm-Message-State: AOJu0YwB6CA2BdrxGpFnihrr4Wvtk4uzbkEs2Zk3ZRC4rkpKYgtdMXHf K4AGsGTVwksld4r2ztMvkSzEeoZH950jQqme27gqVxr5BEOP2t7ZjL0fydef2q8oFWKqi2UGkwp URoa/5198vVZV0w/n0nuF/hlZGW0KBZUxOi5rLurZqLjytupQ8Fu+D6ady6X8 X-Gm-Gg: ASbGncvk8iK8us17t0A0lWsw5llFEcityZWWtcv+3Meq8sb+2eyA5+h5es4W7ywYTFT uP4bE2eG8uIqlQ6+Jk89UCltxPKbG2Ib+aWOSsDGG6qGwrWSHjpgsXNRHlvRgZkefcMhJoWbcqv rs/MCA2GHsk46E1MzApmksBy9rVLfd6Jb8o98KYI4s3fkjusQGBoHaakxxliWzsOXcevLO8p08G Juvo4K3xGeNYCS+nSWsRsA1KG7apmtL+I0ot8UIHA9z7aYzGwULD8GRh+2sPAx43/byxf8pt9OZ eNxHWzHNV5aqy4Z8Ap//D06X5isBCd23AOawx46bj7KqBsAMtz2R7fs= X-Google-Smtp-Source: AGHT+IGS5M5DjzkMc7QKoZYiP3htURpnTZqKnrVoieNH2UZMYew51bJlJykzi7b7Zvlt/8GrmhM5NpwxYOSF X-Received: by 2002:a05:6e02:270a:b0:425:951f:52fa with SMTP id e9e14a558f8ab-42f87376e77mr24526775ab.14.1759913422433; Wed, 08 Oct 2025 01:50:22 -0700 (PDT) Received: from postal.iol.unh.edu (postal.iol.unh.edu. [2606:4100:3880:1234::84]) by smtp-relay.gmail.com with ESMTPS id 8926c6da1cb9f-57b5edd266asm1337502173.47.2025.10.08.01.50.22 (version=TLS1_2 cipher=ECDHE-ECDSA-AES128-GCM-SHA256 bits=128/128); Wed, 08 Oct 2025 01:50:22 -0700 (PDT) X-Relaying-Domain: iol.unh.edu Date: Wed, 08 Oct 2025 01:50:22 -0700 (PDT) Message-ID: <68e625ce.050a0220.1a9098.6cc6SMTPIN_ADDED_MISSING@mx.google.com> Received: from [172.21.0.2] (unknown [172.18.0.240]) by postal.iol.unh.edu (Postfix) with ESMTP id 00B276051830; Wed, 8 Oct 2025 04:50:22 -0400 (EDT) Subject: |SUCCESS| pw157261-157263 [PATCH] [v5,3/3] net/ice: add PFC statisti From: dpdklab@iol.unh.edu To: Test Report Cc: dpdk-test-reports@iol.unh.edu, Bruce Richardson In-Reply-To: <20251003124037.342760-4-vladimir.medvedkin@intel.com> References: <20251003124037.342760-4-vladimir.medvedkin@intel.com> Content-Type: text/plain X-BeenThere: test-report@dpdk.org X-Mailman-Version: 2.1.29 Precedence: list List-Id: automatic DPDK test reports List-Unsubscribe: , List-Archive: List-Post: List-Help: List-Subscribe: , Errors-To: test-report-bounces@dpdk.org Test-Label: iol-compile-amd64-testing Test-Status: SUCCESS http://dpdk.org/patch/157263 _Testing PASS RETEST #1_ Submitter: Medvedkin, Vladimir Date: Friday, October 03 2025 12:40:37 DPDK git baseline: Repo:dpdk-next-net-intel Branch: master CommitID:e7d8cc7ef4df3552575525697079d3c957cfcdaf 157261-157263 --> testing pass Upstream job id: Generic-DPDK-Compile-Meson#432269 Test environment and result as below: +-------------------------------+--------------------+-------------------+-------------------------+----------------------+-------------------+------------------+ | Environment | dpdk_meson_compile | dpdk_msvc_compile | dpdk_llvm_clang_compile | dpdk_mingw64_compile | dpdk_compile_spdk | dpdk_compile_ovs | +===============================+====================+===================+=========================+======================+===================+==================+ | Ubuntu 20.04 | PASS | SKIPPED | SKIPPED | SKIPPED | SKIPPED | SKIPPED | +-------------------------------+--------------------+-------------------+-------------------------+----------------------+-------------------+------------------+ | FreeBSD 14.2 | PASS | SKIPPED | SKIPPED | SKIPPED | SKIPPED | SKIPPED | +-------------------------------+--------------------+-------------------+-------------------------+----------------------+-------------------+------------------+ | CentOS Stream 9 | PASS | SKIPPED | SKIPPED | SKIPPED | PASS | SKIPPED | +-------------------------------+--------------------+-------------------+-------------------------+----------------------+-------------------+------------------+ | CentOS Stream 10 | PASS | SKIPPED | SKIPPED | SKIPPED | SKIPPED | SKIPPED | +-------------------------------+--------------------+-------------------+-------------------------+----------------------+-------------------+------------------+ | Debian GNU/Linux 12 | PASS | SKIPPED | SKIPPED | SKIPPED | PASS | SKIPPED | +-------------------------------+--------------------+-------------------+-------------------------+----------------------+-------------------+------------------+ | Fedora Linux 42 | PASS | SKIPPED | SKIPPED | SKIPPED | PASS | PASS | +-------------------------------+--------------------+-------------------+-------------------------+----------------------+-------------------+------------------+ | openSUSE Leap 15.6 | PASS | SKIPPED | SKIPPED | SKIPPED | SKIPPED | SKIPPED | +-------------------------------+--------------------+-------------------+-------------------------+----------------------+-------------------+------------------+ | Red Hat Enterprise Linux 8.10 | PASS | SKIPPED | SKIPPED | SKIPPED | SKIPPED | SKIPPED | +-------------------------------+--------------------+-------------------+-------------------------+----------------------+-------------------+------------------+ | Red Hat Enterprise Linux 9.5 | PASS | SKIPPED | SKIPPED | SKIPPED | SKIPPED | SKIPPED | +-------------------------------+--------------------+-------------------+-------------------------+----------------------+-------------------+------------------+ | Ubuntu 22.04 | PASS | SKIPPED | SKIPPED | SKIPPED | PASS | SKIPPED | +-------------------------------+--------------------+-------------------+-------------------------+----------------------+-------------------+------------------+ | Ubuntu 24.04 | PASS | SKIPPED | SKIPPED | SKIPPED | PASS | PASS | +-------------------------------+--------------------+-------------------+-------------------------+----------------------+-------------------+------------------+ | Alpine Linux 3.22.0 | PASS | SKIPPED | SKIPPED | SKIPPED | SKIPPED | SKIPPED | +-------------------------------+--------------------+-------------------+-------------------------+----------------------+-------------------+------------------+ | Windows Server 2022 | SKIPPED | PASS | PASS | PASS | SKIPPED | SKIPPED | +-------------------------------+--------------------+-------------------+-------------------------+----------------------+-------------------+------------------+ Ubuntu 20.04 Kernel: 4.19 Compiler: gcc gcc (Ubuntu 9.4.0-1ubuntu1~20.04.2) 9.4.0 FreeBSD 14.2 Kernel: 14.2-RELEASE Compiler: clang 18.1.6 CentOS Stream 9 Kernel: 5.15 Compiler: gcc gcc (GCC) 11.5.0 20240719 (Red Hat 11.5.0-11) CentOS Stream 10 Kernel: 5.15 Compiler: gcc gcc (GCC) 14.2.1 20250110 (Red Hat 14.2.1-8) Debian GNU/Linux 12 Kernel: 5.15 Compiler: gcc gcc (Debian 12.2.0-14+deb12u1) 12.2.0 Fedora Linux 42 Kernel: 5.15 Compiler: clang gcc (GCC) 15.2.1 20250808 (Red Hat 15.2.1-1) openSUSE Leap 15.6 Kernel: 5.15 Compiler: gcc gcc (SUSE Linux) 7.5.0 Red Hat Enterprise Linux 8.10 Kernel: 5.15 Compiler: gcc gcc (GCC) 8.5.0 20210514 (Red Hat 8.5.0-22) Red Hat Enterprise Linux 9.5 Kernel: 5.15 Compiler: gcc gcc (GCC) 11.5.0 20240719 (Red Hat 11.5.0-2) Ubuntu 22.04 Kernel: 5.15 Compiler: gcc gcc (Ubuntu 11.4.0-1ubuntu1~22.04) 11.4.0 Ubuntu 24.04 Kernel: 5.15 Compiler: gcc gcc (Ubuntu 13.3.0-6ubuntu2~24.04) 13.3.0 Alpine Linux 3.22.0 Kernel: 5.15 Compiler: gcc gcc (Alpine 14.2.0) 14.2.0 Windows Server 2022 Kernel: 10.0.20348.2031 Compiler: clang 15.0.7, gcc 14.1.0 (MinGW), and MSVC VS 19.39.33521 To view detailed results, visit: https://lab.dpdk.org/results/dashboard/patchsets/34210/ UNH-IOL DPDK Community Lab To manage your email subscriptions, visit: https://lab.dpdk.org/results/dashboard/preferences/subscriptions/