From mboxrd@z Thu Jan 1 00:00:00 1970 Return-Path: Received: from mails.dpdk.org (mails.dpdk.org [217.70.189.124]) by inbox.dpdk.org (Postfix) with ESMTP id 29C59488E1 for ; Wed, 8 Oct 2025 10:50:33 +0200 (CEST) Received: from mails.dpdk.org (localhost [127.0.0.1]) by mails.dpdk.org (Postfix) with ESMTP id 2522B40297; Wed, 8 Oct 2025 10:50:33 +0200 (CEST) Received: from mail-il1-f228.google.com (mail-il1-f228.google.com [209.85.166.228]) by mails.dpdk.org (Postfix) with ESMTP id DE56940297 for ; Wed, 8 Oct 2025 10:50:31 +0200 (CEST) Received: by mail-il1-f228.google.com with SMTP id e9e14a558f8ab-42f68a0a89aso3053945ab.1 for ; Wed, 08 Oct 2025 01:50:31 -0700 (PDT) DKIM-Signature: v=1; a=rsa-sha256; c=relaxed/relaxed; d=iol.unh.edu; s=unh-iol; t=1759913431; x=1760518231; darn=dpdk.org; h=cc:to:from:subject:message-id:date:from:to:cc:subject:date :message-id:reply-to; bh=mLxe+nH+pOHiYO0wS3qzSHewLvUhhfElFbgl7wgjKZY=; b=MKvIqu78LUeLW+EU/PPSvWRtH8bP7mRIjmSp5vxYcgYfZDSa15imqN/igxd8D/UXvR Vo3ieNyYd+mMHGG7mvCDtC8cQKvgl5t2k9DToIh35snXlZmOS4+/yZRWlQtBwiy9UzPE h/7B4G9xkECk/VPrtaA+17ljJrPeS9oIkmGh4= X-Google-DKIM-Signature: v=1; a=rsa-sha256; c=relaxed/relaxed; d=1e100.net; s=20230601; t=1759913431; x=1760518231; h=cc:to:from:subject:message-id:date:x-gm-message-state:from:to:cc :subject:date:message-id:reply-to; bh=mLxe+nH+pOHiYO0wS3qzSHewLvUhhfElFbgl7wgjKZY=; b=Qj8u3sSCeK2CZtcV6TgQBQ1hFhTwoqT1J4ZOyx9FkLDlXSgBxzZ+zP2jozAYEK2/1U Uv4n9cVNz5MTZJVYbdR2Ab/f+UwfVH/ZaSLMG+H9zloFVixk3Sp5L0sqzOXLtOEwZjmH iqJOYcivSATQDEuWrdMMaNbQRRzb+Ut93pLG/QvGyGcJqmZRKBL8KmAy44dXiMn69Dp9 FPz38m5T9DQ6q0O5dGDdPZRjrYJrzA0l9x8vv3l7ol8XtMSgvN2+ifQaR11kusOUSwuh y1EHEcdor/Ml1OmAKezUcVSf/CIL2S8iwf0sDz9IEZhljamxJIVN6vwTzDSAqbSb6wdL nijQ== X-Gm-Message-State: AOJu0Yy3b3jJmtIOfmtNnHtneMvxyrOuZefCvLYgwZJW9FrYdKVgI4dI 0NGTTcGDxEf7Vnq6D82l+8cc/B7oPHX0bZKd8TfpDY8SbY8hUqgwXF/xyMpPJz2wtjgrbqCfWjz n2qYk80gIAfTXxJSFgu0QlOCQf3eSrmE5EvTRGKZnvb6b X-Gm-Gg: ASbGncvAzplUSiolwvjIw2q85sW78JTekc5bXayjwhg3O/5bL46dNZ6CB5ltP5yqxad +B0fQ/fvTbYo+xcp2tuuMhjeUitD+uE9BDxat13E49cPart2JNrTHPEUp+cv35mW+L8doMzJbM3 fxoJJ4SkALSdT8iRmiiTdQEyt9QwgPEXQfm48PD9OasDMaOeBPFdRfSgqiZm/xXqAYFwfmpq5/g vW+s+sq7wOLDL3gbHWujWxhcmMvjt2dw6nJAgy2RSls/5szzgv6+/TgDr6lB9M8KdEeAV89YhPn SOOUhiKbrnCahwoOIwgeMpeJggVggyfILpA8PjhU7nT0PuwymRXhGCm7IUyHJwe9dHBCcO6kkf5 M7A== X-Google-Smtp-Source: AGHT+IHpPoF8YJFzbxkr5DTbCmWwfrQbTmq8LO6W7DBhvZFvw/jOqvOhs5GS9NZR5KQBubVSOKSy5hpAuOBD X-Received: by 2002:a05:6e02:3708:b0:42f:8bdd:6e9c with SMTP id e9e14a558f8ab-42f8bdd7091mr5802575ab.14.1759913431185; Wed, 08 Oct 2025 01:50:31 -0700 (PDT) Received: from postal.iol.unh.edu (postal.iol.unh.edu. [132.177.123.84]) by smtp-relay.gmail.com with ESMTPS id e9e14a558f8ab-42f63b32b46sm9437375ab.20.2025.10.08.01.50.31 (version=TLS1_2 cipher=ECDHE-ECDSA-AES128-GCM-SHA256 bits=128/128); Wed, 08 Oct 2025 01:50:31 -0700 (PDT) X-Relaying-Domain: iol.unh.edu Date: Wed, 08 Oct 2025 01:50:31 -0700 (PDT) Message-ID: <68e625d7.050a0220.19b59.6e60SMTPIN_ADDED_MISSING@mx.google.com> Received: from [172.21.0.3] (unknown [172.18.0.240]) by postal.iol.unh.edu (Postfix) with ESMTP id B4BB36051830; Wed, 8 Oct 2025 04:50:30 -0400 (EDT) Subject: |SUCCESS| [GIT MASTER] 14d3c6f6a6c18f3b141d0bd9786c6dd3ae3714a3 From: dpdklab@iol.unh.edu To: Test Report Cc: dpdk-test-reports@iol.unh.edu, Jerin Jacob Content-Type: text/plain X-BeenThere: test-report@dpdk.org X-Mailman-Version: 2.1.29 Precedence: list List-Id: automatic DPDK test reports List-Unsubscribe: , List-Archive: List-Post: List-Help: List-Subscribe: , Errors-To: test-report-bounces@dpdk.org _Testing PASS_ Branch: dpdk-next-eventdev 14d3c6f6a6c18f3b141d0bd9786c6dd3ae3714a3 --> testing pass Upstream job id: Generic-DPDK-Compile-Meson#432316 Test environment and result as below: +-------------------------------+--------------------+-------------------+-------------------------+----------------------+-------------------+------------------+ | Environment | dpdk_meson_compile | dpdk_msvc_compile | dpdk_llvm_clang_compile | dpdk_mingw64_compile | dpdk_compile_spdk | dpdk_compile_ovs | +===============================+====================+===================+=========================+======================+===================+==================+ | Ubuntu 20.04 | PASS | SKIPPED | SKIPPED | SKIPPED | SKIPPED | SKIPPED | +-------------------------------+--------------------+-------------------+-------------------------+----------------------+-------------------+------------------+ | FreeBSD 14.2 | PASS | SKIPPED | SKIPPED | SKIPPED | SKIPPED | SKIPPED | +-------------------------------+--------------------+-------------------+-------------------------+----------------------+-------------------+------------------+ | openSUSE Leap 15.6 | PASS | SKIPPED | SKIPPED | SKIPPED | SKIPPED | SKIPPED | +-------------------------------+--------------------+-------------------+-------------------------+----------------------+-------------------+------------------+ | CentOS Stream 9 | PASS | SKIPPED | SKIPPED | SKIPPED | PASS | SKIPPED | +-------------------------------+--------------------+-------------------+-------------------------+----------------------+-------------------+------------------+ | CentOS Stream 10 | PASS | SKIPPED | SKIPPED | SKIPPED | SKIPPED | SKIPPED | +-------------------------------+--------------------+-------------------+-------------------------+----------------------+-------------------+------------------+ | Debian GNU/Linux 12 | PASS | SKIPPED | SKIPPED | SKIPPED | PASS | SKIPPED | +-------------------------------+--------------------+-------------------+-------------------------+----------------------+-------------------+------------------+ | Fedora Linux 42 | PASS | SKIPPED | SKIPPED | SKIPPED | PASS | PASS | +-------------------------------+--------------------+-------------------+-------------------------+----------------------+-------------------+------------------+ | Red Hat Enterprise Linux 8.10 | PASS | SKIPPED | SKIPPED | SKIPPED | SKIPPED | SKIPPED | +-------------------------------+--------------------+-------------------+-------------------------+----------------------+-------------------+------------------+ | Red Hat Enterprise Linux 9.5 | PASS | SKIPPED | SKIPPED | SKIPPED | SKIPPED | SKIPPED | +-------------------------------+--------------------+-------------------+-------------------------+----------------------+-------------------+------------------+ | Ubuntu 22.04 | PASS | SKIPPED | SKIPPED | SKIPPED | PASS | SKIPPED | +-------------------------------+--------------------+-------------------+-------------------------+----------------------+-------------------+------------------+ | Ubuntu 24.04 | PASS | SKIPPED | SKIPPED | SKIPPED | PASS | PASS | +-------------------------------+--------------------+-------------------+-------------------------+----------------------+-------------------+------------------+ | Alpine Linux 3.22.0 | PASS | SKIPPED | SKIPPED | SKIPPED | SKIPPED | SKIPPED | +-------------------------------+--------------------+-------------------+-------------------------+----------------------+-------------------+------------------+ | Windows Server 2022 | SKIPPED | PASS | PASS | PASS | SKIPPED | SKIPPED | +-------------------------------+--------------------+-------------------+-------------------------+----------------------+-------------------+------------------+ Ubuntu 20.04 Kernel: 4.19 Compiler: gcc gcc (Ubuntu 9.4.0-1ubuntu1~20.04.2) 9.4.0 FreeBSD 14.2 Kernel: 14.2-RELEASE Compiler: clang 18.1.6 openSUSE Leap 15.6 Kernel: 5.15 Compiler: gcc gcc (SUSE Linux) 7.5.0 CentOS Stream 9 Kernel: 5.15 Compiler: gcc gcc (GCC) 11.5.0 20240719 (Red Hat 11.5.0-11) CentOS Stream 10 Kernel: 5.15 Compiler: gcc gcc (GCC) 14.2.1 20250110 (Red Hat 14.2.1-8) Debian GNU/Linux 12 Kernel: 5.15 Compiler: gcc gcc (Debian 12.2.0-14+deb12u1) 12.2.0 Fedora Linux 42 Kernel: 5.15 Compiler: clang gcc (GCC) 15.2.1 20250808 (Red Hat 15.2.1-1) Red Hat Enterprise Linux 8.10 Kernel: 5.15 Compiler: gcc gcc (GCC) 8.5.0 20210514 (Red Hat 8.5.0-22) Red Hat Enterprise Linux 9.5 Kernel: 5.15 Compiler: gcc gcc (GCC) 11.5.0 20240719 (Red Hat 11.5.0-2) Ubuntu 22.04 Kernel: 5.15 Compiler: gcc gcc (Ubuntu 11.4.0-1ubuntu1~22.04) 11.4.0 Ubuntu 24.04 Kernel: 5.15 Compiler: gcc gcc (Ubuntu 13.3.0-6ubuntu2~24.04) 13.3.0 Alpine Linux 3.22.0 Kernel: 5.15 Compiler: gcc gcc (Alpine 14.2.0) 14.2.0 Windows Server 2022 Kernel: 10.0.20348.2031 Compiler: clang 15.0.7, gcc 14.1.0 (MinGW), and MSVC VS 19.39.33521 To view detailed results, visit: https://lab.dpdk.org/results/dashboard/tarballs/35134/ UNH-IOL DPDK Community Lab To manage your email subscriptions, visit: https://lab.dpdk.org/results/dashboard/preferences/subscriptions/