From mboxrd@z Thu Jan 1 00:00:00 1970 Return-Path: Received: from mails.dpdk.org (mails.dpdk.org [217.70.189.124]) by inbox.dpdk.org (Postfix) with ESMTP id 48EE2488E1 for ; Wed, 8 Oct 2025 10:51:02 +0200 (CEST) Received: from mails.dpdk.org (localhost [127.0.0.1]) by mails.dpdk.org (Postfix) with ESMTP id 4501940297; Wed, 8 Oct 2025 10:51:02 +0200 (CEST) Received: from mail-io1-f99.google.com (mail-io1-f99.google.com [209.85.166.99]) by mails.dpdk.org (Postfix) with ESMTP id B297540297 for ; Wed, 8 Oct 2025 10:51:00 +0200 (CEST) Received: by mail-io1-f99.google.com with SMTP id ca18e2360f4ac-91fbba9a8f5so594497839f.0 for ; Wed, 08 Oct 2025 01:51:00 -0700 (PDT) DKIM-Signature: v=1; a=rsa-sha256; c=relaxed/relaxed; d=iol.unh.edu; s=unh-iol; t=1759913460; x=1760518260; darn=dpdk.org; h=cc:to:from:subject:message-id:date:from:to:cc:subject:date :message-id:reply-to; bh=LwXRs+EEG/5uzmWUJTFpiEIBe2wYNPHQbvyrXrZ/KRA=; b=S62rTwrBrPXcvOlejRBjAx+AQnJK76cDuSLIHg3ldSjOzrLrK2iDbLgenQMSi8prfT XmB1Q5X2YA7oFteZtvAQ2vrH+HOvuQBrMZJxEkHZdPv0AOMExCYASvrph2sM6WQwisk7 DKY9t2l0+7AYY2i/Z2TRbXOop4XnGEkh+0mk8= X-Google-DKIM-Signature: v=1; a=rsa-sha256; c=relaxed/relaxed; d=1e100.net; s=20230601; t=1759913460; x=1760518260; h=cc:to:from:subject:message-id:date:x-gm-message-state:from:to:cc :subject:date:message-id:reply-to; bh=LwXRs+EEG/5uzmWUJTFpiEIBe2wYNPHQbvyrXrZ/KRA=; b=m+sAf1gO1A1l4EkxkQC0r7AptNnwNfW6G5ncDW4Tx5YXmKt8eYZbGpUUaadzP3D+D2 nVtzjLdLmYx0Ka2+QXxXg3u7wWdqpBbS6k5SSzUFpuX5MCTFtl9/j7ZBnpci1qABHE0f VBzgUuac/wjlbLAHdTie5h8tIRP9OS3qaazq7Gmgr5ZLUjNa+Tjz5CIs9fNgQ7r1NCp4 4G3dRTWoF+f+z8SV8XW2uqSp/altoHZ4RZVk8NxjRlvjxZRAMg4VJrOVkrvWEDIrqp24 ahrxiglkISo4UHt//ZU0L00jfSOncamov/Ui/w0YXmVlKFfhC1RXSAJWpF3j/lioaS4q rv+A== X-Gm-Message-State: AOJu0YyGUfH4GmSJUYQaULw6v1kO/zBz7r/cEjLBXni7hpfHEBneo/SL d2CpViI40tE3hGpcqWdIGUwg5mLMnkX4+aL8hEHbLawhfUD+53ORbkofcR2zJbG0MVo8NvV02Es alwb/rIKtnL+nwQGLN6bc6NMYQ4IjYFab25VOG8pmgBcI X-Gm-Gg: ASbGncsQBlj5H/3J7QQaE5qsMktNDCxbQ9ZNqroZdJpr7tw3rKDU+b0i7FOxo4//Oxn 0khXQxGUI06FU/2edJkuSuxs4P5ntnWerfiuUCwY6bkZQd7BqrS19l4xArUagqRB5LrxwIi2Ssr nv9qEdHiAVD78b5xxKsk9MDpw8OnD7vl45KDtm+gi1aUr/3yCgSHG38BGorqpBpLO8aYDdDqC/7 DVE2rkiJ1khrMHhYMSCCjxQYFb1lue4OAKtVXOQc+7NvIb2pAcSR8x5l9yMspT23hrj+qHwq4yy 6ZGSrYMZsuDgi4qUBPSOYb9f73l87Uq6bicPwm/r21sXoxDC8ahs3PtpNyMP3OfSbv1rDlf7otp QmQ== X-Google-Smtp-Source: AGHT+IEV1NikhVx4HhHaLcvMFJpHvyuEls+dZTDVuoSOYAUhbE90ncF6zXCzMc3Qf3ePuG5xPkLh41y7zwck X-Received: by 2002:a05:6e02:12c5:b0:42f:86a1:b8fc with SMTP id e9e14a558f8ab-42f873d1cf8mr25161005ab.17.1759913460059; Wed, 08 Oct 2025 01:51:00 -0700 (PDT) Received: from postal.iol.unh.edu (postal.iol.unh.edu. [132.177.123.84]) by smtp-relay.gmail.com with ESMTPS id e9e14a558f8ab-42d8b20f562sm13178935ab.11.2025.10.08.01.50.59 (version=TLS1_2 cipher=ECDHE-ECDSA-AES128-GCM-SHA256 bits=128/128); Wed, 08 Oct 2025 01:51:00 -0700 (PDT) X-Relaying-Domain: iol.unh.edu Date: Wed, 08 Oct 2025 01:51:00 -0700 (PDT) Message-ID: <68e625f4.920a0220.2369c9.6e0eSMTPIN_ADDED_MISSING@mx.google.com> Received: from [172.21.0.2] (unknown [172.18.0.240]) by postal.iol.unh.edu (Postfix) with ESMTP id B3FBC6051830; Wed, 8 Oct 2025 04:50:59 -0400 (EDT) Subject: |SUCCESS| [GIT MASTER] 14d3c6f6a6c18f3b141d0bd9786c6dd3ae3714a3 From: dpdklab@iol.unh.edu To: Test Report Cc: dpdk-test-reports@iol.unh.edu, Jerin Jacob Content-Type: text/plain X-BeenThere: test-report@dpdk.org X-Mailman-Version: 2.1.29 Precedence: list List-Id: automatic DPDK test reports List-Unsubscribe: , List-Archive: List-Post: List-Help: List-Subscribe: , Errors-To: test-report-bounces@dpdk.org _Testing PASS_ Branch: dpdk-next-eventdev 14d3c6f6a6c18f3b141d0bd9786c6dd3ae3714a3 --> testing pass Upstream job id: Generic-DPDK-Compile-Meson#432312 Test environment and result as below: +-------------------------------+--------------------+-------------------+-------------------------+----------------------+-------------------+------------------+ | Environment | dpdk_meson_compile | dpdk_msvc_compile | dpdk_llvm_clang_compile | dpdk_mingw64_compile | dpdk_compile_spdk | dpdk_compile_ovs | +===============================+====================+===================+=========================+======================+===================+==================+ | Ubuntu 20.04 | PASS | SKIPPED | SKIPPED | SKIPPED | SKIPPED | SKIPPED | +-------------------------------+--------------------+-------------------+-------------------------+----------------------+-------------------+------------------+ | FreeBSD 14.2 | PASS | SKIPPED | SKIPPED | SKIPPED | SKIPPED | SKIPPED | +-------------------------------+--------------------+-------------------+-------------------------+----------------------+-------------------+------------------+ | openSUSE Leap 15.6 | PASS | SKIPPED | SKIPPED | SKIPPED | SKIPPED | SKIPPED | +-------------------------------+--------------------+-------------------+-------------------------+----------------------+-------------------+------------------+ | CentOS Stream 9 | PASS | SKIPPED | SKIPPED | SKIPPED | PASS | SKIPPED | +-------------------------------+--------------------+-------------------+-------------------------+----------------------+-------------------+------------------+ | CentOS Stream 10 | PASS | SKIPPED | SKIPPED | SKIPPED | SKIPPED | SKIPPED | +-------------------------------+--------------------+-------------------+-------------------------+----------------------+-------------------+------------------+ | Debian GNU/Linux 12 | PASS | SKIPPED | SKIPPED | SKIPPED | PASS | SKIPPED | +-------------------------------+--------------------+-------------------+-------------------------+----------------------+-------------------+------------------+ | Fedora Linux 42 | PASS | SKIPPED | SKIPPED | SKIPPED | PASS | PASS | +-------------------------------+--------------------+-------------------+-------------------------+----------------------+-------------------+------------------+ | Red Hat Enterprise Linux 8.10 | PASS | SKIPPED | SKIPPED | SKIPPED | SKIPPED | SKIPPED | +-------------------------------+--------------------+-------------------+-------------------------+----------------------+-------------------+------------------+ | Red Hat Enterprise Linux 9.5 | PASS | SKIPPED | SKIPPED | SKIPPED | SKIPPED | SKIPPED | +-------------------------------+--------------------+-------------------+-------------------------+----------------------+-------------------+------------------+ | Ubuntu 22.04 | PASS | SKIPPED | SKIPPED | SKIPPED | PASS | SKIPPED | +-------------------------------+--------------------+-------------------+-------------------------+----------------------+-------------------+------------------+ | Ubuntu 24.04 | PASS | SKIPPED | SKIPPED | SKIPPED | PASS | PASS | +-------------------------------+--------------------+-------------------+-------------------------+----------------------+-------------------+------------------+ | Alpine Linux 3.22.0 | PASS | SKIPPED | SKIPPED | SKIPPED | SKIPPED | SKIPPED | +-------------------------------+--------------------+-------------------+-------------------------+----------------------+-------------------+------------------+ | Windows Server 2022 | SKIPPED | PASS | PASS | PASS | SKIPPED | SKIPPED | +-------------------------------+--------------------+-------------------+-------------------------+----------------------+-------------------+------------------+ Ubuntu 20.04 Kernel: 4.19 Compiler: gcc gcc (Ubuntu 9.4.0-1ubuntu1~20.04.2) 9.4.0 FreeBSD 14.2 Kernel: 14.2-RELEASE Compiler: clang 18.1.6 openSUSE Leap 15.6 Kernel: 5.15 Compiler: gcc gcc (SUSE Linux) 7.5.0 CentOS Stream 9 Kernel: 5.15 Compiler: gcc gcc (GCC) 11.5.0 20240719 (Red Hat 11.5.0-11) CentOS Stream 10 Kernel: 5.15 Compiler: gcc gcc (GCC) 14.2.1 20250110 (Red Hat 14.2.1-8) Debian GNU/Linux 12 Kernel: 5.15 Compiler: gcc gcc (Debian 12.2.0-14+deb12u1) 12.2.0 Fedora Linux 42 Kernel: 5.15 Compiler: clang gcc (GCC) 15.2.1 20250808 (Red Hat 15.2.1-1) Red Hat Enterprise Linux 8.10 Kernel: 5.15 Compiler: gcc gcc (GCC) 8.5.0 20210514 (Red Hat 8.5.0-22) Red Hat Enterprise Linux 9.5 Kernel: 5.15 Compiler: gcc gcc (GCC) 11.5.0 20240719 (Red Hat 11.5.0-2) Ubuntu 22.04 Kernel: 5.15 Compiler: gcc gcc (Ubuntu 11.4.0-1ubuntu1~22.04) 11.4.0 Ubuntu 24.04 Kernel: 5.15 Compiler: gcc gcc (Ubuntu 13.3.0-6ubuntu2~24.04) 13.3.0 Alpine Linux 3.22.0 Kernel: 5.15 Compiler: gcc gcc (Alpine 14.2.0) 14.2.0 Windows Server 2022 Kernel: 10.0.20348.2031 Compiler: clang 15.0.7, gcc 14.1.0 (MinGW), and MSVC VS 19.39.33521 To view detailed results, visit: https://lab.dpdk.org/results/dashboard/tarballs/35134/ UNH-IOL DPDK Community Lab To manage your email subscriptions, visit: https://lab.dpdk.org/results/dashboard/preferences/subscriptions/