From mboxrd@z Thu Jan 1 00:00:00 1970 Return-Path: Received: from mails.dpdk.org (mails.dpdk.org [217.70.189.124]) by inbox.dpdk.org (Postfix) with ESMTP id 5BA40488E1 for ; Wed, 8 Oct 2025 10:51:20 +0200 (CEST) Received: from mails.dpdk.org (localhost [127.0.0.1]) by mails.dpdk.org (Postfix) with ESMTP id 548F040297; Wed, 8 Oct 2025 10:51:20 +0200 (CEST) Received: from mail-pg1-f225.google.com (mail-pg1-f225.google.com [209.85.215.225]) by mails.dpdk.org (Postfix) with ESMTP id 4900440297 for ; Wed, 8 Oct 2025 10:51:19 +0200 (CEST) Received: by mail-pg1-f225.google.com with SMTP id 41be03b00d2f7-b554bb615dcso5309968a12.1 for ; Wed, 08 Oct 2025 01:51:19 -0700 (PDT) DKIM-Signature: v=1; a=rsa-sha256; c=relaxed/relaxed; d=iol.unh.edu; s=unh-iol; t=1759913478; x=1760518278; darn=dpdk.org; h=cc:to:from:subject:message-id:date:from:to:cc:subject:date :message-id:reply-to; bh=AJHI1gFqSHSY2keFFiDxEi13PEvfWgShS+Rerdyinhs=; b=Lg2JZCI7fMMfUOfg/RMF4FICyjjsUSrRNfDCCXSO8YpubQ33oBAfOUpuGMJrAbgzbn fdOynTFloydpAYZfbJyX9QNlLpfq428mo12chcBhleJHihLjHnrPzHVCjfa5YRk7HKYw AmB0OLVfwaCT7IyEztLKW5LHm9KqlFEw3tg/A= X-Google-DKIM-Signature: v=1; a=rsa-sha256; c=relaxed/relaxed; d=1e100.net; s=20230601; t=1759913478; x=1760518278; h=cc:to:from:subject:message-id:date:x-gm-message-state:from:to:cc :subject:date:message-id:reply-to; bh=AJHI1gFqSHSY2keFFiDxEi13PEvfWgShS+Rerdyinhs=; b=JV4S7qDlyGulzAfIrnX3LgeD9/Yy9Qw6xy5fxtZtE2yHu6l07Rj/E279aH8ZKFZ3ms X7ghLum8dUKXTsUHergy5PJiPnnnYOXDkjnmOIdTUXu2dhsC3EZhCfbXZE99wL3n4e+M IuQxOccG1331IWcP5MnjqZ9/YyLEOK48iq3lgLyIQeM1VRhs/cWDuQRbDhow9h1jUSVO JhEjWPJ2CJM8uEN+NYxTjAzy8/iCr7Mg+djqNZtpII4xexb1g9OKgm+wHHdeb2wc8VxA KPi/wJjctcIUNCBK3ypiEIVde04MU0tSPFbE/aauAQSYEZ6w+fWt7opSR/L/0zXb3wG4 tziA== X-Gm-Message-State: AOJu0YwKqs2vYn3/zPDXFAuHpFlDymrZQ39/KsOzQ7aUdLt5bQwMlaDj ccTPvScmPtHzNWu5/Xj9CWcoLIhzjPx1qZG0htt8Lp+t0hquQaMyfeS8eN4VrbK3j5eQVLyxoh0 a8eVv4hQaEkNsmeixYU/iH/f6+x79C9NoP+ZtwIq0/QHsGhDcKt4+eFTfUTVB X-Gm-Gg: ASbGncvl4Suo1yWzpVDA0S/UypHACvndRmaBP8Rec+f4abM1ZvhfA2mfsohkAt9W80U slevDttWj9bNJQ40xIakdCJJ7uF1BZjWg6VKDPjBwoK9lLkhdVzKhSKUg6jiNSHd5PC2lQmDxlu /gETbS+AuiZzEuwxApq9tMbQZgh4IN3IrZB0k6GJdQP2GP73TB57Y3YMOYcwiK4gS9Yi2tXxnIs ZTzDXCVvpLt8/Nm6DZfPqPlhjBlVBGJK6WWgI/Y2WXdkOH/zHXjdkPNmUDsqTtfxWdI3VjZVi5j U8OytnqGI5Kco2R+F03fG8qi0e6IRjNkFI9mqb3WSabmqTyzUquRwvE= X-Google-Smtp-Source: AGHT+IFPEcTZOadgqrNR3LUg7MNVk3a/TFOH5SI7QGarx+ZcRWrzzE9vhXHKzvWmzT4ewHOk8DSNxJ1UN2OD X-Received: by 2002:a17:902:c945:b0:28e:80d7:663e with SMTP id d9443c01a7336-29027369d05mr39883205ad.40.1759913478461; Wed, 08 Oct 2025 01:51:18 -0700 (PDT) Received: from postal.iol.unh.edu (postal.iol.unh.edu. [2606:4100:3880:1234::84]) by smtp-relay.gmail.com with ESMTPS id d9443c01a7336-28e8d180a84sm14241625ad.41.2025.10.08.01.51.18 (version=TLS1_2 cipher=ECDHE-ECDSA-AES128-GCM-SHA256 bits=128/128); Wed, 08 Oct 2025 01:51:18 -0700 (PDT) X-Relaying-Domain: iol.unh.edu Date: Wed, 08 Oct 2025 01:51:18 -0700 (PDT) Message-ID: <68e62606.170a0220.1eee31.dde5SMTPIN_ADDED_MISSING@mx.google.com> Received: from [172.21.0.4] (unknown [172.18.0.240]) by postal.iol.unh.edu (Postfix) with ESMTP id A4B746051830; Wed, 8 Oct 2025 04:51:17 -0400 (EDT) Subject: |SUCCESS| [GIT MASTER] 14d3c6f6a6c18f3b141d0bd9786c6dd3ae3714a3 From: dpdklab@iol.unh.edu To: Test Report Cc: dpdk-test-reports@iol.unh.edu, Jerin Jacob Content-Type: text/plain X-BeenThere: test-report@dpdk.org X-Mailman-Version: 2.1.29 Precedence: list List-Id: automatic DPDK test reports List-Unsubscribe: , List-Archive: List-Post: List-Help: List-Subscribe: , Errors-To: test-report-bounces@dpdk.org _Testing PASS_ Branch: dpdk-next-eventdev 14d3c6f6a6c18f3b141d0bd9786c6dd3ae3714a3 --> testing pass Upstream job id: Generic-DPDK-Compile-Meson#432322 Test environment and result as below: +-------------------------------+--------------------+-------------------+-------------------------+----------------------+-------------------+------------------+ | Environment | dpdk_meson_compile | dpdk_msvc_compile | dpdk_llvm_clang_compile | dpdk_mingw64_compile | dpdk_compile_spdk | dpdk_compile_ovs | +===============================+====================+===================+=========================+======================+===================+==================+ | Ubuntu 20.04 | PASS | SKIPPED | SKIPPED | SKIPPED | SKIPPED | SKIPPED | +-------------------------------+--------------------+-------------------+-------------------------+----------------------+-------------------+------------------+ | FreeBSD 14.2 | PASS | SKIPPED | SKIPPED | SKIPPED | SKIPPED | SKIPPED | +-------------------------------+--------------------+-------------------+-------------------------+----------------------+-------------------+------------------+ | openSUSE Leap 15.6 | PASS | SKIPPED | SKIPPED | SKIPPED | SKIPPED | SKIPPED | +-------------------------------+--------------------+-------------------+-------------------------+----------------------+-------------------+------------------+ | CentOS Stream 9 | PASS | SKIPPED | SKIPPED | SKIPPED | PASS | SKIPPED | +-------------------------------+--------------------+-------------------+-------------------------+----------------------+-------------------+------------------+ | CentOS Stream 10 | PASS | SKIPPED | SKIPPED | SKIPPED | SKIPPED | SKIPPED | +-------------------------------+--------------------+-------------------+-------------------------+----------------------+-------------------+------------------+ | Debian GNU/Linux 12 | PASS | SKIPPED | SKIPPED | SKIPPED | PASS | SKIPPED | +-------------------------------+--------------------+-------------------+-------------------------+----------------------+-------------------+------------------+ | Fedora Linux 42 | PASS | SKIPPED | SKIPPED | SKIPPED | PASS | PASS | +-------------------------------+--------------------+-------------------+-------------------------+----------------------+-------------------+------------------+ | Red Hat Enterprise Linux 8.10 | PASS | SKIPPED | SKIPPED | SKIPPED | SKIPPED | SKIPPED | +-------------------------------+--------------------+-------------------+-------------------------+----------------------+-------------------+------------------+ | Red Hat Enterprise Linux 9.5 | PASS | SKIPPED | SKIPPED | SKIPPED | SKIPPED | SKIPPED | +-------------------------------+--------------------+-------------------+-------------------------+----------------------+-------------------+------------------+ | Ubuntu 22.04 | PASS | SKIPPED | SKIPPED | SKIPPED | PASS | SKIPPED | +-------------------------------+--------------------+-------------------+-------------------------+----------------------+-------------------+------------------+ | Ubuntu 24.04 | PASS | SKIPPED | SKIPPED | SKIPPED | PASS | PASS | +-------------------------------+--------------------+-------------------+-------------------------+----------------------+-------------------+------------------+ | Alpine Linux 3.22.0 | PASS | SKIPPED | SKIPPED | SKIPPED | SKIPPED | SKIPPED | +-------------------------------+--------------------+-------------------+-------------------------+----------------------+-------------------+------------------+ | Windows Server 2022 | SKIPPED | PASS | PASS | PASS | SKIPPED | SKIPPED | +-------------------------------+--------------------+-------------------+-------------------------+----------------------+-------------------+------------------+ Ubuntu 20.04 Kernel: 4.19 Compiler: gcc gcc (Ubuntu 9.4.0-1ubuntu1~20.04.2) 9.4.0 FreeBSD 14.2 Kernel: 14.2-RELEASE Compiler: clang 18.1.6 openSUSE Leap 15.6 Kernel: 5.15 Compiler: gcc gcc (SUSE Linux) 7.5.0 CentOS Stream 9 Kernel: 5.15 Compiler: gcc gcc (GCC) 11.5.0 20240719 (Red Hat 11.5.0-11) CentOS Stream 10 Kernel: 5.15 Compiler: gcc gcc (GCC) 14.2.1 20250110 (Red Hat 14.2.1-8) Debian GNU/Linux 12 Kernel: 5.15 Compiler: gcc gcc (Debian 12.2.0-14+deb12u1) 12.2.0 Fedora Linux 42 Kernel: 5.15 Compiler: clang gcc (GCC) 15.2.1 20250808 (Red Hat 15.2.1-1) Red Hat Enterprise Linux 8.10 Kernel: 5.15 Compiler: gcc gcc (GCC) 8.5.0 20210514 (Red Hat 8.5.0-22) Red Hat Enterprise Linux 9.5 Kernel: 5.15 Compiler: gcc gcc (GCC) 11.5.0 20240719 (Red Hat 11.5.0-2) Ubuntu 22.04 Kernel: 5.15 Compiler: gcc gcc (Ubuntu 11.4.0-1ubuntu1~22.04) 11.4.0 Ubuntu 24.04 Kernel: 5.15 Compiler: gcc gcc (Ubuntu 13.3.0-6ubuntu2~24.04) 13.3.0 Alpine Linux 3.22.0 Kernel: 5.15 Compiler: gcc gcc (Alpine 14.2.0) 14.2.0 Windows Server 2022 Kernel: 10.0.20348.2031 Compiler: clang 15.0.7, gcc 14.1.0 (MinGW), and MSVC VS 19.39.33521 To view detailed results, visit: https://lab.dpdk.org/results/dashboard/tarballs/35134/ UNH-IOL DPDK Community Lab To manage your email subscriptions, visit: https://lab.dpdk.org/results/dashboard/preferences/subscriptions/