From mboxrd@z Thu Jan 1 00:00:00 1970 Return-Path: Received: from mails.dpdk.org (mails.dpdk.org [217.70.189.124]) by inbox.dpdk.org (Postfix) with ESMTP id 6E526488E1 for ; Wed, 8 Oct 2025 10:51:41 +0200 (CEST) Received: from mails.dpdk.org (localhost [127.0.0.1]) by mails.dpdk.org (Postfix) with ESMTP id 68D3C40297; Wed, 8 Oct 2025 10:51:41 +0200 (CEST) Received: from mail-pj1-f97.google.com (mail-pj1-f97.google.com [209.85.216.97]) by mails.dpdk.org (Postfix) with ESMTP id 4E49640297 for ; Wed, 8 Oct 2025 10:51:40 +0200 (CEST) Received: by mail-pj1-f97.google.com with SMTP id 98e67ed59e1d1-32ed19ce5a3so6817647a91.0 for ; Wed, 08 Oct 2025 01:51:40 -0700 (PDT) DKIM-Signature: v=1; a=rsa-sha256; c=relaxed/relaxed; d=iol.unh.edu; s=unh-iol; t=1759913499; x=1760518299; darn=dpdk.org; h=cc:to:from:subject:message-id:date:from:to:cc:subject:date :message-id:reply-to; bh=0D8kCBafx5S5rMIFmRudd/MJFMXVMqGbD+3dv0Qmb+8=; b=hQWEZpKe+mhykAz6lI/AB5BBckNE/BIxUrUaK9/EdEwhefRFfjly+BylmHoE06XC96 /DMlyzcdIv6Ii63aHXz/CVhF0fYuKAr+mnTDl61G0bXxHty3cDjQ1xWkwM8b0C+MRpQU 2DLN1XJjY0YNIxFq3wsdFQ6sJM5PcG91lVqO8= X-Google-DKIM-Signature: v=1; a=rsa-sha256; c=relaxed/relaxed; d=1e100.net; s=20230601; t=1759913499; x=1760518299; h=cc:to:from:subject:message-id:date:x-gm-message-state:from:to:cc :subject:date:message-id:reply-to; bh=0D8kCBafx5S5rMIFmRudd/MJFMXVMqGbD+3dv0Qmb+8=; b=VQ4nFACUP/TGkxmJADXBVK5KbyI8kWVGo3VtxOiRMY/+BOOnO4XAeh02vkk10hTbFw 5eS5OMF/GUMpw+YJFN8afK5wMvkN04xszgIuElF0AjSCAhkvfO2GrINQwEmMSQZ58Y3k o3SzpciDw+ncCFfdZ/X0LwgahiJlhFdkYEXeAfHEBLKCncs99YlLDTqttPifNyg/BwHV 1J89xKp4LYj6JWzlrENO5hqdsOhcmMF3kLLr9HICsbY/GUpAp1w9Md9G3FuT+FBL1ppJ G3z+ql15DZOVyYZRDhkBLdPmPEA2//NdiJHOcCAK9pWmvr4OATCM+iYPM7PWqML2oDx4 TmPw== X-Gm-Message-State: AOJu0YxswT4swumSiAEQwypEhVPgyG4Yp06Waw1uXJuij6tFLspJ7jrp VftFp9KN7rqy1HQCEVHtGlRC0duVMbY/MHULUHZZKOz+8JgGhPu5EeQn8Oo2qOEQhQEP31znats MIIIhT6pjmK58lwaNix4e1ZA9B9odEA3D2KZ12mvmU7qrpvqhYkcGOb1pqYe8 X-Gm-Gg: ASbGnct3z9d3jhKRQAnNSJB/s2lS+qWXblrc8Sx1KYMeNvk6usN3gXPsiJUnI0uwx4d y4B522LM4ItfY9IXdQbNZ0LuHNCBoZK1LXMsC2PMJlNnyu8SuVyv81tSYOx9pKD1z4lZ3n8I7k3 NHf+OjEDO4cnMBUO3oFWaVTIAX2/wsFMzevlGA3/QIBPF1eWTp510ExQbEreyhlHg1Sc3mb5OXl EfUe5wbIIBIfV/R2TE3lekxKQk78ekVljOvwCeux+gNF1azy6v5HtHPZTRAKk2yRl9m0xcB/L8c D7cuV8PZZKkEEu8p+iUIR6D70li2kZ6drXuG1bT1Crk/oauKrjILCtg= X-Google-Smtp-Source: AGHT+IEEdkDfPryj7HOYz7FtabZAc2TbV3A2jq2COU69nWa2xXIh6B2WG0dukP9wrkyfPUYk2SMJVx0sQPlu X-Received: by 2002:a17:90b:1d92:b0:32e:389b:8762 with SMTP id 98e67ed59e1d1-33b50f2b05fmr3260206a91.0.1759913499424; Wed, 08 Oct 2025 01:51:39 -0700 (PDT) Received: from postal.iol.unh.edu (postal.iol.unh.edu. [2606:4100:3880:1234::84]) by smtp-relay.gmail.com with ESMTPS id 41be03b00d2f7-b62e9c1f6dbsm781321a12.4.2025.10.08.01.51.39 (version=TLS1_2 cipher=ECDHE-ECDSA-AES128-GCM-SHA256 bits=128/128); Wed, 08 Oct 2025 01:51:39 -0700 (PDT) X-Relaying-Domain: iol.unh.edu Date: Wed, 08 Oct 2025 01:51:39 -0700 (PDT) Message-ID: <68e6261b.050a0220.76acb.825aSMTPIN_ADDED_MISSING@mx.google.com> Received: from [172.21.0.2] (unknown [172.18.0.240]) by postal.iol.unh.edu (Postfix) with ESMTP id CD97A6051830; Wed, 8 Oct 2025 04:51:38 -0400 (EDT) Subject: |SUCCESS| [GIT MASTER] 14d3c6f6a6c18f3b141d0bd9786c6dd3ae3714a3 From: dpdklab@iol.unh.edu To: Test Report Cc: dpdk-test-reports@iol.unh.edu, Jerin Jacob Content-Type: text/plain X-BeenThere: test-report@dpdk.org X-Mailman-Version: 2.1.29 Precedence: list List-Id: automatic DPDK test reports List-Unsubscribe: , List-Archive: List-Post: List-Help: List-Subscribe: , Errors-To: test-report-bounces@dpdk.org _Testing PASS_ Branch: dpdk-next-eventdev 14d3c6f6a6c18f3b141d0bd9786c6dd3ae3714a3 --> testing pass Upstream job id: Generic-DPDK-Compile-Meson#432317 Test environment and result as below: +-------------------------------+--------------------+-------------------+-------------------------+----------------------+-------------------+------------------+ | Environment | dpdk_meson_compile | dpdk_msvc_compile | dpdk_llvm_clang_compile | dpdk_mingw64_compile | dpdk_compile_spdk | dpdk_compile_ovs | +===============================+====================+===================+=========================+======================+===================+==================+ | Ubuntu 20.04 | PASS | SKIPPED | SKIPPED | SKIPPED | SKIPPED | SKIPPED | +-------------------------------+--------------------+-------------------+-------------------------+----------------------+-------------------+------------------+ | FreeBSD 14.2 | PASS | SKIPPED | SKIPPED | SKIPPED | SKIPPED | SKIPPED | +-------------------------------+--------------------+-------------------+-------------------------+----------------------+-------------------+------------------+ | openSUSE Leap 15.6 | PASS | SKIPPED | SKIPPED | SKIPPED | SKIPPED | SKIPPED | +-------------------------------+--------------------+-------------------+-------------------------+----------------------+-------------------+------------------+ | CentOS Stream 9 | PASS | SKIPPED | SKIPPED | SKIPPED | PASS | SKIPPED | +-------------------------------+--------------------+-------------------+-------------------------+----------------------+-------------------+------------------+ | CentOS Stream 10 | PASS | SKIPPED | SKIPPED | SKIPPED | SKIPPED | SKIPPED | +-------------------------------+--------------------+-------------------+-------------------------+----------------------+-------------------+------------------+ | Debian GNU/Linux 12 | PASS | SKIPPED | SKIPPED | SKIPPED | PASS | SKIPPED | +-------------------------------+--------------------+-------------------+-------------------------+----------------------+-------------------+------------------+ | Fedora Linux 42 | PASS | SKIPPED | SKIPPED | SKIPPED | PASS | PASS | +-------------------------------+--------------------+-------------------+-------------------------+----------------------+-------------------+------------------+ | Red Hat Enterprise Linux 8.10 | PASS | SKIPPED | SKIPPED | SKIPPED | SKIPPED | SKIPPED | +-------------------------------+--------------------+-------------------+-------------------------+----------------------+-------------------+------------------+ | Red Hat Enterprise Linux 9.5 | PASS | SKIPPED | SKIPPED | SKIPPED | SKIPPED | SKIPPED | +-------------------------------+--------------------+-------------------+-------------------------+----------------------+-------------------+------------------+ | Ubuntu 22.04 | PASS | SKIPPED | SKIPPED | SKIPPED | PASS | SKIPPED | +-------------------------------+--------------------+-------------------+-------------------------+----------------------+-------------------+------------------+ | Ubuntu 24.04 | PASS | SKIPPED | SKIPPED | SKIPPED | PASS | PASS | +-------------------------------+--------------------+-------------------+-------------------------+----------------------+-------------------+------------------+ | Alpine Linux 3.22.0 | PASS | SKIPPED | SKIPPED | SKIPPED | SKIPPED | SKIPPED | +-------------------------------+--------------------+-------------------+-------------------------+----------------------+-------------------+------------------+ | Windows Server 2022 | SKIPPED | PASS | PASS | PASS | SKIPPED | SKIPPED | +-------------------------------+--------------------+-------------------+-------------------------+----------------------+-------------------+------------------+ Ubuntu 20.04 Kernel: 4.19 Compiler: gcc gcc (Ubuntu 9.4.0-1ubuntu1~20.04.2) 9.4.0 FreeBSD 14.2 Kernel: 14.2-RELEASE Compiler: clang 18.1.6 openSUSE Leap 15.6 Kernel: 5.15 Compiler: gcc gcc (SUSE Linux) 7.5.0 CentOS Stream 9 Kernel: 5.15 Compiler: gcc gcc (GCC) 11.5.0 20240719 (Red Hat 11.5.0-11) CentOS Stream 10 Kernel: 5.15 Compiler: gcc gcc (GCC) 14.2.1 20250110 (Red Hat 14.2.1-8) Debian GNU/Linux 12 Kernel: 5.15 Compiler: gcc gcc (Debian 12.2.0-14+deb12u1) 12.2.0 Fedora Linux 42 Kernel: 5.15 Compiler: clang gcc (GCC) 15.2.1 20250808 (Red Hat 15.2.1-1) Red Hat Enterprise Linux 8.10 Kernel: 5.15 Compiler: gcc gcc (GCC) 8.5.0 20210514 (Red Hat 8.5.0-22) Red Hat Enterprise Linux 9.5 Kernel: 5.15 Compiler: gcc gcc (GCC) 11.5.0 20240719 (Red Hat 11.5.0-2) Ubuntu 22.04 Kernel: 5.15 Compiler: gcc gcc (Ubuntu 11.4.0-1ubuntu1~22.04) 11.4.0 Ubuntu 24.04 Kernel: 5.15 Compiler: gcc gcc (Ubuntu 13.3.0-6ubuntu2~24.04) 13.3.0 Alpine Linux 3.22.0 Kernel: 5.15 Compiler: gcc gcc (Alpine 14.2.0) 14.2.0 Windows Server 2022 Kernel: 10.0.20348.2031 Compiler: clang 15.0.7, gcc 14.1.0 (MinGW), and MSVC VS 19.39.33521 To view detailed results, visit: https://lab.dpdk.org/results/dashboard/tarballs/35134/ UNH-IOL DPDK Community Lab To manage your email subscriptions, visit: https://lab.dpdk.org/results/dashboard/preferences/subscriptions/