From mboxrd@z Thu Jan 1 00:00:00 1970 Return-Path: Received: from mails.dpdk.org (mails.dpdk.org [217.70.189.124]) by inbox.dpdk.org (Postfix) with ESMTP id 76CEE488E1 for ; Wed, 8 Oct 2025 10:51:44 +0200 (CEST) Received: from mails.dpdk.org (localhost [127.0.0.1]) by mails.dpdk.org (Postfix) with ESMTP id 7227440297; Wed, 8 Oct 2025 10:51:44 +0200 (CEST) Received: from mail-qv1-f98.google.com (mail-qv1-f98.google.com [209.85.219.98]) by mails.dpdk.org (Postfix) with ESMTP id 8E7C440647 for ; Wed, 8 Oct 2025 10:51:41 +0200 (CEST) Received: by mail-qv1-f98.google.com with SMTP id 6a1803df08f44-791875a9071so70873446d6.1 for ; Wed, 08 Oct 2025 01:51:41 -0700 (PDT) DKIM-Signature: v=1; a=rsa-sha256; c=relaxed/relaxed; d=iol.unh.edu; s=unh-iol; t=1759913501; x=1760518301; darn=dpdk.org; h=cc:to:from:subject:message-id:date:from:to:cc:subject:date :message-id:reply-to; bh=NgEQhq73mSBbvg/8mzArudNOI14opdW9PiA0+Qd1Izw=; b=WJI3uqLan7KeUXCkIZCo8XH8CnbpQgrWrDo7LPqGZ9GFYAmD0rAn1L4vIeK/qm6IC4 TI5kL97pt0jKY6k1XYIzxg3N1THb9RcPdv50Lfx1LPAVPTQd8hcytlRLa2jOrrjmBGCl CE8qK7Ne46UQTLFXATaAI5tcXsribgWJ/c0b4= X-Google-DKIM-Signature: v=1; a=rsa-sha256; c=relaxed/relaxed; d=1e100.net; s=20230601; t=1759913501; x=1760518301; h=cc:to:from:subject:message-id:date:x-gm-message-state:from:to:cc :subject:date:message-id:reply-to; bh=NgEQhq73mSBbvg/8mzArudNOI14opdW9PiA0+Qd1Izw=; b=V/5xND9ix8wqQ2avgdprICsNm1bw6jU1EE2V5jx1Lx1G2ONzJLehszQTSUJRwnV4ZH O5awrm/M4DW2u41Dq8xRV6gvMh0QF3CF32bdvdxmvNk0FQebK7RZzFIxXLnjNG0h/fxj AvT7IFHwHbz9jMlUD2khIpptYrgs8Lnx1KOBroQPnZY2B6lhWDBBcWGVrivdvk9lCGdm EShoi1/O0lZN8AkYKrGkLdbPVrCPrk3O219l+aiIMPl7vPRk/+XLU3ScsVZo3ggRFDir HKylN6O44C/N5lhfRqV1gmGuzrhNuaUNpkAGWINE+bxlfc0rXBqUFemGHPxmkjRLGZsK uYzg== X-Gm-Message-State: AOJu0YxnjBzPag5N7AH5qiHwTr0tC8+3exzG+dU6QOFTVo69jH7UThFs eQZK00Cxd7OHEwGfj9Ko4bna7Y/MTXgTdXvjoj5EsogkXZU1GSsKnmwYWZ1oBHxd9q1LPW2uxJ6 FYHuY9OsfhdC15uSR49l4rGQUrT3Dm1PpookTF7MNr+nU X-Gm-Gg: ASbGncuQ06vU2AqInUW+DZAVrYEIGQDTt7S4YM553iTpgJ+LNM/a81avz6LvAOwINJf FCxHI1ry9iBT1hTUZfkjEl4C0PNqUtKWo8No6RCDeLUnZqKP8Rdmkl7OkJEf/OMNq7B+O4VItlL MU94N4wN4HPAkxlPokLCPuvp1zUS1J1t8f2jW5MTLPeMQlfrLTF/wbdZrjvdxn4hDKP+R15/uMt 2OXHoD0Av1z5iaHzB5i5ihu010Bi2KUWeT4KBka2dDoZDIceWCOUSaKVBb5fAo/Zlz3r7N1FXqs X5nzJM07pePO/H2CXz7gJHWStJ6Bhxoeu+F5v0fBZwbfjl+guwWKCjUBYFRvGxUbwgb5I1WD0Ss BXg== X-Google-Smtp-Source: AGHT+IFTNufMQd6fTnIGeULXkeJgcaqZmlHMTV1svdAix4Be/K8i/4+EYO4tzsEKoETnWOa/FlN6HJZIn49t X-Received: by 2002:a05:6214:1cce:b0:794:309a:8702 with SMTP id 6a1803df08f44-87b2ef86d4amr36087796d6.66.1759913500948; Wed, 08 Oct 2025 01:51:40 -0700 (PDT) Received: from postal.iol.unh.edu (postal.iol.unh.edu. [132.177.123.84]) by smtp-relay.gmail.com with ESMTPS id 6a1803df08f44-878bb637b2fsm15084696d6.13.2025.10.08.01.51.40 (version=TLS1_2 cipher=ECDHE-ECDSA-AES128-GCM-SHA256 bits=128/128); Wed, 08 Oct 2025 01:51:40 -0700 (PDT) X-Relaying-Domain: iol.unh.edu Date: Wed, 08 Oct 2025 01:51:40 -0700 (PDT) Message-ID: <68e6261c.d40a0220.36da07.137dSMTPIN_ADDED_MISSING@mx.google.com> Received: from [172.21.0.3] (unknown [172.18.0.240]) by postal.iol.unh.edu (Postfix) with ESMTP id A95B36051830; Wed, 8 Oct 2025 04:51:40 -0400 (EDT) Subject: |SUCCESS| [GIT MASTER] 14d3c6f6a6c18f3b141d0bd9786c6dd3ae3714a3 From: dpdklab@iol.unh.edu To: Test Report Cc: dpdk-test-reports@iol.unh.edu, Jerin Jacob Content-Type: text/plain X-BeenThere: test-report@dpdk.org X-Mailman-Version: 2.1.29 Precedence: list List-Id: automatic DPDK test reports List-Unsubscribe: , List-Archive: List-Post: List-Help: List-Subscribe: , Errors-To: test-report-bounces@dpdk.org _Testing PASS_ Branch: dpdk-next-eventdev 14d3c6f6a6c18f3b141d0bd9786c6dd3ae3714a3 --> testing pass Upstream job id: Generic-DPDK-Compile-Meson#432318 Test environment and result as below: +-------------------------------+--------------------+-------------------+-------------------------+----------------------+-------------------+------------------+ | Environment | dpdk_meson_compile | dpdk_msvc_compile | dpdk_llvm_clang_compile | dpdk_mingw64_compile | dpdk_compile_spdk | dpdk_compile_ovs | +===============================+====================+===================+=========================+======================+===================+==================+ | Ubuntu 20.04 | PASS | SKIPPED | SKIPPED | SKIPPED | SKIPPED | SKIPPED | +-------------------------------+--------------------+-------------------+-------------------------+----------------------+-------------------+------------------+ | FreeBSD 14.2 | PASS | SKIPPED | SKIPPED | SKIPPED | SKIPPED | SKIPPED | +-------------------------------+--------------------+-------------------+-------------------------+----------------------+-------------------+------------------+ | openSUSE Leap 15.6 | PASS | SKIPPED | SKIPPED | SKIPPED | SKIPPED | SKIPPED | +-------------------------------+--------------------+-------------------+-------------------------+----------------------+-------------------+------------------+ | CentOS Stream 9 | PASS | SKIPPED | SKIPPED | SKIPPED | PASS | SKIPPED | +-------------------------------+--------------------+-------------------+-------------------------+----------------------+-------------------+------------------+ | CentOS Stream 10 | PASS | SKIPPED | SKIPPED | SKIPPED | SKIPPED | SKIPPED | +-------------------------------+--------------------+-------------------+-------------------------+----------------------+-------------------+------------------+ | Debian GNU/Linux 12 | PASS | SKIPPED | SKIPPED | SKIPPED | PASS | SKIPPED | +-------------------------------+--------------------+-------------------+-------------------------+----------------------+-------------------+------------------+ | Fedora Linux 42 | PASS | SKIPPED | SKIPPED | SKIPPED | PASS | PASS | +-------------------------------+--------------------+-------------------+-------------------------+----------------------+-------------------+------------------+ | Red Hat Enterprise Linux 8.10 | PASS | SKIPPED | SKIPPED | SKIPPED | SKIPPED | SKIPPED | +-------------------------------+--------------------+-------------------+-------------------------+----------------------+-------------------+------------------+ | Red Hat Enterprise Linux 9.5 | PASS | SKIPPED | SKIPPED | SKIPPED | SKIPPED | SKIPPED | +-------------------------------+--------------------+-------------------+-------------------------+----------------------+-------------------+------------------+ | Ubuntu 22.04 | PASS | SKIPPED | SKIPPED | SKIPPED | PASS | SKIPPED | +-------------------------------+--------------------+-------------------+-------------------------+----------------------+-------------------+------------------+ | Ubuntu 24.04 | PASS | SKIPPED | SKIPPED | SKIPPED | PASS | PASS | +-------------------------------+--------------------+-------------------+-------------------------+----------------------+-------------------+------------------+ | Alpine Linux 3.22.0 | PASS | SKIPPED | SKIPPED | SKIPPED | SKIPPED | SKIPPED | +-------------------------------+--------------------+-------------------+-------------------------+----------------------+-------------------+------------------+ | Windows Server 2022 | SKIPPED | PASS | PASS | PASS | SKIPPED | SKIPPED | +-------------------------------+--------------------+-------------------+-------------------------+----------------------+-------------------+------------------+ Ubuntu 20.04 Kernel: 4.19 Compiler: gcc gcc (Ubuntu 9.4.0-1ubuntu1~20.04.2) 9.4.0 FreeBSD 14.2 Kernel: 14.2-RELEASE Compiler: clang 18.1.6 openSUSE Leap 15.6 Kernel: 5.15 Compiler: gcc gcc (SUSE Linux) 7.5.0 CentOS Stream 9 Kernel: 5.15 Compiler: gcc gcc (GCC) 11.5.0 20240719 (Red Hat 11.5.0-11) CentOS Stream 10 Kernel: 5.15 Compiler: gcc gcc (GCC) 14.2.1 20250110 (Red Hat 14.2.1-8) Debian GNU/Linux 12 Kernel: 5.15 Compiler: gcc gcc (Debian 12.2.0-14+deb12u1) 12.2.0 Fedora Linux 42 Kernel: 5.15 Compiler: clang gcc (GCC) 15.2.1 20250808 (Red Hat 15.2.1-1) Red Hat Enterprise Linux 8.10 Kernel: 5.15 Compiler: gcc gcc (GCC) 8.5.0 20210514 (Red Hat 8.5.0-22) Red Hat Enterprise Linux 9.5 Kernel: 5.15 Compiler: gcc gcc (GCC) 11.5.0 20240719 (Red Hat 11.5.0-2) Ubuntu 22.04 Kernel: 5.15 Compiler: gcc gcc (Ubuntu 11.4.0-1ubuntu1~22.04) 11.4.0 Ubuntu 24.04 Kernel: 5.15 Compiler: gcc gcc (Ubuntu 13.3.0-6ubuntu2~24.04) 13.3.0 Alpine Linux 3.22.0 Kernel: 5.15 Compiler: gcc gcc (Alpine 14.2.0) 14.2.0 Windows Server 2022 Kernel: 10.0.20348.2031 Compiler: clang 15.0.7, gcc 14.1.0 (MinGW), and MSVC VS 19.39.33521 To view detailed results, visit: https://lab.dpdk.org/results/dashboard/tarballs/35134/ UNH-IOL DPDK Community Lab To manage your email subscriptions, visit: https://lab.dpdk.org/results/dashboard/preferences/subscriptions/