From mboxrd@z Thu Jan 1 00:00:00 1970 Return-Path: Received: from mails.dpdk.org (mails.dpdk.org [217.70.189.124]) by inbox.dpdk.org (Postfix) with ESMTP id 8A750488E1 for ; Wed, 8 Oct 2025 10:52:13 +0200 (CEST) Received: from mails.dpdk.org (localhost [127.0.0.1]) by mails.dpdk.org (Postfix) with ESMTP id 8609B40297; Wed, 8 Oct 2025 10:52:13 +0200 (CEST) Received: from mail-io1-f99.google.com (mail-io1-f99.google.com [209.85.166.99]) by mails.dpdk.org (Postfix) with ESMTP id 2CD6F40297 for ; Wed, 8 Oct 2025 10:52:13 +0200 (CEST) Received: by mail-io1-f99.google.com with SMTP id ca18e2360f4ac-92cebee95a8so323265939f.0 for ; Wed, 08 Oct 2025 01:52:13 -0700 (PDT) DKIM-Signature: v=1; a=rsa-sha256; c=relaxed/relaxed; d=iol.unh.edu; s=unh-iol; t=1759913532; x=1760518332; darn=dpdk.org; h=cc:to:from:subject:message-id:date:from:to:cc:subject:date :message-id:reply-to; bh=KWHYN/P6HwBYYLBj6DNYaGtpkpAKPrUgS0EXB37NUkc=; b=fPoe0Wbd50UAcjl24YfbGvXP4u3knb9d8Qx0bhB2v3B/GYXcSNJ/kpxHlRfnXdoZhH vcnSCeMrc/BHDoF3BIuD3/CKlQyfeqP1laA3BBUGtkserVXqGEFNo20I0ihwmhf+2INf Rn5OsN80tZmtb2YalhEaLG2df5BCrQO8KtC1I= X-Google-DKIM-Signature: v=1; a=rsa-sha256; c=relaxed/relaxed; d=1e100.net; s=20230601; t=1759913532; x=1760518332; h=cc:to:from:subject:message-id:date:x-gm-message-state:from:to:cc :subject:date:message-id:reply-to; bh=KWHYN/P6HwBYYLBj6DNYaGtpkpAKPrUgS0EXB37NUkc=; b=iouvri91XdnesNmnR73WepP7sejyfYJJz+b3WU1rIYU2vWsrOh4GJxY20YuCTtd/Q/ OKAImO1AjSGueEDQ9tVwFUrzGjRQCzrZm9+zpu/sgb+MbEL961psOWns1stWX14o7LhM roDLLA2KhaSxtoH6Hmx2unT7yRSXFIuuqJuUllxMscFxsAgXq6VmJV3QdA23SY9rcl0V UHfgGS3BZAICysQHZtZ/aWL3bG80TDt4VatZH9nvomGXmhpVJHzH3mka7U/IZNeFwVp+ nqMN3cH5OfZFheqszACfkUuT/2g9OKznD56YsVvI5dOeR0B26ZSgkNHp6iZLCVQGdvqd x7HA== X-Gm-Message-State: AOJu0YzoEjZEubLm+RJQdhqP+NGb024dbXBCV32XjEq5LT30HA1UXa+0 6Asys1XKwn/4Lu7G5Fd/3PKPoDF3bi8DCg44Nr1TCThnfDxoyZ7AksPMYp3mzTI91q/Mrsu3cOF EXguEMmX1yAtRpqvNS5uiMbcRCcPIO2fXV6PDun7hBh079ub+ID8iuPJog2w+ X-Gm-Gg: ASbGnctwY5zCNtILBa4XwQKnKsKVC/qVVlg4GK+m6SIi2DcymP0g46Z+MoCWYJIWF/y w3n5Jr+vNJqS0PkSKVnemmqqJhAbjKRkKoW8k2OBOvuzbsuZ2ZqO4HVWIA4hNNnchVv7yTXJgEn tVo2+3Sr0UHR1sirgLTMAwmxK4ig7GlrLsd2fmRVyodxESKOOXL5vEUW1yh4VcoFnuRmcKwqjkf FLkJUJ5KRPlpv15WgrRhlAPigmrgsJ0Au4U7oAxX0YV/LzZyeS4TVmxKqOI8ccVYao3KBaiRqLh Zuu8OcXEg0SX2/ZJXH850xU073yzrY6oLthVHWBEwOGq4xyTl5mK++o= X-Google-Smtp-Source: AGHT+IGNCQUu10xvOI22lg/QUsogF+BoSDEfsy6So/h+g5X22axXUhZfGOXgely1JTH+QLjVGcn/DD8AhtHm X-Received: by 2002:a05:6602:360b:b0:93b:d8a9:97a7 with SMTP id ca18e2360f4ac-93bd8a999femr2504039f.9.1759913532458; Wed, 08 Oct 2025 01:52:12 -0700 (PDT) Received: from postal.iol.unh.edu (postal.iol.unh.edu. [2606:4100:3880:1234::84]) by smtp-relay.gmail.com with ESMTPS id 8926c6da1cb9f-57b5eaa412fsm1459441173.2.2025.10.08.01.52.12 (version=TLS1_2 cipher=ECDHE-ECDSA-AES128-GCM-SHA256 bits=128/128); Wed, 08 Oct 2025 01:52:12 -0700 (PDT) X-Relaying-Domain: iol.unh.edu Date: Wed, 08 Oct 2025 01:52:12 -0700 (PDT) Message-ID: <68e6263c.050a0220.cd73c.e3ddSMTPIN_ADDED_MISSING@mx.google.com> Received: from [172.21.0.3] (unknown [172.18.0.240]) by postal.iol.unh.edu (Postfix) with ESMTP id 22C146051830; Wed, 8 Oct 2025 04:52:12 -0400 (EDT) Subject: |SUCCESS| [GIT MASTER] 14d3c6f6a6c18f3b141d0bd9786c6dd3ae3714a3 From: dpdklab@iol.unh.edu To: Test Report Cc: dpdk-test-reports@iol.unh.edu, Jerin Jacob Content-Type: text/plain X-BeenThere: test-report@dpdk.org X-Mailman-Version: 2.1.29 Precedence: list List-Id: automatic DPDK test reports List-Unsubscribe: , List-Archive: List-Post: List-Help: List-Subscribe: , Errors-To: test-report-bounces@dpdk.org _Testing PASS_ Branch: dpdk-next-eventdev 14d3c6f6a6c18f3b141d0bd9786c6dd3ae3714a3 --> testing pass Upstream job id: Generic-DPDK-Compile-Meson#432313 Test environment and result as below: +-------------------------------+--------------------+-------------------+-------------------------+----------------------+-------------------+------------------+ | Environment | dpdk_meson_compile | dpdk_msvc_compile | dpdk_llvm_clang_compile | dpdk_mingw64_compile | dpdk_compile_spdk | dpdk_compile_ovs | +===============================+====================+===================+=========================+======================+===================+==================+ | Ubuntu 20.04 | PASS | SKIPPED | SKIPPED | SKIPPED | SKIPPED | SKIPPED | +-------------------------------+--------------------+-------------------+-------------------------+----------------------+-------------------+------------------+ | FreeBSD 14.2 | PASS | SKIPPED | SKIPPED | SKIPPED | SKIPPED | SKIPPED | +-------------------------------+--------------------+-------------------+-------------------------+----------------------+-------------------+------------------+ | openSUSE Leap 15.6 | PASS | SKIPPED | SKIPPED | SKIPPED | SKIPPED | SKIPPED | +-------------------------------+--------------------+-------------------+-------------------------+----------------------+-------------------+------------------+ | CentOS Stream 9 | PASS | SKIPPED | SKIPPED | SKIPPED | PASS | SKIPPED | +-------------------------------+--------------------+-------------------+-------------------------+----------------------+-------------------+------------------+ | CentOS Stream 10 | PASS | SKIPPED | SKIPPED | SKIPPED | SKIPPED | SKIPPED | +-------------------------------+--------------------+-------------------+-------------------------+----------------------+-------------------+------------------+ | Debian GNU/Linux 12 | PASS | SKIPPED | SKIPPED | SKIPPED | PASS | SKIPPED | +-------------------------------+--------------------+-------------------+-------------------------+----------------------+-------------------+------------------+ | Fedora Linux 42 | PASS | SKIPPED | SKIPPED | SKIPPED | PASS | PASS | +-------------------------------+--------------------+-------------------+-------------------------+----------------------+-------------------+------------------+ | Red Hat Enterprise Linux 8.10 | PASS | SKIPPED | SKIPPED | SKIPPED | SKIPPED | SKIPPED | +-------------------------------+--------------------+-------------------+-------------------------+----------------------+-------------------+------------------+ | Red Hat Enterprise Linux 9.5 | PASS | SKIPPED | SKIPPED | SKIPPED | SKIPPED | SKIPPED | +-------------------------------+--------------------+-------------------+-------------------------+----------------------+-------------------+------------------+ | Ubuntu 22.04 | PASS | SKIPPED | SKIPPED | SKIPPED | PASS | SKIPPED | +-------------------------------+--------------------+-------------------+-------------------------+----------------------+-------------------+------------------+ | Ubuntu 24.04 | PASS | SKIPPED | SKIPPED | SKIPPED | PASS | PASS | +-------------------------------+--------------------+-------------------+-------------------------+----------------------+-------------------+------------------+ | Alpine Linux 3.22.0 | PASS | SKIPPED | SKIPPED | SKIPPED | SKIPPED | SKIPPED | +-------------------------------+--------------------+-------------------+-------------------------+----------------------+-------------------+------------------+ | Windows Server 2022 | SKIPPED | PASS | PASS | PASS | SKIPPED | SKIPPED | +-------------------------------+--------------------+-------------------+-------------------------+----------------------+-------------------+------------------+ Ubuntu 20.04 Kernel: 4.19 Compiler: gcc gcc (Ubuntu 9.4.0-1ubuntu1~20.04.2) 9.4.0 FreeBSD 14.2 Kernel: 14.2-RELEASE Compiler: clang 18.1.6 openSUSE Leap 15.6 Kernel: 5.15 Compiler: gcc gcc (SUSE Linux) 7.5.0 CentOS Stream 9 Kernel: 5.15 Compiler: gcc gcc (GCC) 11.5.0 20240719 (Red Hat 11.5.0-11) CentOS Stream 10 Kernel: 5.15 Compiler: gcc gcc (GCC) 14.2.1 20250110 (Red Hat 14.2.1-8) Debian GNU/Linux 12 Kernel: 5.15 Compiler: gcc gcc (Debian 12.2.0-14+deb12u1) 12.2.0 Fedora Linux 42 Kernel: 5.15 Compiler: clang gcc (GCC) 15.2.1 20250808 (Red Hat 15.2.1-1) Red Hat Enterprise Linux 8.10 Kernel: 5.15 Compiler: gcc gcc (GCC) 8.5.0 20210514 (Red Hat 8.5.0-22) Red Hat Enterprise Linux 9.5 Kernel: 5.15 Compiler: gcc gcc (GCC) 11.5.0 20240719 (Red Hat 11.5.0-2) Ubuntu 22.04 Kernel: 5.15 Compiler: gcc gcc (Ubuntu 11.4.0-1ubuntu1~22.04) 11.4.0 Ubuntu 24.04 Kernel: 5.15 Compiler: gcc gcc (Ubuntu 13.3.0-6ubuntu2~24.04) 13.3.0 Alpine Linux 3.22.0 Kernel: 5.15 Compiler: gcc gcc (Alpine 14.2.0) 14.2.0 Windows Server 2022 Kernel: 10.0.20348.2031 Compiler: clang 15.0.7, gcc 14.1.0 (MinGW), and MSVC VS 19.39.33521 To view detailed results, visit: https://lab.dpdk.org/results/dashboard/tarballs/35134/ UNH-IOL DPDK Community Lab To manage your email subscriptions, visit: https://lab.dpdk.org/results/dashboard/preferences/subscriptions/