From mboxrd@z Thu Jan 1 00:00:00 1970 Return-Path: Received: from mails.dpdk.org (mails.dpdk.org [217.70.189.124]) by inbox.dpdk.org (Postfix) with ESMTP id BB61B488E1 for ; Wed, 8 Oct 2025 10:53:32 +0200 (CEST) Received: from mails.dpdk.org (localhost [127.0.0.1]) by mails.dpdk.org (Postfix) with ESMTP id B4BB740297; Wed, 8 Oct 2025 10:53:32 +0200 (CEST) Received: from mail-yx1-f97.google.com (mail-yx1-f97.google.com [74.125.224.97]) by mails.dpdk.org (Postfix) with ESMTP id 8A5A740297 for ; Wed, 8 Oct 2025 10:53:31 +0200 (CEST) Received: by mail-yx1-f97.google.com with SMTP id 956f58d0204a3-6353e91a04aso8137730d50.2 for ; Wed, 08 Oct 2025 01:53:31 -0700 (PDT) DKIM-Signature: v=1; a=rsa-sha256; c=relaxed/relaxed; d=iol.unh.edu; s=unh-iol; t=1759913611; x=1760518411; darn=dpdk.org; h=cc:to:from:subject:message-id:date:from:to:cc:subject:date :message-id:reply-to; bh=FPlkpzhFVJhIY7XzJt2Ymf5PA9sygLSw22Lr6MhRSEs=; b=MOjzzVkrAhRLqHsxwbnHieDvWsGEAni4ev8alY865tmlxmepWKn0bXpe//MIcB7e9f 4hjbbT2cyiSQlxPsOcehMIvlZQBYbNUCeYQ5oPZiUuuBw47UtaVvVUPEceS+Ew4nXZsm xeZjWhBiONopkvmzMYCzzbe3q94BF5wAejA8A= X-Google-DKIM-Signature: v=1; a=rsa-sha256; c=relaxed/relaxed; d=1e100.net; s=20230601; t=1759913611; x=1760518411; h=cc:to:from:subject:message-id:date:x-gm-message-state:from:to:cc :subject:date:message-id:reply-to; bh=FPlkpzhFVJhIY7XzJt2Ymf5PA9sygLSw22Lr6MhRSEs=; b=Xa+bGmug77FwZOPZkbSdknDH1tp+LYY/kLHcdJ6p7zlQtl/GcCx930sik/gsoUEzpN /8iBTA3cPL+pT2BP80J4STsHdYLsyycRmYEiJLFZBvxXm1GUVDJRi5hbvpVC05nQT3dm P+L7/tSOsou5Ddw9TvRYJyTkAapSk5sWt0o9SlUfHetnO/H79ZPz1VUc8sk683vUKVoY DE1+7PAar7xi36bUpeyCADRjdSgfQieGC5s/pTx4cy4OdrYj29zPbSpsLSUqUKapQ+eF YFza8LDfnxQtcEySxieSnQjb2wgete00zRQrDZ6Slmrd0YIhJRvuJMul1b5GkZdjLOWL ktbw== X-Gm-Message-State: AOJu0YxXAHruT9k7b8C1n5/ZPQtY/HEtc4FEQp+F5+UShDu7KgZ8V4t0 /kGKKe0mqEH40QzDZuNTZsJAQfBXDSBB+PEBI3mgQevNxOgl16bBjwdE6zD3Ach6O21tz1dDbRa CTSHQHmUzJVyOgNZqvta6AIP3swz521tpVVnZsx2uVtf6 X-Gm-Gg: ASbGnctkp0OUjXzBq+Ov48/z3LzGYz1aaQkG7Jm3UKznI7B/PeAoovmZA1rHiYD3cVC UEPY1HB5E0ozpmtf4IJ0W00lK4AWrvA2TNIT6Zphgyai9QPo+2Ss4F0QoqT/+eie90bEJ0nXk4F RNdp9gBL6CWg2gUz8RAP9SUzEiJrH/UvfH6kL6uKqxiNC0hPcPaRRf90nI17RyMAX6C4bikAXfQ ilde/u9MUG0cwDYGLvhPt+9G0vbO9WI6LI0IGH2gvEq34YPmApD+tgeZpO+CreFr1TQDtB6kYgA yI4j9WxggPXM0e6ThBokSJ1U1q3CMGu914AmgmFRJe0Rgy1JmOITxVg92Azyqlv5bwOWAoEplb+ /Qw== X-Google-Smtp-Source: AGHT+IEsZtuGGd3FWeuFVcgr7hOCQAn7qBaUrVA6Y5AlOEH/q9u62Z8yiux8MtLXazKGuHsInaQtqq5jJqsH X-Received: by 2002:a05:690c:3348:b0:77f:b25b:cb59 with SMTP id 00721157ae682-780e1554531mr54252047b3.13.1759913610800; Wed, 08 Oct 2025 01:53:30 -0700 (PDT) Received: from postal.iol.unh.edu (postal.iol.unh.edu. [132.177.123.84]) by smtp-relay.gmail.com with ESMTPS id 00721157ae682-77f81d03f6bsm9840137b3.22.2025.10.08.01.53.30 (version=TLS1_2 cipher=ECDHE-ECDSA-AES128-GCM-SHA256 bits=128/128); Wed, 08 Oct 2025 01:53:30 -0700 (PDT) X-Relaying-Domain: iol.unh.edu Date: Wed, 08 Oct 2025 01:53:30 -0700 (PDT) Message-ID: <68e6268a.050a0220.20ca6d.484eSMTPIN_ADDED_MISSING@mx.google.com> Received: from [172.21.0.2] (unknown [172.18.0.240]) by postal.iol.unh.edu (Postfix) with ESMTP id 77D3B6051830; Wed, 8 Oct 2025 04:53:30 -0400 (EDT) Subject: |SUCCESS| [GIT MASTER] 2aa7141a4e2c78e3cce03dbd613532a2166123c1 From: dpdklab@iol.unh.edu To: Test Report Cc: dpdk-test-reports@iol.unh.edu, Akhil Goyal Content-Type: text/plain X-BeenThere: test-report@dpdk.org X-Mailman-Version: 2.1.29 Precedence: list List-Id: automatic DPDK test reports List-Unsubscribe: , List-Archive: List-Post: List-Help: List-Subscribe: , Errors-To: test-report-bounces@dpdk.org _Testing PASS_ Branch: dpdk-next-crypto 2aa7141a4e2c78e3cce03dbd613532a2166123c1 --> testing pass Upstream job id: Generic-DPDK-Compile-Meson#432341 Test environment and result as below: +-------------------------------+--------------------+-------------------------+-------------------+----------------------+-------------------+------------------+ | Environment | dpdk_meson_compile | dpdk_llvm_clang_compile | dpdk_msvc_compile | dpdk_mingw64_compile | dpdk_compile_spdk | dpdk_compile_ovs | +===============================+====================+=========================+===================+======================+===================+==================+ | Ubuntu 20.04 | PASS | SKIPPED | SKIPPED | SKIPPED | SKIPPED | SKIPPED | +-------------------------------+--------------------+-------------------------+-------------------+----------------------+-------------------+------------------+ | FreeBSD 14.2 | PASS | SKIPPED | SKIPPED | SKIPPED | SKIPPED | SKIPPED | +-------------------------------+--------------------+-------------------------+-------------------+----------------------+-------------------+------------------+ | CentOS Stream 9 | PASS | SKIPPED | SKIPPED | SKIPPED | PASS | SKIPPED | +-------------------------------+--------------------+-------------------------+-------------------+----------------------+-------------------+------------------+ | CentOS Stream 10 | PASS | SKIPPED | SKIPPED | SKIPPED | SKIPPED | SKIPPED | +-------------------------------+--------------------+-------------------------+-------------------+----------------------+-------------------+------------------+ | Debian GNU/Linux 12 | PASS | SKIPPED | SKIPPED | SKIPPED | PASS | SKIPPED | +-------------------------------+--------------------+-------------------------+-------------------+----------------------+-------------------+------------------+ | Fedora Linux 42 | PASS | SKIPPED | SKIPPED | SKIPPED | PASS | PASS | +-------------------------------+--------------------+-------------------------+-------------------+----------------------+-------------------+------------------+ | openSUSE Leap 15.6 | PASS | SKIPPED | SKIPPED | SKIPPED | SKIPPED | SKIPPED | +-------------------------------+--------------------+-------------------------+-------------------+----------------------+-------------------+------------------+ | Red Hat Enterprise Linux 8.10 | PASS | SKIPPED | SKIPPED | SKIPPED | SKIPPED | SKIPPED | +-------------------------------+--------------------+-------------------------+-------------------+----------------------+-------------------+------------------+ | Red Hat Enterprise Linux 9.5 | PASS | SKIPPED | SKIPPED | SKIPPED | SKIPPED | SKIPPED | +-------------------------------+--------------------+-------------------------+-------------------+----------------------+-------------------+------------------+ | Ubuntu 22.04 | PASS | SKIPPED | SKIPPED | SKIPPED | PASS | SKIPPED | +-------------------------------+--------------------+-------------------------+-------------------+----------------------+-------------------+------------------+ | Ubuntu 24.04 | PASS | SKIPPED | SKIPPED | SKIPPED | PASS | PASS | +-------------------------------+--------------------+-------------------------+-------------------+----------------------+-------------------+------------------+ | Alpine Linux 3.22.0 | PASS | SKIPPED | SKIPPED | SKIPPED | SKIPPED | SKIPPED | +-------------------------------+--------------------+-------------------------+-------------------+----------------------+-------------------+------------------+ | Windows Server 2022 | SKIPPED | PASS | PASS | PASS | SKIPPED | SKIPPED | +-------------------------------+--------------------+-------------------------+-------------------+----------------------+-------------------+------------------+ Ubuntu 20.04 Kernel: 4.19 Compiler: gcc gcc (Ubuntu 9.4.0-1ubuntu1~20.04.2) 9.4.0 FreeBSD 14.2 Kernel: 14.2-RELEASE Compiler: clang 18.1.6 CentOS Stream 9 Kernel: 5.15 Compiler: gcc gcc (GCC) 11.5.0 20240719 (Red Hat 11.5.0-11) CentOS Stream 10 Kernel: 5.15 Compiler: gcc gcc (GCC) 14.2.1 20250110 (Red Hat 14.2.1-8) Debian GNU/Linux 12 Kernel: 5.15 Compiler: gcc gcc (Debian 12.2.0-14+deb12u1) 12.2.0 Fedora Linux 42 Kernel: 5.15 Compiler: clang gcc (GCC) 15.2.1 20250808 (Red Hat 15.2.1-1) openSUSE Leap 15.6 Kernel: 5.15 Compiler: gcc gcc (SUSE Linux) 7.5.0 Red Hat Enterprise Linux 8.10 Kernel: 5.15 Compiler: gcc gcc (GCC) 8.5.0 20210514 (Red Hat 8.5.0-22) Red Hat Enterprise Linux 9.5 Kernel: 5.15 Compiler: gcc gcc (GCC) 11.5.0 20240719 (Red Hat 11.5.0-2) Ubuntu 22.04 Kernel: 5.15 Compiler: gcc gcc (Ubuntu 11.4.0-1ubuntu1~22.04) 11.4.0 Ubuntu 24.04 Kernel: 5.15 Compiler: gcc gcc (Ubuntu 13.3.0-6ubuntu2~24.04) 13.3.0 Alpine Linux 3.22.0 Kernel: 5.15 Compiler: gcc gcc (Alpine 14.2.0) 14.2.0 Windows Server 2022 Kernel: 10.0.20348.2031 Compiler: clang 15.0.7, gcc 14.1.0 (MinGW), and MSVC VS 19.39.33521 To view detailed results, visit: https://lab.dpdk.org/results/dashboard/tarballs/35135/ UNH-IOL DPDK Community Lab To manage your email subscriptions, visit: https://lab.dpdk.org/results/dashboard/preferences/subscriptions/