From mboxrd@z Thu Jan 1 00:00:00 1970 Return-Path: Received: from mails.dpdk.org (mails.dpdk.org [217.70.189.124]) by inbox.dpdk.org (Postfix) with ESMTP id C95C5488E1 for ; Wed, 8 Oct 2025 10:53:48 +0200 (CEST) Received: from mails.dpdk.org (localhost [127.0.0.1]) by mails.dpdk.org (Postfix) with ESMTP id C520640297; Wed, 8 Oct 2025 10:53:48 +0200 (CEST) Received: from mail-yw1-f225.google.com (mail-yw1-f225.google.com [209.85.128.225]) by mails.dpdk.org (Postfix) with ESMTP id 51B3940297 for ; Wed, 8 Oct 2025 10:53:48 +0200 (CEST) Received: by mail-yw1-f225.google.com with SMTP id 00721157ae682-71d60504bf8so72591547b3.2 for ; Wed, 08 Oct 2025 01:53:48 -0700 (PDT) DKIM-Signature: v=1; a=rsa-sha256; c=relaxed/relaxed; d=iol.unh.edu; s=unh-iol; t=1759913627; x=1760518427; darn=dpdk.org; h=cc:to:from:subject:message-id:date:from:to:cc:subject:date :message-id:reply-to; bh=0AJjy/bJkY5vvg/zobVDbBh8IAOdZuaXfjmg6AxExvQ=; b=SDspPBF8lFhYtrjp7CmTRZxJsaAnd5aaUjKwRjhFLQ7X81PEuSqJBx72IFjNKLLNLn h0UpxTnf5EXGOuS+4qFRixW3tUQ3BrbuhoI4zRsxvu5uwyfbCU8ZkXWX6Iu0w/S83K6r kFhU3zlFos02AFB8FFKJbZdNAf3Xkpr38gdfE= X-Google-DKIM-Signature: v=1; a=rsa-sha256; c=relaxed/relaxed; d=1e100.net; s=20230601; t=1759913627; x=1760518427; h=cc:to:from:subject:message-id:date:x-gm-message-state:from:to:cc :subject:date:message-id:reply-to; bh=0AJjy/bJkY5vvg/zobVDbBh8IAOdZuaXfjmg6AxExvQ=; b=DPkqEn/2zUVFARYvBrQmpVyjBfbHB/BgJH7LEjZaRvByniqs9F6c1DYRqNakfVBNXv K0EID3OVeuV4yiA7HFIzEueIYZfE/Lc3rvLwcVTYURFYTFsjW/PIbkjJ6ImO7KMV4w+M kde+WJYOFvB5J+72+96h+i/8tn93ldXsZjM86IQIqZY3qh9YImVd4QaFm8FLaoor6bFI APFH2/dDg3wD9xXZjK0uADDzWYaZ/PU0RZnJ9w7mKZ1sJtb9/wU7hchpy88PA+4hqtMR 6HDl3+JabLNkTkTmoAo8Xgagz3PbGMO03qAEY+T/XIBM4DVvpBxEujXRho26SksdBV3e P5sg== X-Gm-Message-State: AOJu0YysyKQbFMEX662uQBhCh9qsBhUdlE/OTP9s2I7hoydZW/6ZTmSG uxoEbFAwqJxBtWpOuM/sQqRz/ojDmO4cFEs4HgxzIm6F/tXMqNjBPSwyDE9hCStGLf4lb1OTh22 O2hDqAQKLqpVSxC/00am35LIDDSvxiWNSuf42erBF4gWeh+blPnfypSj1qWNp X-Gm-Gg: ASbGncuO8QSinLmw9uYrsm8wWbmc56KJEB5WrgPh6GKY3DDCfAq5LcvLVGETtzsxc0w LWXmuAI4CLSjhHnDOFcmG6/UJHAbMKSaIMDA4lAveqOCU11gRebLAwmqRSBWbqt5rTDbBW6cJ5k E3cWf3kIWpdsjx8qR9Y9rCibuYWQFfDyVu/Tdk2iQ+lMOQBlw2ta5pIkoBETANLbGO3HGZQ5w6u cpR5SdJcrDgSYrP8+emWStsTBlQm6XBSRqYdArFvV2EAUb0GdFCXDOfvW4yBwSrBfz7SxNhxPr+ /udJDkII4dUDS2e/4xugcKJV3LzrzvccU1vzzLY6W6sLnbipVwXOAgg= X-Google-Smtp-Source: AGHT+IEc2i3xrYGyoCjX1HKVUdUX01w0VwQlcQp60uhY54u0uPJgIQjl6ikdnHy0iJpQ9nAzhb6u0daQybnM X-Received: by 2002:a05:690c:6c91:b0:735:4676:83e9 with SMTP id 00721157ae682-780e173e245mr31642787b3.29.1759913627705; Wed, 08 Oct 2025 01:53:47 -0700 (PDT) Received: from postal.iol.unh.edu (postal.iol.unh.edu. [2606:4100:3880:1234::84]) by smtp-relay.gmail.com with ESMTPS id 00721157ae682-77f81c35a26sm10020447b3.10.2025.10.08.01.53.47 (version=TLS1_2 cipher=ECDHE-ECDSA-AES128-GCM-SHA256 bits=128/128); Wed, 08 Oct 2025 01:53:47 -0700 (PDT) X-Relaying-Domain: iol.unh.edu Date: Wed, 08 Oct 2025 01:53:47 -0700 (PDT) Message-ID: <68e6269b.050a0220.25ae58.71abSMTPIN_ADDED_MISSING@mx.google.com> Received: from [172.21.0.4] (unknown [172.18.0.240]) by postal.iol.unh.edu (Postfix) with ESMTP id 5BACD6051835; Wed, 8 Oct 2025 04:53:47 -0400 (EDT) Subject: |SUCCESS| [GIT MASTER] 2aa7141a4e2c78e3cce03dbd613532a2166123c1 From: dpdklab@iol.unh.edu To: Test Report Cc: dpdk-test-reports@iol.unh.edu, Akhil Goyal Content-Type: text/plain X-BeenThere: test-report@dpdk.org X-Mailman-Version: 2.1.29 Precedence: list List-Id: automatic DPDK test reports List-Unsubscribe: , List-Archive: List-Post: List-Help: List-Subscribe: , Errors-To: test-report-bounces@dpdk.org _Testing PASS_ Branch: dpdk-next-crypto 2aa7141a4e2c78e3cce03dbd613532a2166123c1 --> testing pass Upstream job id: Generic-DPDK-Compile-Meson#432348 Test environment and result as below: +-------------------------------+--------------------+-------------------------+-------------------+----------------------+-------------------+------------------+ | Environment | dpdk_meson_compile | dpdk_llvm_clang_compile | dpdk_msvc_compile | dpdk_mingw64_compile | dpdk_compile_spdk | dpdk_compile_ovs | +===============================+====================+=========================+===================+======================+===================+==================+ | Ubuntu 20.04 | PASS | SKIPPED | SKIPPED | SKIPPED | SKIPPED | SKIPPED | +-------------------------------+--------------------+-------------------------+-------------------+----------------------+-------------------+------------------+ | FreeBSD 14.2 | PASS | SKIPPED | SKIPPED | SKIPPED | SKIPPED | SKIPPED | +-------------------------------+--------------------+-------------------------+-------------------+----------------------+-------------------+------------------+ | CentOS Stream 9 | PASS | SKIPPED | SKIPPED | SKIPPED | PASS | SKIPPED | +-------------------------------+--------------------+-------------------------+-------------------+----------------------+-------------------+------------------+ | CentOS Stream 10 | PASS | SKIPPED | SKIPPED | SKIPPED | SKIPPED | SKIPPED | +-------------------------------+--------------------+-------------------------+-------------------+----------------------+-------------------+------------------+ | Debian GNU/Linux 12 | PASS | SKIPPED | SKIPPED | SKIPPED | PASS | SKIPPED | +-------------------------------+--------------------+-------------------------+-------------------+----------------------+-------------------+------------------+ | Fedora Linux 42 | PASS | SKIPPED | SKIPPED | SKIPPED | PASS | PASS | +-------------------------------+--------------------+-------------------------+-------------------+----------------------+-------------------+------------------+ | openSUSE Leap 15.6 | PASS | SKIPPED | SKIPPED | SKIPPED | SKIPPED | SKIPPED | +-------------------------------+--------------------+-------------------------+-------------------+----------------------+-------------------+------------------+ | Red Hat Enterprise Linux 8.10 | PASS | SKIPPED | SKIPPED | SKIPPED | SKIPPED | SKIPPED | +-------------------------------+--------------------+-------------------------+-------------------+----------------------+-------------------+------------------+ | Red Hat Enterprise Linux 9.5 | PASS | SKIPPED | SKIPPED | SKIPPED | SKIPPED | SKIPPED | +-------------------------------+--------------------+-------------------------+-------------------+----------------------+-------------------+------------------+ | Ubuntu 22.04 | PASS | SKIPPED | SKIPPED | SKIPPED | PASS | SKIPPED | +-------------------------------+--------------------+-------------------------+-------------------+----------------------+-------------------+------------------+ | Ubuntu 24.04 | PASS | SKIPPED | SKIPPED | SKIPPED | PASS | PASS | +-------------------------------+--------------------+-------------------------+-------------------+----------------------+-------------------+------------------+ | Alpine Linux 3.22.0 | PASS | SKIPPED | SKIPPED | SKIPPED | SKIPPED | SKIPPED | +-------------------------------+--------------------+-------------------------+-------------------+----------------------+-------------------+------------------+ | Windows Server 2022 | SKIPPED | PASS | PASS | PASS | SKIPPED | SKIPPED | +-------------------------------+--------------------+-------------------------+-------------------+----------------------+-------------------+------------------+ Ubuntu 20.04 Kernel: 4.19 Compiler: gcc gcc (Ubuntu 9.4.0-1ubuntu1~20.04.2) 9.4.0 FreeBSD 14.2 Kernel: 14.2-RELEASE Compiler: clang 18.1.6 CentOS Stream 9 Kernel: 5.15 Compiler: gcc gcc (GCC) 11.5.0 20240719 (Red Hat 11.5.0-11) CentOS Stream 10 Kernel: 5.15 Compiler: gcc gcc (GCC) 14.2.1 20250110 (Red Hat 14.2.1-8) Debian GNU/Linux 12 Kernel: 5.15 Compiler: gcc gcc (Debian 12.2.0-14+deb12u1) 12.2.0 Fedora Linux 42 Kernel: 5.15 Compiler: clang gcc (GCC) 15.2.1 20250808 (Red Hat 15.2.1-1) openSUSE Leap 15.6 Kernel: 5.15 Compiler: gcc gcc (SUSE Linux) 7.5.0 Red Hat Enterprise Linux 8.10 Kernel: 5.15 Compiler: gcc gcc (GCC) 8.5.0 20210514 (Red Hat 8.5.0-22) Red Hat Enterprise Linux 9.5 Kernel: 5.15 Compiler: gcc gcc (GCC) 11.5.0 20240719 (Red Hat 11.5.0-2) Ubuntu 22.04 Kernel: 5.15 Compiler: gcc gcc (Ubuntu 11.4.0-1ubuntu1~22.04) 11.4.0 Ubuntu 24.04 Kernel: 5.15 Compiler: gcc gcc (Ubuntu 13.3.0-6ubuntu2~24.04) 13.3.0 Alpine Linux 3.22.0 Kernel: 5.15 Compiler: gcc gcc (Alpine 14.2.0) 14.2.0 Windows Server 2022 Kernel: 10.0.20348.2031 Compiler: clang 15.0.7, gcc 14.1.0 (MinGW), and MSVC VS 19.39.33521 To view detailed results, visit: https://lab.dpdk.org/results/dashboard/tarballs/35135/ UNH-IOL DPDK Community Lab To manage your email subscriptions, visit: https://lab.dpdk.org/results/dashboard/preferences/subscriptions/