From mboxrd@z Thu Jan 1 00:00:00 1970 Return-Path: Received: from mails.dpdk.org (mails.dpdk.org [217.70.189.124]) by inbox.dpdk.org (Postfix) with ESMTP id D72C8488E1 for ; Wed, 8 Oct 2025 10:53:50 +0200 (CEST) Received: from mails.dpdk.org (localhost [127.0.0.1]) by mails.dpdk.org (Postfix) with ESMTP id D30A740297; Wed, 8 Oct 2025 10:53:50 +0200 (CEST) Received: from mail-pg1-f227.google.com (mail-pg1-f227.google.com [209.85.215.227]) by mails.dpdk.org (Postfix) with ESMTP id 73B87402A0 for ; Wed, 8 Oct 2025 10:53:48 +0200 (CEST) Received: by mail-pg1-f227.google.com with SMTP id 41be03b00d2f7-b5507d3ccd8so5902879a12.0 for ; Wed, 08 Oct 2025 01:53:48 -0700 (PDT) DKIM-Signature: v=1; a=rsa-sha256; c=relaxed/relaxed; d=iol.unh.edu; s=unh-iol; t=1759913627; x=1760518427; darn=dpdk.org; h=cc:to:from:subject:message-id:date:from:to:cc:subject:date :message-id:reply-to; bh=dz+afK7FQIXj6hGMI43HTOPgNU+nOygyoWxmF7CIKbc=; b=LJpKoTEFX1fkZC1Z8NYI8BmdJ0DywlMpOWoOR2IPpcXkQZ6wswI0buNbHA+biHzaEb phILSQlx4/JKv5C/oXxGL+6fCxsfDAmFLb9gtKX6Vb6Dm0fsVE+tCxz1QLSR59ip9kP5 8w/G/CeHCfHawn2cUNFDkZymSHDBVVpEKAsoU= X-Google-DKIM-Signature: v=1; a=rsa-sha256; c=relaxed/relaxed; d=1e100.net; s=20230601; t=1759913627; x=1760518427; h=cc:to:from:subject:message-id:date:x-gm-message-state:from:to:cc :subject:date:message-id:reply-to; bh=dz+afK7FQIXj6hGMI43HTOPgNU+nOygyoWxmF7CIKbc=; b=gz5e0ReWW330gJC2oP9mxNC2r0rTVMfe4nu9cy60KZfwInPAQMWcbWRNSscLEU6OrY 4GfJmle/idwD52aNDg/ImpglfNtCTaXfJ55Y2ERvaxFNJlihrFbJ2QFmF7WgJkMnfr91 BTFISza+d0VVmvhOMAJCHuhrjXNM/UM6wZLwdc6uRyqj81or23CgH3ZUQUraPHWHKP3m J3BbvvFItefKbfHUr4+XiJL2T3LWqga6mIouhOWSDHGX4nXTw7fXlWTW2Vw1rkcgXR8S TziXm2jAMQn22yOUig62m23muAgckMx6P45U6i/itDVcIv4rq15eLnPUWxNZSgTe9HCn MO0A== X-Gm-Message-State: AOJu0YygIAu/Yuf2Tvgj2pYuZFUtA6iGcXdjtd7Ugh4jv5juAOovBDMx rlaWeaIVh+8lqw+IydkbhqgRE6NznExaesvV2O8CM8Z9CPqGjWIykk97gn39+18Aa0MFFun8Np6 VIGtlL6YA65s5lnWO4e40KAts5xObCUnv9xruGbpV8fh3 X-Gm-Gg: ASbGncunft317zldGI8v+OWddkmh+aMm7nrIanuYiZopEUVco//ndl7ICtaFbrTa1jH b0FQY0UdfKvgN91tfHB2klrjRSx2P9kbedU7TdtjuuP5Yi6BsPfbVPgXqpz5sxD0qBQOkm4ZTr8 4U5YMKj4AY7Ma8lx+lJ21Q4MnRnIFm1tc63a0uOYweS47/5V0LZdbgSG3bnDuxNjh+Ubi6tbOoe Q4ouTxaxFGPQsKauxo8FweHZKie897FNkl5QVUG9By27qb6SHeDh7bBpeWf4XRmfXZ10kQoej5Q 4xRAroF2za2/WSKSBBQpwrTSPkw9F6SJGaqdbGVX2RTQ3BCsFVdXi7uKVsDpCZuQkhpCSHjX9Rl LJQ== X-Google-Smtp-Source: AGHT+IGOjLlv1Pd3lTnzjVBakES9WUbP9O+ql9lD/9R1AwAQ+NK/w+bt/VNPbDq6QOQxx6o7FDWn1pEVKZs5 X-Received: by 2002:a17:902:cccd:b0:266:272b:7277 with SMTP id d9443c01a7336-29027319264mr35292425ad.59.1759913627615; Wed, 08 Oct 2025 01:53:47 -0700 (PDT) Received: from postal.iol.unh.edu (postal.iol.unh.edu. [132.177.123.84]) by smtp-relay.gmail.com with ESMTPS id d9443c01a7336-28eb14e3d39sm7669365ad.33.2025.10.08.01.53.47 (version=TLS1_2 cipher=ECDHE-ECDSA-AES128-GCM-SHA256 bits=128/128); Wed, 08 Oct 2025 01:53:47 -0700 (PDT) X-Relaying-Domain: iol.unh.edu Date: Wed, 08 Oct 2025 01:53:47 -0700 (PDT) Message-ID: <68e6269b.170a0220.12a147.6afdSMTPIN_ADDED_MISSING@mx.google.com> Received: from [172.21.0.2] (unknown [172.18.0.240]) by postal.iol.unh.edu (Postfix) with ESMTP id C849C6051830; Wed, 8 Oct 2025 04:53:46 -0400 (EDT) Subject: |SUCCESS| [GIT MASTER] 2aa7141a4e2c78e3cce03dbd613532a2166123c1 From: dpdklab@iol.unh.edu To: Test Report Cc: dpdk-test-reports@iol.unh.edu, Akhil Goyal Content-Type: text/plain X-BeenThere: test-report@dpdk.org X-Mailman-Version: 2.1.29 Precedence: list List-Id: automatic DPDK test reports List-Unsubscribe: , List-Archive: List-Post: List-Help: List-Subscribe: , Errors-To: test-report-bounces@dpdk.org _Testing PASS_ Branch: dpdk-next-crypto 2aa7141a4e2c78e3cce03dbd613532a2166123c1 --> testing pass Upstream job id: Generic-DPDK-Compile-Meson#432345 Test environment and result as below: +-------------------------------+--------------------+-------------------------+-------------------+----------------------+-------------------+------------------+ | Environment | dpdk_meson_compile | dpdk_llvm_clang_compile | dpdk_msvc_compile | dpdk_mingw64_compile | dpdk_compile_spdk | dpdk_compile_ovs | +===============================+====================+=========================+===================+======================+===================+==================+ | Ubuntu 20.04 | PASS | SKIPPED | SKIPPED | SKIPPED | SKIPPED | SKIPPED | +-------------------------------+--------------------+-------------------------+-------------------+----------------------+-------------------+------------------+ | FreeBSD 14.2 | PASS | SKIPPED | SKIPPED | SKIPPED | SKIPPED | SKIPPED | +-------------------------------+--------------------+-------------------------+-------------------+----------------------+-------------------+------------------+ | CentOS Stream 9 | PASS | SKIPPED | SKIPPED | SKIPPED | PASS | SKIPPED | +-------------------------------+--------------------+-------------------------+-------------------+----------------------+-------------------+------------------+ | CentOS Stream 10 | PASS | SKIPPED | SKIPPED | SKIPPED | SKIPPED | SKIPPED | +-------------------------------+--------------------+-------------------------+-------------------+----------------------+-------------------+------------------+ | Debian GNU/Linux 12 | PASS | SKIPPED | SKIPPED | SKIPPED | PASS | SKIPPED | +-------------------------------+--------------------+-------------------------+-------------------+----------------------+-------------------+------------------+ | Fedora Linux 42 | PASS | SKIPPED | SKIPPED | SKIPPED | PASS | PASS | +-------------------------------+--------------------+-------------------------+-------------------+----------------------+-------------------+------------------+ | openSUSE Leap 15.6 | PASS | SKIPPED | SKIPPED | SKIPPED | SKIPPED | SKIPPED | +-------------------------------+--------------------+-------------------------+-------------------+----------------------+-------------------+------------------+ | Red Hat Enterprise Linux 8.10 | PASS | SKIPPED | SKIPPED | SKIPPED | SKIPPED | SKIPPED | +-------------------------------+--------------------+-------------------------+-------------------+----------------------+-------------------+------------------+ | Red Hat Enterprise Linux 9.5 | PASS | SKIPPED | SKIPPED | SKIPPED | SKIPPED | SKIPPED | +-------------------------------+--------------------+-------------------------+-------------------+----------------------+-------------------+------------------+ | Ubuntu 22.04 | PASS | SKIPPED | SKIPPED | SKIPPED | PASS | SKIPPED | +-------------------------------+--------------------+-------------------------+-------------------+----------------------+-------------------+------------------+ | Ubuntu 24.04 | PASS | SKIPPED | SKIPPED | SKIPPED | PASS | PASS | +-------------------------------+--------------------+-------------------------+-------------------+----------------------+-------------------+------------------+ | Alpine Linux 3.22.0 | PASS | SKIPPED | SKIPPED | SKIPPED | SKIPPED | SKIPPED | +-------------------------------+--------------------+-------------------------+-------------------+----------------------+-------------------+------------------+ | Windows Server 2022 | SKIPPED | PASS | PASS | PASS | SKIPPED | SKIPPED | +-------------------------------+--------------------+-------------------------+-------------------+----------------------+-------------------+------------------+ Ubuntu 20.04 Kernel: 4.19 Compiler: gcc gcc (Ubuntu 9.4.0-1ubuntu1~20.04.2) 9.4.0 FreeBSD 14.2 Kernel: 14.2-RELEASE Compiler: clang 18.1.6 CentOS Stream 9 Kernel: 5.15 Compiler: gcc gcc (GCC) 11.5.0 20240719 (Red Hat 11.5.0-11) CentOS Stream 10 Kernel: 5.15 Compiler: gcc gcc (GCC) 14.2.1 20250110 (Red Hat 14.2.1-8) Debian GNU/Linux 12 Kernel: 5.15 Compiler: gcc gcc (Debian 12.2.0-14+deb12u1) 12.2.0 Fedora Linux 42 Kernel: 5.15 Compiler: clang gcc (GCC) 15.2.1 20250808 (Red Hat 15.2.1-1) openSUSE Leap 15.6 Kernel: 5.15 Compiler: gcc gcc (SUSE Linux) 7.5.0 Red Hat Enterprise Linux 8.10 Kernel: 5.15 Compiler: gcc gcc (GCC) 8.5.0 20210514 (Red Hat 8.5.0-22) Red Hat Enterprise Linux 9.5 Kernel: 5.15 Compiler: gcc gcc (GCC) 11.5.0 20240719 (Red Hat 11.5.0-2) Ubuntu 22.04 Kernel: 5.15 Compiler: gcc gcc (Ubuntu 11.4.0-1ubuntu1~22.04) 11.4.0 Ubuntu 24.04 Kernel: 5.15 Compiler: gcc gcc (Ubuntu 13.3.0-6ubuntu2~24.04) 13.3.0 Alpine Linux 3.22.0 Kernel: 5.15 Compiler: gcc gcc (Alpine 14.2.0) 14.2.0 Windows Server 2022 Kernel: 10.0.20348.2031 Compiler: clang 15.0.7, gcc 14.1.0 (MinGW), and MSVC VS 19.39.33521 To view detailed results, visit: https://lab.dpdk.org/results/dashboard/tarballs/35135/ UNH-IOL DPDK Community Lab To manage your email subscriptions, visit: https://lab.dpdk.org/results/dashboard/preferences/subscriptions/