From mboxrd@z Thu Jan 1 00:00:00 1970 Return-Path: Received: from mails.dpdk.org (mails.dpdk.org [217.70.189.124]) by inbox.dpdk.org (Postfix) with ESMTP id F1728488E1 for ; Wed, 8 Oct 2025 10:54:18 +0200 (CEST) Received: from mails.dpdk.org (localhost [127.0.0.1]) by mails.dpdk.org (Postfix) with ESMTP id ED7AA40297; Wed, 8 Oct 2025 10:54:18 +0200 (CEST) Received: from mail-qv1-f99.google.com (mail-qv1-f99.google.com [209.85.219.99]) by mails.dpdk.org (Postfix) with ESMTP id 47B7240297 for ; Wed, 8 Oct 2025 10:54:18 +0200 (CEST) Received: by mail-qv1-f99.google.com with SMTP id 6a1803df08f44-78f15d5846dso82831306d6.0 for ; Wed, 08 Oct 2025 01:54:18 -0700 (PDT) DKIM-Signature: v=1; a=rsa-sha256; c=relaxed/relaxed; d=iol.unh.edu; s=unh-iol; t=1759913657; x=1760518457; darn=dpdk.org; h=cc:to:from:subject:message-id:date:from:to:cc:subject:date :message-id:reply-to; bh=ji77pshw+Cp4PxE9Wvj38BOf+P8B0PB5Qtyfg96FvoA=; b=KvB/gSfH7XBhsy6McaIOZMpYnM8LD0sVqsn201nD9EUOuMyswjcsSKCRAW4eoxd9zn fU3W0wJv8Cj09zxtLOfuq13jC1LBVO7N3a33keGbOQSUN52OPBejMVeyvxwt+8PHws2I Zy00cbv/vvrP6ryWUMBgvOnZ4e+7M6YkzrmCs= X-Google-DKIM-Signature: v=1; a=rsa-sha256; c=relaxed/relaxed; d=1e100.net; s=20230601; t=1759913657; x=1760518457; h=cc:to:from:subject:message-id:date:x-gm-message-state:from:to:cc :subject:date:message-id:reply-to; bh=ji77pshw+Cp4PxE9Wvj38BOf+P8B0PB5Qtyfg96FvoA=; b=Rqaa1esjKPNJuOFBSMVJesjWNtunXMTJiETfk15vhqKE9NvbxFhGydg8RTDQvYywRR e7mMNcTM30t5jVqm7mTi+F5VdnloFgkf0a/lip7c3ocAQ/Lq6hK+kTetg+LKNjAbVVFX 8RQChja5yZFbz/YUrd5Hy5wC4xHA6XM/0/4yNSuGJ1i47XEdc0x90u2vW77JGqcS13E8 QOH66TF/jV1Bmb/8Zf1QFQVP4P9QNV0usbZQzEqlnt/TDtufvfjA2zEjGOXZKWdlLqSH LbZ5xE/JMLcDlA4nfAzBhCCG110OOBdPPmDvvgERFreRzZ6L6TbhZuShUD3/Uuwf1NvX fFwQ== X-Gm-Message-State: AOJu0Ywnk1qUqAB1GdB1RJb889vYkwrzxNdEWgkSduJvl5S3Af9STZFi caAKLKKUrWOY+wjB23LrZfbXSeH/PyXAzh8KkZVyzwwHrNO4H0VqyPfCevczN9CFI77De/4pbNV G70mA3zoqa7OsHSTtH42+eL8+TQ1lkmQKIYE+Ajz37Wu9 X-Gm-Gg: ASbGnctRddOZ7vZUDSOQyFaVeufupcwBGv2p+GINEp4/8oB0YYTZbkSrbVAaX/5ZcCA vIg5sjG/oYO/Z5UhyynTlMCgQyFR+cHbx18oUcAsGWvztbcsfoqTcFWxe8tf8NyA0M3wc0Cb8FX RxoUv/L+LJbgtHqQEiqsaPumTSHTvqD8SpshnAEdtpilqKZU6y9AanPkR0Nu3dcJdDKop5VdWsD Rdv2uSeR7ytTwKG2jSzT34oRzJVhPmyJNK1u+tQ/gUuthCkMF1WZc766BZlIG0hwJmYJKHIoDDz WFTteZZXas/1N89tx/tzKTZNgJtg7qziBcBhdbhjxUUEOPLmy188rZoj+ybvs5lquCGkZFmzu+l oOQ== X-Google-Smtp-Source: AGHT+IHV+eHA0WPlUbbgDczhnHRUnUnd+wPyJdl21PptTBNOEVTA+9X4HrzVyc1m7FucQOnoAGxiw7NJ7WPy X-Received: by 2002:a05:6214:2264:b0:78d:4b1a:5ac5 with SMTP id 6a1803df08f44-87b2ef37479mr32109856d6.48.1759913657674; Wed, 08 Oct 2025 01:54:17 -0700 (PDT) Received: from postal.iol.unh.edu (postal.iol.unh.edu. [132.177.123.84]) by smtp-relay.gmail.com with ESMTPS id 6a1803df08f44-878be04c74asm16007336d6.28.2025.10.08.01.54.17 (version=TLS1_2 cipher=ECDHE-ECDSA-AES128-GCM-SHA256 bits=128/128); Wed, 08 Oct 2025 01:54:17 -0700 (PDT) X-Relaying-Domain: iol.unh.edu Date: Wed, 08 Oct 2025 01:54:17 -0700 (PDT) Message-ID: <68e626b9.d40a0220.367fc2.6584SMTPIN_ADDED_MISSING@mx.google.com> Received: from [172.21.0.8] (unknown [172.18.0.240]) by postal.iol.unh.edu (Postfix) with ESMTP id 6703B6051830; Wed, 8 Oct 2025 04:54:17 -0400 (EDT) Subject: |SUCCESS| [GIT MASTER] 2aa7141a4e2c78e3cce03dbd613532a2166123c1 From: dpdklab@iol.unh.edu To: Test Report Cc: dpdk-test-reports@iol.unh.edu, Akhil Goyal Content-Type: text/plain X-BeenThere: test-report@dpdk.org X-Mailman-Version: 2.1.29 Precedence: list List-Id: automatic DPDK test reports List-Unsubscribe: , List-Archive: List-Post: List-Help: List-Subscribe: , Errors-To: test-report-bounces@dpdk.org _Testing PASS_ Branch: dpdk-next-crypto 2aa7141a4e2c78e3cce03dbd613532a2166123c1 --> testing pass Upstream job id: Generic-DPDK-Compile-Meson#432339 Test environment and result as below: +-------------------------------+--------------------+-------------------------+-------------------+----------------------+-------------------+------------------+ | Environment | dpdk_meson_compile | dpdk_llvm_clang_compile | dpdk_msvc_compile | dpdk_mingw64_compile | dpdk_compile_spdk | dpdk_compile_ovs | +===============================+====================+=========================+===================+======================+===================+==================+ | Ubuntu 20.04 | PASS | SKIPPED | SKIPPED | SKIPPED | SKIPPED | SKIPPED | +-------------------------------+--------------------+-------------------------+-------------------+----------------------+-------------------+------------------+ | FreeBSD 14.2 | PASS | SKIPPED | SKIPPED | SKIPPED | SKIPPED | SKIPPED | +-------------------------------+--------------------+-------------------------+-------------------+----------------------+-------------------+------------------+ | CentOS Stream 9 | PASS | SKIPPED | SKIPPED | SKIPPED | PASS | SKIPPED | +-------------------------------+--------------------+-------------------------+-------------------+----------------------+-------------------+------------------+ | CentOS Stream 10 | PASS | SKIPPED | SKIPPED | SKIPPED | SKIPPED | SKIPPED | +-------------------------------+--------------------+-------------------------+-------------------+----------------------+-------------------+------------------+ | Debian GNU/Linux 12 | PASS | SKIPPED | SKIPPED | SKIPPED | PASS | SKIPPED | +-------------------------------+--------------------+-------------------------+-------------------+----------------------+-------------------+------------------+ | Fedora Linux 42 | PASS | SKIPPED | SKIPPED | SKIPPED | PASS | PASS | +-------------------------------+--------------------+-------------------------+-------------------+----------------------+-------------------+------------------+ | openSUSE Leap 15.6 | PASS | SKIPPED | SKIPPED | SKIPPED | SKIPPED | SKIPPED | +-------------------------------+--------------------+-------------------------+-------------------+----------------------+-------------------+------------------+ | Red Hat Enterprise Linux 8.10 | PASS | SKIPPED | SKIPPED | SKIPPED | SKIPPED | SKIPPED | +-------------------------------+--------------------+-------------------------+-------------------+----------------------+-------------------+------------------+ | Red Hat Enterprise Linux 9.5 | PASS | SKIPPED | SKIPPED | SKIPPED | SKIPPED | SKIPPED | +-------------------------------+--------------------+-------------------------+-------------------+----------------------+-------------------+------------------+ | Ubuntu 22.04 | PASS | SKIPPED | SKIPPED | SKIPPED | PASS | SKIPPED | +-------------------------------+--------------------+-------------------------+-------------------+----------------------+-------------------+------------------+ | Ubuntu 24.04 | PASS | SKIPPED | SKIPPED | SKIPPED | PASS | PASS | +-------------------------------+--------------------+-------------------------+-------------------+----------------------+-------------------+------------------+ | Alpine Linux 3.22.0 | PASS | SKIPPED | SKIPPED | SKIPPED | SKIPPED | SKIPPED | +-------------------------------+--------------------+-------------------------+-------------------+----------------------+-------------------+------------------+ | Windows Server 2022 | SKIPPED | PASS | PASS | PASS | SKIPPED | SKIPPED | +-------------------------------+--------------------+-------------------------+-------------------+----------------------+-------------------+------------------+ Ubuntu 20.04 Kernel: 4.19 Compiler: gcc gcc (Ubuntu 9.4.0-1ubuntu1~20.04.2) 9.4.0 FreeBSD 14.2 Kernel: 14.2-RELEASE Compiler: clang 18.1.6 CentOS Stream 9 Kernel: 5.15 Compiler: gcc gcc (GCC) 11.5.0 20240719 (Red Hat 11.5.0-11) CentOS Stream 10 Kernel: 5.15 Compiler: gcc gcc (GCC) 14.2.1 20250110 (Red Hat 14.2.1-8) Debian GNU/Linux 12 Kernel: 5.15 Compiler: gcc gcc (Debian 12.2.0-14+deb12u1) 12.2.0 Fedora Linux 42 Kernel: 5.15 Compiler: clang gcc (GCC) 15.2.1 20250808 (Red Hat 15.2.1-1) openSUSE Leap 15.6 Kernel: 5.15 Compiler: gcc gcc (SUSE Linux) 7.5.0 Red Hat Enterprise Linux 8.10 Kernel: 5.15 Compiler: gcc gcc (GCC) 8.5.0 20210514 (Red Hat 8.5.0-22) Red Hat Enterprise Linux 9.5 Kernel: 5.15 Compiler: gcc gcc (GCC) 11.5.0 20240719 (Red Hat 11.5.0-2) Ubuntu 22.04 Kernel: 5.15 Compiler: gcc gcc (Ubuntu 11.4.0-1ubuntu1~22.04) 11.4.0 Ubuntu 24.04 Kernel: 5.15 Compiler: gcc gcc (Ubuntu 13.3.0-6ubuntu2~24.04) 13.3.0 Alpine Linux 3.22.0 Kernel: 5.15 Compiler: gcc gcc (Alpine 14.2.0) 14.2.0 Windows Server 2022 Kernel: 10.0.20348.2031 Compiler: clang 15.0.7, gcc 14.1.0 (MinGW), and MSVC VS 19.39.33521 To view detailed results, visit: https://lab.dpdk.org/results/dashboard/tarballs/35135/ UNH-IOL DPDK Community Lab To manage your email subscriptions, visit: https://lab.dpdk.org/results/dashboard/preferences/subscriptions/