automatic DPDK test reports
 help / color / mirror / Atom feed
From: dpdklab@iol.unh.edu
To: Test Report <test-report@dpdk.org>
Cc: dpdk-test-reports@iol.unh.edu, Akhil Goyal <gakhil@marvell.com>
Subject: |SUCCESS| pw157322 [PATCH] compressdev: fix device ID validation che
Date: Wed, 08 Oct 2025 01:59:54 -0700 (PDT)	[thread overview]
Message-ID: <68e6280a.170a0220.1a0a06.96eeSMTPIN_ADDED_MISSING@mx.google.com> (raw)
In-Reply-To: <20251008074532.3066685-1-ashishg@marvell.com>

Test-Label: iol-compile-amd64-testing
Test-Status: SUCCESS
http://dpdk.org/patch/157322

_Testing PASS_

Submitter: Ashish Gupta <ashishg@marvell.com>
Date: Wednesday, October 08 2025 07:45:23 
DPDK git baseline: Repo:dpdk-next-crypto
  Branch: master
  CommitID:2aa7141a4e2c78e3cce03dbd613532a2166123c1

157322 --> testing pass

Upstream job id: Windows-Compile-DPDK-Native#31492

Test environment and result as below:

+---------------------+-------------------------+-------------------+--------------------+----------------------+
|     Environment     | dpdk_llvm_clang_compile | dpdk_msvc_compile | dpdk_meson_compile | dpdk_mingw64_compile |
+=====================+=========================+===================+====================+======================+
| Windows Server 2022 | PASS                    | PASS              | SKIPPED            | PASS                 |
+---------------------+-------------------------+-------------------+--------------------+----------------------+
| FreeBSD 14.2        | SKIPPED                 | SKIPPED           | PASS               | SKIPPED              |
+---------------------+-------------------------+-------------------+--------------------+----------------------+
| Ubuntu 20.04        | SKIPPED                 | SKIPPED           | PASS               | SKIPPED              |
+---------------------+-------------------------+-------------------+--------------------+----------------------+


Windows Server 2022
	Kernel: 10.0.20348.2031
	Compiler: clang 15.0.7, gcc 14.1.0 (MinGW), and MSVC VS 19.39.33521

FreeBSD 14.2
	Kernel: 14.2-RELEASE
	Compiler: clang 18.1.6

Ubuntu 20.04
	Kernel: 4.19
	Compiler: gcc gcc (Ubuntu 9.4.0-1ubuntu1~20.04.2) 9.4.0

To view detailed results, visit:
https://lab.dpdk.org/results/dashboard/patchsets/34235/

UNH-IOL DPDK Community Lab

To manage your email subscriptions, visit: 
https://lab.dpdk.org/results/dashboard/preferences/subscriptions/

  parent reply	other threads:[~2025-10-08  8:59 UTC|newest]

Thread overview: 20+ messages / expand[flat|nested]  mbox.gz  Atom feed  top
     [not found] <20251008074532.3066685-1-ashishg@marvell.com>
2025-10-08  7:11 ` |SUCCESS| pw157322 [PATCH] compressdev: fix device ID validation check qemudev
2025-10-08  7:16 ` qemudev
2025-10-08  7:46 ` checkpatch
2025-10-08  8:17 ` |PENDING| pw157322 [PATCH] compressdev: fix device ID validation che dpdklab
2025-10-08  8:18 ` |SUCCESS| " dpdklab
2025-10-08  8:22 ` dpdklab
2025-10-08  8:28 ` dpdklab
2025-10-08  8:35 ` |PENDING| " dpdklab
2025-10-08  8:36 ` |SUCCESS| " dpdklab
2025-10-08  8:38 ` dpdklab
2025-10-08  8:41 ` dpdklab
2025-10-08  8:59 ` dpdklab [this message]
2025-10-08  9:06 ` |PENDING| " dpdklab
2025-10-08  9:13 ` |SUCCESS| " dpdklab
2025-10-08  9:21 ` dpdklab
2025-10-08 10:05 ` dpdklab
2025-10-08 10:26 ` |SUCCESS| pw157322 [PATCH] compressdev: fix device ID validation check 0-day Robot
2025-10-08 10:26 ` 0-day Robot
2025-10-08 11:50 ` |SUCCESS| pw157322 [PATCH] compressdev: fix device ID validation che dpdklab
2025-10-08 12:10 ` dpdklab

Reply instructions:

You may reply publicly to this message via plain-text email
using any one of the following methods:

* Save the following mbox file, import it into your mail client,
  and reply-to-all from there: mbox

  Avoid top-posting and favor interleaved quoting:
  https://en.wikipedia.org/wiki/Posting_style#Interleaved_style

* Reply using the --to, --cc, and --in-reply-to
  switches of git-send-email(1):

  git send-email \
    --in-reply-to=68e6280a.170a0220.1a0a06.96eeSMTPIN_ADDED_MISSING@mx.google.com \
    --to=dpdklab@iol.unh.edu \
    --cc=dpdk-test-reports@iol.unh.edu \
    --cc=gakhil@marvell.com \
    --cc=test-report@dpdk.org \
    /path/to/YOUR_REPLY

  https://kernel.org/pub/software/scm/git/docs/git-send-email.html

* If your mail client supports setting the In-Reply-To header
  via mailto: links, try the mailto: link
Be sure your reply has a Subject: header at the top and a blank line before the message body.
This is a public inbox, see mirroring instructions
for how to clone and mirror all data and code used for this inbox;
as well as URLs for NNTP newsgroup(s).