From mboxrd@z Thu Jan 1 00:00:00 1970 Return-Path: Received: from mails.dpdk.org (mails.dpdk.org [217.70.189.124]) by inbox.dpdk.org (Postfix) with ESMTP id 97592488E1 for ; Wed, 8 Oct 2025 10:59:56 +0200 (CEST) Received: from mails.dpdk.org (localhost [127.0.0.1]) by mails.dpdk.org (Postfix) with ESMTP id 7879540297; Wed, 8 Oct 2025 10:59:56 +0200 (CEST) Received: from mail-pl1-f227.google.com (mail-pl1-f227.google.com [209.85.214.227]) by mails.dpdk.org (Postfix) with ESMTP id D043640297 for ; Wed, 8 Oct 2025 10:59:55 +0200 (CEST) Received: by mail-pl1-f227.google.com with SMTP id d9443c01a7336-27edcbbe7bfso111433545ad.0 for ; Wed, 08 Oct 2025 01:59:55 -0700 (PDT) DKIM-Signature: v=1; a=rsa-sha256; c=relaxed/relaxed; d=iol.unh.edu; s=unh-iol; t=1759913995; x=1760518795; darn=dpdk.org; h=references:in-reply-to:cc:to:from:subject:message-id:date:from:to :cc:subject:date:message-id:reply-to; bh=fivGEuQ7Df35VCBKszBf5oBwGPaYBpX/aub7sPUEEco=; b=VTabQjecJ0KRD2D5qFLPROrjf2geeEqMbvypixz2utQnq1qGl4OvIg5XARuzi0/uNB hvqyg5BwJD5Z2V3HghhNAzBJoHiZbs4M7pwbhGl/cPwY3r734XtsBK4o3B/w+W/GUR3w 21LukB7kUoBUm1/zHAX6M3nJ3RCEgzez9uSvE= X-Google-DKIM-Signature: v=1; a=rsa-sha256; c=relaxed/relaxed; d=1e100.net; s=20230601; t=1759913995; x=1760518795; h=references:in-reply-to:cc:to:from:subject:message-id:date :x-gm-message-state:from:to:cc:subject:date:message-id:reply-to; bh=fivGEuQ7Df35VCBKszBf5oBwGPaYBpX/aub7sPUEEco=; b=Y68PFJJycY+us1ITtIUUBynpD9c1oemybIDDgZLC4npFKDoWsi/IfETC+J4BKGMmle 6pracZryceqvXEbSmG1BlQEQPIdPpgLGTGDbpK9znLZby1wL0THX25k5yoTe4yU3BY8K g/mZDL3UoGt8eukLVRFpL9zrKkzTEYufnJQ8Nyi/pyIaVIjANOt4v6DUoFPPFMngEnvd btuUFmtr7f8SAe7qLisoHv3zP4Ipzj7oNTVjPbx12GMo+qFlxc/yKCqn7l+3/3iGwkkb OVCdwXE2gteulEXsR9rb/Mvkvk5MP2OxAJTKzKMN229+Utrc36IRScRZ9muHHeJlO97N FVOQ== X-Gm-Message-State: AOJu0YzPjLUCfWIL5tO3mSBwyJpneHelQhaKVWlb3IyuV0BNnOHx2Tep xqPgMNww8ngdxh9zz8SXBKDCn8mol+pVKTlfquHFils9x0cPV+by4R76qr1xBm3Ty+rh/SkdmcG i1OzITmpr1KJaV5DFj7huPmFseYr5XdEUxpiQLwuYWCR/WbUUw85hj8R7Tt2W X-Gm-Gg: ASbGncuKTdiM49XE1RQJaxdDiY4A1PWdMNjP696VafBGAhoolB9x4K2Rs/fQoC5kWNB CTVaVBmiLW/e57t+pqvN9chG/ybGfA/VwUUQbjXfPYg6I8NNFCLZKjY1lqJs7N1ERIiXBo699wt uqJbItYHSlekT1orVhYmoLJj110lh7dfXYrJVs4hFTOqFGbTLck7+4Js6WXI9LSqUpfB6AjCrjT 1xXkoBJY4GMDZ9lJL8kNopc3qLpnKQE40GLW9AmhXmSK8RP3TXJdgLfNQUjJWp50wBlNCy/CdKG RpK2Y7cnJf19Quci3erY6GchWZf3HcVHymYwzZeOYhDGo4Hj0mPVf8I= X-Google-Smtp-Source: AGHT+IHsIuBnDHebishguVUEn5ZYP15CfXSWYERHEKzcL0En6oOsCrWtTsET61Lu9dZXBqFA+dPRRSua7nVf X-Received: by 2002:a17:903:41c9:b0:24f:dbe7:73a2 with SMTP id d9443c01a7336-290272c1a81mr41412915ad.31.1759913994914; Wed, 08 Oct 2025 01:59:54 -0700 (PDT) Received: from postal.iol.unh.edu (postal.iol.unh.edu. [2606:4100:3880:1234::84]) by smtp-relay.gmail.com with ESMTPS id d9443c01a7336-28e8d1087a4sm14496375ad.1.2025.10.08.01.59.54 (version=TLS1_2 cipher=ECDHE-ECDSA-AES128-GCM-SHA256 bits=128/128); Wed, 08 Oct 2025 01:59:54 -0700 (PDT) X-Relaying-Domain: iol.unh.edu Date: Wed, 08 Oct 2025 01:59:54 -0700 (PDT) Message-ID: <68e6280a.170a0220.1a0a06.96eeSMTPIN_ADDED_MISSING@mx.google.com> Received: from [172.21.0.3] (unknown [172.18.0.240]) by postal.iol.unh.edu (Postfix) with ESMTP id 24DC16051830; Wed, 8 Oct 2025 04:59:54 -0400 (EDT) Subject: |SUCCESS| pw157322 [PATCH] compressdev: fix device ID validation che From: dpdklab@iol.unh.edu To: Test Report Cc: dpdk-test-reports@iol.unh.edu, Akhil Goyal In-Reply-To: <20251008074532.3066685-1-ashishg@marvell.com> References: <20251008074532.3066685-1-ashishg@marvell.com> Content-Type: text/plain X-BeenThere: test-report@dpdk.org X-Mailman-Version: 2.1.29 Precedence: list List-Id: automatic DPDK test reports List-Unsubscribe: , List-Archive: List-Post: List-Help: List-Subscribe: , Errors-To: test-report-bounces@dpdk.org Test-Label: iol-compile-amd64-testing Test-Status: SUCCESS http://dpdk.org/patch/157322 _Testing PASS_ Submitter: Ashish Gupta Date: Wednesday, October 08 2025 07:45:23 DPDK git baseline: Repo:dpdk-next-crypto Branch: master CommitID:2aa7141a4e2c78e3cce03dbd613532a2166123c1 157322 --> testing pass Upstream job id: Windows-Compile-DPDK-Native#31492 Test environment and result as below: +---------------------+-------------------------+-------------------+--------------------+----------------------+ | Environment | dpdk_llvm_clang_compile | dpdk_msvc_compile | dpdk_meson_compile | dpdk_mingw64_compile | +=====================+=========================+===================+====================+======================+ | Windows Server 2022 | PASS | PASS | SKIPPED | PASS | +---------------------+-------------------------+-------------------+--------------------+----------------------+ | FreeBSD 14.2 | SKIPPED | SKIPPED | PASS | SKIPPED | +---------------------+-------------------------+-------------------+--------------------+----------------------+ | Ubuntu 20.04 | SKIPPED | SKIPPED | PASS | SKIPPED | +---------------------+-------------------------+-------------------+--------------------+----------------------+ Windows Server 2022 Kernel: 10.0.20348.2031 Compiler: clang 15.0.7, gcc 14.1.0 (MinGW), and MSVC VS 19.39.33521 FreeBSD 14.2 Kernel: 14.2-RELEASE Compiler: clang 18.1.6 Ubuntu 20.04 Kernel: 4.19 Compiler: gcc gcc (Ubuntu 9.4.0-1ubuntu1~20.04.2) 9.4.0 To view detailed results, visit: https://lab.dpdk.org/results/dashboard/patchsets/34235/ UNH-IOL DPDK Community Lab To manage your email subscriptions, visit: https://lab.dpdk.org/results/dashboard/preferences/subscriptions/