From mboxrd@z Thu Jan 1 00:00:00 1970 Return-Path: Received: from mails.dpdk.org (mails.dpdk.org [217.70.189.124]) by inbox.dpdk.org (Postfix) with ESMTP id 57B7E488E1 for ; Wed, 8 Oct 2025 11:16:23 +0200 (CEST) Received: from mails.dpdk.org (localhost [127.0.0.1]) by mails.dpdk.org (Postfix) with ESMTP id 531EF40297; Wed, 8 Oct 2025 11:16:23 +0200 (CEST) Received: from mail-pg1-f228.google.com (mail-pg1-f228.google.com [209.85.215.228]) by mails.dpdk.org (Postfix) with ESMTP id 1930340297 for ; Wed, 8 Oct 2025 11:16:22 +0200 (CEST) Received: by mail-pg1-f228.google.com with SMTP id 41be03b00d2f7-b57d93ae3b0so4849448a12.1 for ; Wed, 08 Oct 2025 02:16:22 -0700 (PDT) DKIM-Signature: v=1; a=rsa-sha256; c=relaxed/relaxed; d=iol.unh.edu; s=unh-iol; t=1759914981; x=1760519781; darn=dpdk.org; h=cc:to:from:subject:message-id:date:from:to:cc:subject:date :message-id:reply-to; bh=17Eb4S4chv8X2DTOEDU39qmSSEzY+gWFQK/DBhOBt5o=; b=ZbEeemRpQqdywrfHwPWGo30ZmYLRMyhGM2oeiYaYG3c/U99OfGhi2GJRvzXw0+cTQy NFMClPOlpDuiiBy66UNQajreJCjgS4HVcjfJ4mTXSEQK2SkeFOxqRPZnKJzcmBeoAX2l /RxXp1xzOJRW0xCW86uUVkTc2TGCclcxo9b4A= X-Google-DKIM-Signature: v=1; a=rsa-sha256; c=relaxed/relaxed; d=1e100.net; s=20230601; t=1759914981; x=1760519781; h=cc:to:from:subject:message-id:date:x-gm-message-state:from:to:cc :subject:date:message-id:reply-to; bh=17Eb4S4chv8X2DTOEDU39qmSSEzY+gWFQK/DBhOBt5o=; b=Rteu4sQqskKPk70AN+oAvWEL0h4dQ8ZgET3cxroz5mkl0EUDMjc8XTsu6PHadV4aua Ie5i6+gDZxZ87hM389C63lwxzScy7Cw7KdT0jGOsvzq+nSNPI/yfOguXebNR55XJMpRQ MjhFMnw1rYRkDIEud/ouCOCO41XC6NPHFD8646qijGVYpIe3jLYyZbqVCn6S7ObIDl/h CZz9jGGDmQSBxZ0KzYwHTjVtRtHm2B5qM8vp5l1bJ2mj3j71fNUYeYNKuYQt2hG+XKK6 zfOQtikd8ARuAXsYUsOU0jOFlKnBhHK/JVxz9CK5iXIOsXVtnoICNZbCOSS4CaVvuQYD OfuA== X-Gm-Message-State: AOJu0Yx1gxeqlsAUEtRWideoEZUqYsRpnjVJmRo/cCzIjJ/08Yf5An3W BtRFcfKit5bAUNi4IYwNdJ0gstRR0XEVcDyIiqj9hzUqUqOm7s5599hzD5kZHnEBCNHWoC262k4 YdQLwfO7FUde1Znvm8FqOI+tdYB0s4UuR5CdTpv1mXR7/ X-Gm-Gg: ASbGncv/66NLiEiGDDvUjToHGjfIym4GK2tmuXhj6C69FM9vraLY9jpNLmJyFFWMUsr KLBCVqOBi+K4p8oY39LvWWJMli3QoOwdWlKBHzbvMX6xo2vEw8bpcHvy0mReUKUNlTRJpzGNwI4 1cpiMYXY4v+J3mgUg6QyA/RKdwFnJDmilI+cN71GcCqlXneaEaFW49X5z3Nqp5Fj919R3633RYk +JQffAookbIlf5D0rxe3m3pTkjMwF/2/fgVwJtH2LMG/57LDh+St27rdAz1SXWbq91fnmkKmbV3 9pPJeEFcZKZoGTT6zS4t2yk83qQgQJvrzbBzWQ7KDVxXUPFIHsrjVopc0qtO8DsFbDIb/c7F5X2 TNg== X-Google-Smtp-Source: AGHT+IEQYICAAPpYH/q4W91l+by1d2st2SbssmVH4tPVh4TIhb9X+A8jVXeUOSxJsjc/7H3XqkaXBz7REfI+ X-Received: by 2002:a17:90b:4d12:b0:32e:3c57:8a9d with SMTP id 98e67ed59e1d1-33b5139a279mr3803928a91.30.1759914981208; Wed, 08 Oct 2025 02:16:21 -0700 (PDT) Received: from postal.iol.unh.edu (postal.iol.unh.edu. [132.177.123.84]) by smtp-relay.gmail.com with ESMTPS id 41be03b00d2f7-b62f30231f6sm699525a12.15.2025.10.08.02.16.21 (version=TLS1_2 cipher=ECDHE-ECDSA-AES128-GCM-SHA256 bits=128/128); Wed, 08 Oct 2025 02:16:21 -0700 (PDT) X-Relaying-Domain: iol.unh.edu Date: Wed, 08 Oct 2025 02:16:21 -0700 (PDT) Message-ID: <68e62be5.050a0220.10ba24.5761SMTPIN_ADDED_MISSING@mx.google.com> Received: from [172.21.0.2] (unknown [172.18.0.240]) by postal.iol.unh.edu (Postfix) with ESMTP id 76C576051830; Wed, 8 Oct 2025 05:16:20 -0400 (EDT) Subject: |SUCCESS| [GIT MASTER] 2b403dd8fb37d0ba13723e44ffc7ee2c2795f838 From: dpdklab@iol.unh.edu To: Test Report Cc: dpdk-test-reports@iol.unh.edu Content-Type: text/plain X-BeenThere: test-report@dpdk.org X-Mailman-Version: 2.1.29 Precedence: list List-Id: automatic DPDK test reports List-Unsubscribe: , List-Archive: List-Post: List-Help: List-Subscribe: , Errors-To: test-report-bounces@dpdk.org _Testing PASS_ Branch: dpdk 2b403dd8fb37d0ba13723e44ffc7ee2c2795f838 --> testing pass Upstream job id: Generic-DPDK-Compile-Meson#432375 Test environment and result as below: +-------------------------------+--------------------+-------------------------+-------------------+----------------------+-------------------+------------------+ | Environment | dpdk_meson_compile | dpdk_llvm_clang_compile | dpdk_msvc_compile | dpdk_mingw64_compile | dpdk_compile_spdk | dpdk_compile_ovs | +===============================+====================+=========================+===================+======================+===================+==================+ | Ubuntu 20.04 | PASS | SKIPPED | SKIPPED | SKIPPED | SKIPPED | SKIPPED | +-------------------------------+--------------------+-------------------------+-------------------+----------------------+-------------------+------------------+ | FreeBSD 14.2 | PASS | SKIPPED | SKIPPED | SKIPPED | SKIPPED | SKIPPED | +-------------------------------+--------------------+-------------------------+-------------------+----------------------+-------------------+------------------+ | CentOS Stream 9 | PASS | SKIPPED | SKIPPED | SKIPPED | PASS | SKIPPED | +-------------------------------+--------------------+-------------------------+-------------------+----------------------+-------------------+------------------+ | CentOS Stream 10 | PASS | SKIPPED | SKIPPED | SKIPPED | SKIPPED | SKIPPED | +-------------------------------+--------------------+-------------------------+-------------------+----------------------+-------------------+------------------+ | Debian GNU/Linux 12 | PASS | SKIPPED | SKIPPED | SKIPPED | PASS | SKIPPED | +-------------------------------+--------------------+-------------------------+-------------------+----------------------+-------------------+------------------+ | Fedora Linux 42 | PASS | SKIPPED | SKIPPED | SKIPPED | PASS | PASS | +-------------------------------+--------------------+-------------------------+-------------------+----------------------+-------------------+------------------+ | openSUSE Leap 15.6 | PASS | SKIPPED | SKIPPED | SKIPPED | SKIPPED | SKIPPED | +-------------------------------+--------------------+-------------------------+-------------------+----------------------+-------------------+------------------+ | Red Hat Enterprise Linux 8.10 | PASS | SKIPPED | SKIPPED | SKIPPED | SKIPPED | SKIPPED | +-------------------------------+--------------------+-------------------------+-------------------+----------------------+-------------------+------------------+ | Red Hat Enterprise Linux 9.5 | PASS | SKIPPED | SKIPPED | SKIPPED | SKIPPED | SKIPPED | +-------------------------------+--------------------+-------------------------+-------------------+----------------------+-------------------+------------------+ | Ubuntu 22.04 | PASS | SKIPPED | SKIPPED | SKIPPED | PASS | SKIPPED | +-------------------------------+--------------------+-------------------------+-------------------+----------------------+-------------------+------------------+ | Ubuntu 24.04 | PASS | SKIPPED | SKIPPED | SKIPPED | PASS | PASS | +-------------------------------+--------------------+-------------------------+-------------------+----------------------+-------------------+------------------+ | Alpine Linux 3.22.0 | PASS | SKIPPED | SKIPPED | SKIPPED | SKIPPED | SKIPPED | +-------------------------------+--------------------+-------------------------+-------------------+----------------------+-------------------+------------------+ | Arch Linux 20250613.0.365270 | PASS | SKIPPED | SKIPPED | SKIPPED | SKIPPED | SKIPPED | +-------------------------------+--------------------+-------------------------+-------------------+----------------------+-------------------+------------------+ | Windows Server 2022 | SKIPPED | PASS | PASS | PASS | SKIPPED | SKIPPED | +-------------------------------+--------------------+-------------------------+-------------------+----------------------+-------------------+------------------+ Ubuntu 20.04 Kernel: 4.19 Compiler: gcc gcc (Ubuntu 9.4.0-1ubuntu1~20.04.2) 9.4.0 FreeBSD 14.2 Kernel: 14.2-RELEASE Compiler: clang 18.1.6 CentOS Stream 9 Kernel: 5.15 Compiler: gcc gcc (GCC) 11.5.0 20240719 (Red Hat 11.5.0-11) CentOS Stream 10 Kernel: 5.15 Compiler: gcc gcc (GCC) 14.2.1 20250110 (Red Hat 14.2.1-8) Debian GNU/Linux 12 Kernel: 5.15 Compiler: gcc gcc (Debian 12.2.0-14+deb12u1) 12.2.0 Fedora Linux 42 Kernel: 5.15 Compiler: clang gcc (GCC) 15.2.1 20250808 (Red Hat 15.2.1-1) openSUSE Leap 15.6 Kernel: 5.15 Compiler: gcc gcc (SUSE Linux) 7.5.0 Red Hat Enterprise Linux 8.10 Kernel: 5.15 Compiler: gcc gcc (GCC) 8.5.0 20210514 (Red Hat 8.5.0-22) Red Hat Enterprise Linux 9.5 Kernel: 5.15 Compiler: gcc gcc (GCC) 11.5.0 20240719 (Red Hat 11.5.0-2) Ubuntu 22.04 Kernel: 5.15 Compiler: gcc gcc (Ubuntu 11.4.0-1ubuntu1~22.04) 11.4.0 Ubuntu 24.04 Kernel: 5.15 Compiler: gcc gcc (Ubuntu 13.3.0-6ubuntu2~24.04) 13.3.0 Alpine Linux 3.22.0 Kernel: 5.15 Compiler: gcc gcc (Alpine 14.2.0) 14.2.0 Arch Linux 20250613.0.365270 Kernel: 5.15 Compiler: gcc gcc (GCC) 15.1.1 20250425 Windows Server 2022 Kernel: 10.0.20348.2031 Compiler: clang 15.0.7, gcc 14.1.0 (MinGW), and MSVC VS 19.39.33521 To view detailed results, visit: https://lab.dpdk.org/results/dashboard/tarballs/35136/ UNH-IOL DPDK Community Lab To manage your email subscriptions, visit: https://lab.dpdk.org/results/dashboard/preferences/subscriptions/