From mboxrd@z Thu Jan 1 00:00:00 1970 Return-Path: Received: from mails.dpdk.org (mails.dpdk.org [217.70.189.124]) by inbox.dpdk.org (Postfix) with ESMTP id D1F35488E1 for ; Wed, 8 Oct 2025 11:21:18 +0200 (CEST) Received: from mails.dpdk.org (localhost [127.0.0.1]) by mails.dpdk.org (Postfix) with ESMTP id C0A6940297; Wed, 8 Oct 2025 11:21:18 +0200 (CEST) Received: from mail-yw1-f228.google.com (mail-yw1-f228.google.com [209.85.128.228]) by mails.dpdk.org (Postfix) with ESMTP id 66A6240297 for ; Wed, 8 Oct 2025 11:21:17 +0200 (CEST) Received: by mail-yw1-f228.google.com with SMTP id 00721157ae682-72ce9790aceso72565637b3.3 for ; Wed, 08 Oct 2025 02:21:17 -0700 (PDT) DKIM-Signature: v=1; a=rsa-sha256; c=relaxed/relaxed; d=iol.unh.edu; s=unh-iol; t=1759915277; x=1760520077; darn=dpdk.org; h=references:in-reply-to:cc:to:from:subject:message-id:date:from:to :cc:subject:date:message-id:reply-to; bh=FbmN+yY9FhU5JlYvh9sVfyh1/3lMxID4P+ysoaUTCCY=; b=F7bK21aSnWPIgudiec0r44xbQ3EeRznFQjKtByVsKxF5AnlJgao3h2G/Y4s/6Xcvk6 U5PAzH4mkA4MSJcs4EU316jbKawRG4Pwravw5NQInwlUSxSHBhgW4kNlXl7UMNwWEUrh e/2Q/KFIY+btQ//odHA4o+w1nL9z4DR+WXBYI= X-Google-DKIM-Signature: v=1; a=rsa-sha256; c=relaxed/relaxed; d=1e100.net; s=20230601; t=1759915277; x=1760520077; h=references:in-reply-to:cc:to:from:subject:message-id:date :x-gm-message-state:from:to:cc:subject:date:message-id:reply-to; bh=FbmN+yY9FhU5JlYvh9sVfyh1/3lMxID4P+ysoaUTCCY=; b=RC1Pz4utwLmpdf0Yia2lV7mYlfCLVuR9i7SOnBBNTZp2EnIYqV+ze59m3f2oUsnN+4 3hoqyWex9SErOn/hfdswvKiajdX4wVoWebpcyo3GLCpYpQ1jolBBHEPRkzgXWNut71zg mDZHb7WgkpPf2eYHAA4okw05j4+46zgjGFaKYpUPoonBnfUKpewMvOAEfNWKcTwjiZds nf7SR7E2Gwzi5nGMF063behOo2mOwG8FsmQLAYzolLEylKxMFDKOCNb383ZvImkEOcmx SebPfQxqEv7bz9Ptp1A1Q6mAvhJoV0ZBqkh3trvZ82woXAR7RRuSVJ37Ml8CI3UUdx/d 6ZDw== X-Gm-Message-State: AOJu0YwuY/qzCihUbUF1WDb/8JmfLo/6WhI5MJhtZ5P25fBMSz7zaN/w SetXKM9V3USJm9j2y6MmGziqfCxESwBhnpHaPbgCf3ichyNf7gJZRxESsZ/uCWzVA6tWG5aNfYV VcrMQu7DDfGhvUOOKaJyOCrkvPSp7/uYYk6cR/mQhg3Sa X-Gm-Gg: ASbGnctq3frYf54evVUznOWzq4deW3R9YWA4qZdW9pw755J+bZCZ5BXFRVxLRkFerQZ rQn+HTQFLQPU69Dm/e2jK+eaJUi6IW3tTNbSMfY3wch1b+SXa8CTpsGGYL7IViiGy4fqOCTMPK+ P2/xz8D7hImCIHY/T1YRD7Mjk35F0DG26p6wQBqCUMyo5Q6igAoRNCjpQn8DsW2EzOzUWYrn2Wh fZGQcWZug0uMG9R4DbQIuAtZNLXvw5eA2xjvBR1D+GRng104A31yPXcEO+N/DAg5n0xmBF9+0EL o6kWwSi8/crbtOr+kNaYarqTk0TQUXPqA8rmpTOfJb1C9QxptlgPVV2nqGsaDQnJe6A6gK/AxMz XqQ== X-Google-Smtp-Source: AGHT+IG2VHoOjC+mAgtcvP/sUMAdwZWVPyzC2IJWdIUhyjf4Ov3m51PiYzDhHP1EYSsmgU2hnfOlwTWbNyxb X-Received: by 2002:a05:690c:3348:b0:77f:b25b:cb59 with SMTP id 00721157ae682-780e1554531mr55616327b3.13.1759915276611; Wed, 08 Oct 2025 02:21:16 -0700 (PDT) Received: from postal.iol.unh.edu (postal.iol.unh.edu. [132.177.123.84]) by smtp-relay.gmail.com with ESMTPS id 956f58d0204a3-63b845a116bsm1072679d50.6.2025.10.08.02.21.16 (version=TLS1_2 cipher=ECDHE-ECDSA-AES128-GCM-SHA256 bits=128/128); Wed, 08 Oct 2025 02:21:16 -0700 (PDT) X-Relaying-Domain: iol.unh.edu Date: Wed, 08 Oct 2025 02:21:16 -0700 (PDT) Message-ID: <68e62d0c.530a0220.b5b4.9598SMTPIN_ADDED_MISSING@mx.google.com> Received: from [172.21.0.3] (unknown [172.18.0.240]) by postal.iol.unh.edu (Postfix) with ESMTP id 368906051830; Wed, 8 Oct 2025 05:21:16 -0400 (EDT) Subject: |SUCCESS| pw157314 [PATCH] [v2] vhost: always lock all QPs if handle From: dpdklab@iol.unh.edu To: Test Report Cc: dpdk-test-reports@iol.unh.edu, Chenbo Xia , Maxime Coquelin In-Reply-To: <20251007150630.2895365-1-sil-plv@napatech.com> References: <20251007150630.2895365-1-sil-plv@napatech.com> Content-Type: text/plain X-BeenThere: test-report@dpdk.org X-Mailman-Version: 2.1.29 Precedence: list List-Id: automatic DPDK test reports List-Unsubscribe: , List-Archive: List-Post: List-Help: List-Subscribe: , Errors-To: test-report-bounces@dpdk.org Test-Label: iol-compile-amd64-testing Test-Status: SUCCESS http://dpdk.org/patch/157314 _Testing PASS_ Submitter: Serhii Iliushyk Date: Tuesday, October 07 2025 15:06:30 DPDK git baseline: Repo:dpdk-next-virtio Branch: master CommitID:4159ea62922ce41566c7bab44655ad78bee85458 157314 --> testing pass Upstream job id: Generic-DPDK-Compile-Meson#432293 Test environment and result as below: +-------------------------------+--------------------+-------------------+-------------------------+----------------------+-------------------+------------------+ | Environment | dpdk_meson_compile | dpdk_msvc_compile | dpdk_llvm_clang_compile | dpdk_mingw64_compile | dpdk_compile_spdk | dpdk_compile_ovs | +===============================+====================+===================+=========================+======================+===================+==================+ | Ubuntu 20.04 | PASS | SKIPPED | SKIPPED | SKIPPED | SKIPPED | SKIPPED | +-------------------------------+--------------------+-------------------+-------------------------+----------------------+-------------------+------------------+ | FreeBSD 14.2 | PASS | SKIPPED | SKIPPED | SKIPPED | SKIPPED | SKIPPED | +-------------------------------+--------------------+-------------------+-------------------------+----------------------+-------------------+------------------+ | Debian GNU/Linux 12 | PASS | SKIPPED | SKIPPED | SKIPPED | PASS | SKIPPED | +-------------------------------+--------------------+-------------------+-------------------------+----------------------+-------------------+------------------+ | CentOS Stream 9 | PASS | SKIPPED | SKIPPED | SKIPPED | PASS | SKIPPED | +-------------------------------+--------------------+-------------------+-------------------------+----------------------+-------------------+------------------+ | CentOS Stream 10 | PASS | SKIPPED | SKIPPED | SKIPPED | SKIPPED | SKIPPED | +-------------------------------+--------------------+-------------------+-------------------------+----------------------+-------------------+------------------+ | Fedora Linux 42 | PASS | SKIPPED | SKIPPED | SKIPPED | PASS | PASS | +-------------------------------+--------------------+-------------------+-------------------------+----------------------+-------------------+------------------+ | Red Hat Enterprise Linux 8.10 | PASS | SKIPPED | SKIPPED | SKIPPED | SKIPPED | SKIPPED | +-------------------------------+--------------------+-------------------+-------------------------+----------------------+-------------------+------------------+ | Red Hat Enterprise Linux 9.5 | PASS | SKIPPED | SKIPPED | SKIPPED | SKIPPED | SKIPPED | +-------------------------------+--------------------+-------------------+-------------------------+----------------------+-------------------+------------------+ | Ubuntu 22.04 | PASS | SKIPPED | SKIPPED | SKIPPED | PASS | SKIPPED | +-------------------------------+--------------------+-------------------+-------------------------+----------------------+-------------------+------------------+ | Ubuntu 24.04 | PASS | SKIPPED | SKIPPED | SKIPPED | PASS | PASS | +-------------------------------+--------------------+-------------------+-------------------------+----------------------+-------------------+------------------+ | Alpine Linux 3.22.0 | PASS | SKIPPED | SKIPPED | SKIPPED | SKIPPED | SKIPPED | +-------------------------------+--------------------+-------------------+-------------------------+----------------------+-------------------+------------------+ | openSUSE Leap 15.6 | PASS | SKIPPED | SKIPPED | SKIPPED | SKIPPED | SKIPPED | +-------------------------------+--------------------+-------------------+-------------------------+----------------------+-------------------+------------------+ | Windows Server 2022 | SKIPPED | PASS | PASS | PASS | SKIPPED | SKIPPED | +-------------------------------+--------------------+-------------------+-------------------------+----------------------+-------------------+------------------+ Ubuntu 20.04 Kernel: 4.19 Compiler: gcc gcc (Ubuntu 9.4.0-1ubuntu1~20.04.2) 9.4.0 FreeBSD 14.2 Kernel: 14.2-RELEASE Compiler: clang 18.1.6 Debian GNU/Linux 12 Kernel: 5.15 Compiler: gcc gcc (Debian 12.2.0-14+deb12u1) 12.2.0 CentOS Stream 9 Kernel: 5.15 Compiler: gcc gcc (GCC) 11.5.0 20240719 (Red Hat 11.5.0-11) CentOS Stream 10 Kernel: 5.15 Compiler: gcc gcc (GCC) 14.2.1 20250110 (Red Hat 14.2.1-8) Fedora Linux 42 Kernel: 5.15 Compiler: clang gcc (GCC) 15.2.1 20250808 (Red Hat 15.2.1-1) Red Hat Enterprise Linux 8.10 Kernel: 5.15 Compiler: gcc gcc (GCC) 8.5.0 20210514 (Red Hat 8.5.0-22) Red Hat Enterprise Linux 9.5 Kernel: 5.15 Compiler: gcc gcc (GCC) 11.5.0 20240719 (Red Hat 11.5.0-2) Ubuntu 22.04 Kernel: 5.15 Compiler: gcc gcc (Ubuntu 11.4.0-1ubuntu1~22.04) 11.4.0 Ubuntu 24.04 Kernel: 5.15 Compiler: gcc gcc (Ubuntu 13.3.0-6ubuntu2~24.04) 13.3.0 Alpine Linux 3.22.0 Kernel: 5.15 Compiler: gcc gcc (Alpine 14.2.0) 14.2.0 openSUSE Leap 15.6 Kernel: 5.15 Compiler: gcc gcc (SUSE Linux) 7.5.0 Windows Server 2022 Kernel: 10.0.20348.2031 Compiler: clang 15.0.7, gcc 14.1.0 (MinGW), and MSVC VS 19.39.33521 To view detailed results, visit: https://lab.dpdk.org/results/dashboard/patchsets/34231/ UNH-IOL DPDK Community Lab To manage your email subscriptions, visit: https://lab.dpdk.org/results/dashboard/preferences/subscriptions/