From mboxrd@z Thu Jan 1 00:00:00 1970 Return-Path: Received: from mails.dpdk.org (mails.dpdk.org [217.70.189.124]) by inbox.dpdk.org (Postfix) with ESMTP id C17A0488E2 for ; Wed, 8 Oct 2025 12:19:05 +0200 (CEST) Received: from mails.dpdk.org (localhost [127.0.0.1]) by mails.dpdk.org (Postfix) with ESMTP id A523140297; Wed, 8 Oct 2025 12:19:05 +0200 (CEST) Received: from mail-qk1-f227.google.com (mail-qk1-f227.google.com [209.85.222.227]) by mails.dpdk.org (Postfix) with ESMTP id CD22640297 for ; Wed, 8 Oct 2025 12:19:03 +0200 (CEST) Received: by mail-qk1-f227.google.com with SMTP id af79cd13be357-8608f72582eso353643185a.2 for ; Wed, 08 Oct 2025 03:19:03 -0700 (PDT) DKIM-Signature: v=1; a=rsa-sha256; c=relaxed/relaxed; d=iol.unh.edu; s=unh-iol; t=1759918743; x=1760523543; darn=dpdk.org; h=cc:to:from:subject:message-id:date:from:to:cc:subject:date :message-id:reply-to; bh=LXVW7fTSBPaA0oaY7E6TOf/uFM2ewMiiHqbNlE23HEI=; b=Adr+QFkt4yzoLFWdZUR4lYmffk701Uom33y7aQ9cQoyroE5swzukyngyYdud3FVZCk KIYVy+BNJ2ycWepkeGa1By5h0ZymSJQGntAmctRsFbDqja1x5dl6N2REGtSJCqPwU1F9 /A/cSffFACpk17jYT4tTWKkV6TEZ3rDd264fo= X-Google-DKIM-Signature: v=1; a=rsa-sha256; c=relaxed/relaxed; d=1e100.net; s=20230601; t=1759918743; x=1760523543; h=cc:to:from:subject:message-id:date:x-gm-message-state:from:to:cc :subject:date:message-id:reply-to; bh=LXVW7fTSBPaA0oaY7E6TOf/uFM2ewMiiHqbNlE23HEI=; b=a+bXN5HanQxEPvk8sdQvfPpt12bKyIQA8J6tZtN7pI1vBDEkRCHTQqLqXzAmqDa8Y6 oyHxGZLkNegoqDQSXW6VzkpFrxTYmFwPycP4IO5hYcEQYCaXEahwn24GP26nMH+cAYFk qDnlMTYxbyW0rTFBlnfHx7PbuH/rwsbASIhT6XzSWLccKdjp8ofi6GbMh1N9qRgCd7Lv lTKxyYls+MPPIrdt4s7u5lkqVDR82RqR07GnM1dM+/S70ejCBy9cZ9V/1iR1hol01S/t RirzHdcXjVaTIEaVRQ7QkSBrK81qygPyjVkNhXLZiKi7mGarjWmxVT7aQ/5x1Z88tC14 mb/g== X-Gm-Message-State: AOJu0YwkfJLTdBPRIhsbpJm/BYWDxZ+36aS2DOSvu9VZP8IvoUQOQAen Tfa/aW/YKLaJW0uIXxKq5rHJ0XsrrHceD6AEPbAJSkSe8/6Ca/ND34esuNb1zoc2hxWy55QSAmB 2rXRytRbvKUgThFHq/R5ESzmico6NbVkeO/uU X-Gm-Gg: ASbGncvk3lKWYhRdMjVDuUVXYn7mbBtUrFlTz+DEef6bNOQIp+ObiTiGS7MEKpo+0+o zEQx1GAZmcAU56qgriqZuyy/dZpqXCAdJZ6gBx8npdj+PEeBAEh8uDNAFiM3rqsZ6EJ6QDtDsLr eCUS5s95cM1KxRYBJKWww+fuPYEmyH51bmsqW8IY5tFe2Z7xbtJkZVclqPGiiroKsx4VMAwAaor YL71ZUyqDK8vXNA5eFm8Mvbusa8cpua3xQ8mnaUuSO3TU1elMeVlHBLy7hWXQyoTaTOsSRYQ8Kf nMfBgdb+7A3+MNUzvw9TeGJFEh7oGOItvfrDN/ZaXUsiksHKMq52X6WUPtcO785U2SimoUpl4b7 5cA== X-Google-Smtp-Source: AGHT+IH8MwOW4NclNiq6U3jKMvCb+DZTvjLqzx5rhJzIzrp4AjIGKghtFQMlDH72v4JUld6kQgQ+io9y8bf4 X-Received: by 2002:ad4:576d:0:b0:7f7:ee24:9048 with SMTP id 6a1803df08f44-87b2101eb37mr37897146d6.16.1759918743139; Wed, 08 Oct 2025 03:19:03 -0700 (PDT) Received: from postal.iol.unh.edu (postal.iol.unh.edu. [132.177.123.84]) by smtp-relay.gmail.com with ESMTPS id 6a1803df08f44-878bda7380csm15298506d6.22.2025.10.08.03.19.03 (version=TLS1_2 cipher=ECDHE-ECDSA-AES128-GCM-SHA256 bits=128/128); Wed, 08 Oct 2025 03:19:03 -0700 (PDT) X-Relaying-Domain: iol.unh.edu Date: Wed, 08 Oct 2025 03:19:03 -0700 (PDT) Message-ID: <68e63a97.050a0220.3d7593.2cf0SMTPIN_ADDED_MISSING@mx.google.com> Received: from [172.21.0.3] (unknown [172.18.0.240]) by postal.iol.unh.edu (Postfix) with ESMTP id D680E6051830; Wed, 8 Oct 2025 06:19:02 -0400 (EDT) Subject: |SUCCESS| [GIT MASTER] b287e404643aeab5bb5db084c142789df187844e From: dpdklab@iol.unh.edu To: Test Report Cc: dpdk-test-reports@iol.unh.edu, Xueming Li , Christian Ehrhardt , Kevin Traynor , Luca Boccassi Content-Type: text/plain X-BeenThere: test-report@dpdk.org X-Mailman-Version: 2.1.29 Precedence: list List-Id: automatic DPDK test reports List-Unsubscribe: , List-Archive: List-Post: List-Help: List-Subscribe: , Errors-To: test-report-bounces@dpdk.org _Testing PASS_ Branch: tags/v24.11 b287e404643aeab5bb5db084c142789df187844e --> testing pass Upstream job id: Generic-Unit-Test-DPDK#379431 Test environment and result as below: +-------------------------------+----------------+ | Environment | dpdk_unit_test | +===============================+================+ | CentOS Stream 9 | PASS | +-------------------------------+----------------+ | CentOS Stream 10 | PASS | +-------------------------------+----------------+ | Fedora Linux 41 | PASS | +-------------------------------+----------------+ | Fedora Linux 40 | PASS | +-------------------------------+----------------+ | Debian GNU/Linux 12 | PASS | +-------------------------------+----------------+ | Fedora Linux 42 | PASS | +-------------------------------+----------------+ | Ubuntu 20.04 | PASS | +-------------------------------+----------------+ | Red Hat Enterprise Linux 9.5 | PASS | +-------------------------------+----------------+ | Red Hat Enterprise Linux 8.10 | PASS | +-------------------------------+----------------+ | Ubuntu 22.04 | PASS | +-------------------------------+----------------+ | Ubuntu 24.04 | PASS | +-------------------------------+----------------+ | Windows Server 2022 | PASS | +-------------------------------+----------------+ CentOS Stream 9 Kernel: 5.15 Compiler: gcc gcc (GCC) 11.5.0 20240719 (Red Hat 11.5.0-11) CentOS Stream 10 Kernel: 5.15 Compiler: gcc gcc (GCC) 14.2.1 20250110 (Red Hat 14.2.1-8) Fedora Linux 41 Kernel: 5.15 Compiler: gcc gcc (GCC) 14.3.1 20250523 (Red Hat 14.3.1-1) Fedora Linux 40 Kernel: 5.15 Compiler: gcc gcc (GCC) 14.2.1 20240912 (Red Hat 14.2.1-3) Debian GNU/Linux 12 Kernel: 5.15 Compiler: gcc gcc (Debian 12.2.0-14+deb12u1) 12.2.0 Fedora Linux 42 Kernel: 5.15 Compiler: clang gcc (GCC) 15.2.1 20250808 (Red Hat 15.2.1-1) Ubuntu 20.04 Kernel: 5.15 Compiler: gcc gcc (Ubuntu 9.4.0-1ubuntu1~20.04.2) 9.4.0 Red Hat Enterprise Linux 9.5 Kernel: 5.15 Compiler: gcc gcc (GCC) 11.5.0 20240719 (Red Hat 11.5.0-2) Red Hat Enterprise Linux 8.10 Kernel: 5.15 Compiler: gcc gcc (GCC) 8.5.0 20210514 (Red Hat 8.5.0-22) Ubuntu 22.04 Kernel: 5.15 Compiler: gcc gcc (Ubuntu 11.4.0-1ubuntu1~22.04) 11.4.0 Ubuntu 24.04 Kernel: 5.15 Compiler: gcc gcc (Ubuntu 13.3.0-6ubuntu2~24.04) 13.3.0 Windows Server 2022 Kernel: 10.0.20348.2031 Compiler: clang 15.0.7, gcc 14.1.0 (MinGW), and MSVC VS 19.39.33521 To view detailed results, visit: https://lab.dpdk.org/results/dashboard/tarballs/35138/ UNH-IOL DPDK Community Lab To manage your email subscriptions, visit: https://lab.dpdk.org/results/dashboard/preferences/subscriptions/